BEGIN:VCALENDAR
VERSION:2.0
PRODID:-//Moutere Hills Community Centre - ECPv6.15.19//NONSGML v1.0//EN
CALSCALE:GREGORIAN
METHOD:PUBLISH
X-ORIGINAL-URL:https://www.mouterehills.org.nz
X-WR-CALDESC:Events for Moutere Hills Community Centre
REFRESH-INTERVAL;VALUE=DURATION:PT1H
X-Robots-Tag:noindex
X-PUBLISHED-TTL:PT1H
BEGIN:VTIMEZONE
TZID:Pacific/Auckland
BEGIN:STANDARD
TZOFFSETFROM:+1300
TZOFFSETTO:+1200
TZNAME:NZST
DTSTART:20250405T140000
END:STANDARD
BEGIN:DAYLIGHT
TZOFFSETFROM:+1200
TZOFFSETTO:+1300
TZNAME:NZDT
DTSTART:20250927T140000
END:DAYLIGHT
BEGIN:STANDARD
TZOFFSETFROM:+1300
TZOFFSETTO:+1200
TZNAME:NZST
DTSTART:20260404T140000
END:STANDARD
BEGIN:DAYLIGHT
TZOFFSETFROM:+1200
TZOFFSETTO:+1300
TZNAME:NZDT
DTSTART:20260926T140000
END:DAYLIGHT
BEGIN:STANDARD
TZOFFSETFROM:+1300
TZOFFSETTO:+1200
TZNAME:NZST
DTSTART:20270403T140000
END:STANDARD
BEGIN:DAYLIGHT
TZOFFSETFROM:+1200
TZOFFSETTO:+1300
TZNAME:NZDT
DTSTART:20270925T140000
END:DAYLIGHT
END:VTIMEZONE
BEGIN:VEVENT
DTSTART;TZID=Pacific/Auckland:20260428T103000
DTEND;TZID=Pacific/Auckland:20260428T123000
DTSTAMP:20260423T034825
CREATED:20260318T190813Z
LAST-MODIFIED:20260318T190813Z
UID:10034360-1777372200-1777379400@www.mouterehills.org.nz
SUMMARY:Pickleball
DESCRIPTION:Cost $3 per person – for all ages and abilities
URL:https://www.mouterehills.org.nz/event/pickleball-3-2-2/2026-04-28/
LOCATION:Sports Hall
CATEGORIES:Exercise Class
END:VEVENT
BEGIN:VEVENT
DTSTART;TZID=Pacific/Auckland:20260428T153000
DTEND;TZID=Pacific/Auckland:20260428T173000
DTSTAMP:20260423T034825
CREATED:20260104T222701Z
LAST-MODIFIED:20260406T211833Z
UID:10033726-1777390200-1777397400@www.mouterehills.org.nz
SUMMARY:Aerial Silks - Tuesday
DESCRIPTION:Contact Ilka for more info\n\n\n\nlka Ph: 022 085 5970                      
URL:https://www.mouterehills.org.nz/event/aerial-silks-tuesday/2026-04-28/
LOCATION:Sports Hall
CATEGORIES:Community Recreation
END:VEVENT
BEGIN:VEVENT
DTSTART;TZID=Pacific/Auckland:20260428T173000
DTEND;TZID=Pacific/Auckland:20260428T200000
DTSTAMP:20260423T034825
CREATED:20260106T221736Z
LAST-MODIFIED:20260106T221736Z
UID:10034134-1777397400-1777406400@www.mouterehills.org.nz
SUMMARY:Ballroom/Latin Dance - Tuesday
DESCRIPTION:
URL:https://www.mouterehills.org.nz/event/ballroom-latin-dance-tuesday/2026-04-28/
LOCATION:Sports Hall
CATEGORIES:Community Recreation
END:VEVENT
BEGIN:VEVENT
DTSTART;TZID=Pacific/Auckland:20260429T084500
DTEND;TZID=Pacific/Auckland:20260429T094500
DTSTAMP:20260423T034825
CREATED:20260407T075525Z
LAST-MODIFIED:20260407T075526Z
UID:10034400-1777452300-1777455900@www.mouterehills.org.nz
SUMMARY:Powerhooping
DESCRIPTION:
URL:https://www.mouterehills.org.nz/event/powerhooping-4-2/2026-04-29/
LOCATION:Sports Hall
CATEGORIES:Exercise Class
END:VEVENT
BEGIN:VEVENT
DTSTART;TZID=Pacific/Auckland:20260504T191500
DTEND;TZID=Pacific/Auckland:20260504T203000
DTSTAMP:20260423T034825
CREATED:20260407T014715Z
LAST-MODIFIED:20260407T014715Z
UID:10035007-1777922100-1777926600@www.mouterehills.org.nz
SUMMARY:Social Netball
DESCRIPTION:
URL:https://www.mouterehills.org.nz/event/social-netball-3/
LOCATION:Sports Hall
CATEGORIES:Social Sport
END:VEVENT
END:VCALENDAR