BEGIN:VCALENDAR
VERSION:2.0
PRODID:-//Moutere Hills Community Centre - ECPv6.15.19//NONSGML v1.0//EN
CALSCALE:GREGORIAN
METHOD:PUBLISH
X-ORIGINAL-URL:https://www.mouterehills.org.nz
X-WR-CALDESC:Events for Moutere Hills Community Centre
REFRESH-INTERVAL;VALUE=DURATION:PT1H
X-Robots-Tag:noindex
X-PUBLISHED-TTL:PT1H
BEGIN:VTIMEZONE
TZID:Pacific/Auckland
BEGIN:STANDARD
TZOFFSETFROM:+1300
TZOFFSETTO:+1200
TZNAME:NZST
DTSTART:20240406T140000
END:STANDARD
BEGIN:DAYLIGHT
TZOFFSETFROM:+1200
TZOFFSETTO:+1300
TZNAME:NZDT
DTSTART:20240928T140000
END:DAYLIGHT
BEGIN:STANDARD
TZOFFSETFROM:+1300
TZOFFSETTO:+1200
TZNAME:NZST
DTSTART:20250405T140000
END:STANDARD
BEGIN:DAYLIGHT
TZOFFSETFROM:+1200
TZOFFSETTO:+1300
TZNAME:NZDT
DTSTART:20250927T140000
END:DAYLIGHT
BEGIN:STANDARD
TZOFFSETFROM:+1300
TZOFFSETTO:+1200
TZNAME:NZST
DTSTART:20260404T140000
END:STANDARD
BEGIN:DAYLIGHT
TZOFFSETFROM:+1200
TZOFFSETTO:+1300
TZNAME:NZDT
DTSTART:20260926T140000
END:DAYLIGHT
BEGIN:STANDARD
TZOFFSETFROM:+1300
TZOFFSETTO:+1200
TZNAME:NZST
DTSTART:20270403T140000
END:STANDARD
BEGIN:DAYLIGHT
TZOFFSETFROM:+1200
TZOFFSETTO:+1300
TZNAME:NZDT
DTSTART:20270925T140000
END:DAYLIGHT
END:VTIMEZONE
BEGIN:VEVENT
DTSTART;TZID=Pacific/Auckland:20260422T084500
DTEND;TZID=Pacific/Auckland:20260422T094500
DTSTAMP:20260423T052759
CREATED:20260407T075525Z
LAST-MODIFIED:20260407T075526Z
UID:10035011-1776847500-1776851100@www.mouterehills.org.nz
SUMMARY:Powerhooping
DESCRIPTION:
URL:https://www.mouterehills.org.nz/event/powerhooping-4-2/2026-04-22/
LOCATION:Sports Hall
CATEGORIES:Exercise Class
END:VEVENT
BEGIN:VEVENT
DTSTART;TZID=Pacific/Auckland:20260421T173000
DTEND;TZID=Pacific/Auckland:20260421T200000
DTSTAMP:20260423T052759
CREATED:20260106T221736Z
LAST-MODIFIED:20260106T221736Z
UID:10034133-1776792600-1776801600@www.mouterehills.org.nz
SUMMARY:Ballroom/Latin Dance - Tuesday
DESCRIPTION:
URL:https://www.mouterehills.org.nz/event/ballroom-latin-dance-tuesday/2026-04-21/
LOCATION:Sports Hall
CATEGORIES:Community Recreation
END:VEVENT
BEGIN:VEVENT
DTSTART;TZID=Pacific/Auckland:20260421T153000
DTEND;TZID=Pacific/Auckland:20260421T173000
DTSTAMP:20260423T052759
CREATED:20260104T222701Z
LAST-MODIFIED:20260406T211833Z
UID:10033725-1776785400-1776792600@www.mouterehills.org.nz
SUMMARY:Aerial Silks - Tuesday
DESCRIPTION:Contact Ilka for more info\n\n\n\nlka Ph: 022 085 5970                      
URL:https://www.mouterehills.org.nz/event/aerial-silks-tuesday/2026-04-21/
LOCATION:Sports Hall
CATEGORIES:Community Recreation
END:VEVENT
BEGIN:VEVENT
DTSTART;TZID=Pacific/Auckland:20260421T103000
DTEND;TZID=Pacific/Auckland:20260421T123000
DTSTAMP:20260423T052759
CREATED:20260318T190813Z
LAST-MODIFIED:20260318T190813Z
UID:10034359-1776767400-1776774600@www.mouterehills.org.nz
SUMMARY:Pickleball
DESCRIPTION:Cost $3 per person – for all ages and abilities
URL:https://www.mouterehills.org.nz/event/pickleball-3-2-2/2026-04-21/
LOCATION:Sports Hall
CATEGORIES:Exercise Class
END:VEVENT
BEGIN:VEVENT
DTSTART;TZID=Pacific/Auckland:20260421T093000
DTEND;TZID=Pacific/Auckland:20260421T101500
DTSTAMP:20260423T052759
CREATED:20260318T202715Z
LAST-MODIFIED:20260318T202715Z
UID:10034829-1776763800-1776766500@www.mouterehills.org.nz
SUMMARY:Stretch & Flex with Bex
DESCRIPTION:Cost: $12 casual\, $80 for 10 class concession or free for Fitness Centre Members 
URL:https://www.mouterehills.org.nz/event/stretch-flex-with-bex/2026-04-21/
LOCATION:Sports Hall
CATEGORIES:Exercise Class
END:VEVENT
BEGIN:VEVENT
DTSTART;TZID=Pacific/Auckland:20260421T083000
DTEND;TZID=Pacific/Auckland:20260421T091500
DTSTAMP:20260423T052759
CREATED:20260318T202523Z
LAST-MODIFIED:20260318T202807Z
UID:10034792-1776760200-1776762900@www.mouterehills.org.nz
SUMMARY:Pilates with Bex
DESCRIPTION:uses small equipment \nCost: $12 casual\, $80 for 10 class concession or free for Fitness Centre Members 
URL:https://www.mouterehills.org.nz/event/pilates-with-bex/2026-04-21/
LOCATION:Sports Hall
CATEGORIES:Exercise Class
END:VEVENT
BEGIN:VEVENT
DTSTART;TZID=Pacific/Auckland:20260420T153000
DTEND;TZID=Pacific/Auckland:20260420T181500
DTSTAMP:20260423T052759
CREATED:20260318T203052Z
LAST-MODIFIED:20260407T013850Z
UID:10034908-1776699000-1776708900@www.mouterehills.org.nz
SUMMARY:Creative Barefoot & Ballet Classes
DESCRIPTION:
URL:https://www.mouterehills.org.nz/event/creative-barefoot-ballet-classes/2026-04-20/
LOCATION:Sports Hall
CATEGORIES:Community Recreation
END:VEVENT
BEGIN:VEVENT
DTSTART;TZID=Pacific/Auckland:20260420T133000
DTEND;TZID=Pacific/Auckland:20260420T151500
DTSTAMP:20260423T052759
CREATED:20260318T190227Z
LAST-MODIFIED:20260318T190227Z
UID:10034711-1776691800-1776698100@www.mouterehills.org.nz
SUMMARY:Kids Ballroom/Latin Dance - Monday
DESCRIPTION:Classes For 6 to 9 year olds  1:30 to 2:30pm \nPrivate lessons till 3:15pm
URL:https://www.mouterehills.org.nz/event/kids-ballroom-latin-dance-monday-2/2026-04-20/
LOCATION:Sports Hall
CATEGORIES:Community Recreation
END:VEVENT
BEGIN:VEVENT
DTSTART;TZID=Pacific/Auckland:20260420T100000
DTEND;TZID=Pacific/Auckland:20260420T130000
DTSTAMP:20260423T052759
CREATED:20260318T184933Z
LAST-MODIFIED:20260406T211449Z
UID:10034483-1776679200-1776690000@www.mouterehills.org.nz
SUMMARY:Playgroup
DESCRIPTION:Join us for a friendly\, relaxed morning where tamariki can play and explore while caregivers connect over a cuppa \n\n\n Monday & Friday | 10am–1pm\n Moutere Hills Community Centre\n Ages 0–6\nFree entry\n if you’re able\, please bring something small to share for morning kai\n\n\nWe look forward to seeing you there!\n\n\nContact Kaitlin or Anna\, email moutereplaygroup@gmail.com\n\, or follow our Facebook page for updates.
URL:https://www.mouterehills.org.nz/event/playgroup-4/2026-04-20/
LOCATION:Sports Hall
CATEGORIES:Community Recreation
END:VEVENT
BEGIN:VEVENT
DTSTART;TZID=Pacific/Auckland:20260420T060000
DTEND;TZID=Pacific/Auckland:20260420T184500
DTSTAMP:20260423T052759
CREATED:20260104T215730Z
LAST-MODIFIED:20260104T215730Z
UID:10033368-1776664800-1776710700@www.mouterehills.org.nz
SUMMARY:Strength & Fitness Circuit - Mondays
DESCRIPTION:
URL:https://www.mouterehills.org.nz/event/strength-fitness-circuit-mondays/2026-04-20/
LOCATION:Sports Hall
CATEGORIES:Exercise Class
END:VEVENT
BEGIN:VEVENT
DTSTART;TZID=Pacific/Auckland:20260419T160000
DTEND;TZID=Pacific/Auckland:20260419T180000
DTSTAMP:20260423T052759
CREATED:20250731T020646Z
LAST-MODIFIED:20250731T020646Z
UID:10032592-1776614400-1776621600@www.mouterehills.org.nz
SUMMARY:Private Ballroom Lessons
DESCRIPTION:
URL:https://www.mouterehills.org.nz/event/private-ballroom-lessons/2026-04-19/
LOCATION:Sports Hall
CATEGORIES:Event
END:VEVENT
BEGIN:VEVENT
DTSTART;TZID=Pacific/Auckland:20260418T080000
DTEND;TZID=Pacific/Auckland:20260418T084500
DTSTAMP:20260423T052759
CREATED:20260318T184246Z
LAST-MODIFIED:20260318T184424Z
UID:10034438-1776499200-1776501900@www.mouterehills.org.nz
SUMMARY:Strength & Fitness - Saturday
DESCRIPTION:A circuit class designed to build strength & Fitness \nAll abilities welcome
URL:https://www.mouterehills.org.nz/event/strength-fitness-saturday/2026-04-18/
LOCATION:Sports Hall
CATEGORIES:Exercise Class
END:VEVENT
BEGIN:VEVENT
DTSTART;TZID=Pacific/Auckland:20260403T151500
DTEND;TZID=Pacific/Auckland:20260403T171500
DTSTAMP:20260423T052759
CREATED:20260401T211328Z
LAST-MODIFIED:20260401T211328Z
UID:10034595-1775229300-1775236500@www.mouterehills.org.nz
SUMMARY:Indoor Bowls
DESCRIPTION:We welcome anyone from 8yrs old and all abilities. \nAll gear provided\, just wear soft flat soled shoes.
URL:https://www.mouterehills.org.nz/event/indoor-bowls-3-2/
LOCATION:Sports Hall
CATEGORIES:Exercise Class
END:VEVENT
BEGIN:VEVENT
DTSTART;TZID=Pacific/Auckland:20260402T153000
DTEND;TZID=Pacific/Auckland:20260402T183000
DTSTAMP:20260423T052759
CREATED:20260104T223015Z
LAST-MODIFIED:20260406T211925Z
UID:10033768-1775143800-1775154600@www.mouterehills.org.nz
SUMMARY:Aerial Silks - Thursday
DESCRIPTION:Tasman Aerial Silks   \nIlka 022 085 5970                                    
URL:https://www.mouterehills.org.nz/event/aerial-silks-thursday/2026-04-02/
LOCATION:Sports Hall
CATEGORIES:Community Recreation
END:VEVENT
BEGIN:VEVENT
DTSTART;TZID=Pacific/Auckland:20251218T153000
DTEND;TZID=Pacific/Auckland:20251218T173000
DTSTAMP:20260423T052759
CREATED:20250506T204506Z
LAST-MODIFIED:20250506T204630Z
UID:10031832-1766071800-1766079000@www.mouterehills.org.nz
SUMMARY:Aerial Silks (2)
DESCRIPTION:Class times as follows: \n3:30pm – 4:30pm Children’s class\n4:30pm – 5:30pm Teens and Adults\nContact Ilka for more information – 022 085 5970 or email: tasman silks@gmail.com
URL:https://www.mouterehills.org.nz/event/aerial-silks-2/2025-12-18/
LOCATION:Sports Hall
CATEGORIES:Exercise Class
END:VEVENT
BEGIN:VEVENT
DTSTART;TZID=Pacific/Auckland:20251215T060000
DTEND;TZID=Pacific/Auckland:20251215T064500
DTSTAMP:20260423T052759
CREATED:20251007T202942Z
LAST-MODIFIED:20251007T202942Z
UID:10033191-1765778400-1765781100@www.mouterehills.org.nz
SUMMARY:Strength & Fitness Circuit
DESCRIPTION:Circuit class designed to build strength\, fitness & \ncardio \n 
URL:https://www.mouterehills.org.nz/event/strength-fitness-circuit-3/2025-12-15/
LOCATION:Sports Hall
CATEGORIES:Exercise Class
END:VEVENT
BEGIN:VEVENT
DTSTART;TZID=Pacific/Auckland:20250914T113000
DTEND;TZID=Pacific/Auckland:20250914T143000
DTSTAMP:20260423T052759
CREATED:20250826T231016Z
LAST-MODIFIED:20250826T231016Z
UID:10033037-1757849400-1757860200@www.mouterehills.org.nz
SUMMARY:Birthday party - Private
DESCRIPTION:
URL:https://www.mouterehills.org.nz/event/birthday-party-private/
LOCATION:Sports Hall
CATEGORIES:Event
END:VEVENT
BEGIN:VEVENT
DTSTART;TZID=Pacific/Auckland:20250912T183000
DTEND;TZID=Pacific/Auckland:20250912T203000
DTSTAMP:20260423T052759
CREATED:20250731T021017Z
LAST-MODIFIED:20250731T021017Z
UID:10032616-1757701800-1757709000@www.mouterehills.org.nz
SUMMARY:Beck's Bootcamp
DESCRIPTION:
URL:https://www.mouterehills.org.nz/event/becks-bootcamp/
LOCATION:Sports Hall
CATEGORIES:Event
END:VEVENT
BEGIN:VEVENT
DTSTART;TZID=Pacific/Auckland:20250808T183000
DTEND;TZID=Pacific/Auckland:20250808T203000
DTSTAMP:20260423T052759
CREATED:20250731T021323Z
LAST-MODIFIED:20250731T021323Z
UID:10032619-1754677800-1754685000@www.mouterehills.org.nz
SUMMARY:Becks bootcamp
DESCRIPTION:
URL:https://www.mouterehills.org.nz/event/becks-bootcamp-2/
LOCATION:Sports Hall
CATEGORIES:Event
END:VEVENT
BEGIN:VEVENT
DTSTART;TZID=Pacific/Auckland:20250731T080000
DTEND;TZID=Pacific/Auckland:20250731T170000
DTSTAMP:20260423T052759
CREATED:20250731T022020Z
LAST-MODIFIED:20250826T224149Z
UID:10033033-1753948800-1753981200@www.mouterehills.org.nz
SUMMARY:Moutere Cluster Sports day
DESCRIPTION:Tennis courts
URL:https://www.mouterehills.org.nz/event/moutere-cluster-sports-day/2025-07-31/1/
LOCATION:Sports Hall
CATEGORIES:Event
END:VEVENT
BEGIN:VEVENT
DTSTART;TZID=Pacific/Auckland:20250613T133000
DTEND;TZID=Pacific/Auckland:20250613T153000
DTSTAMP:20260423T052759
CREATED:20250529T010923Z
LAST-MODIFIED:20250529T010923Z
UID:10031959-1749821400-1749828600@www.mouterehills.org.nz
SUMMARY:Homeschool Basketball
DESCRIPTION:
URL:https://www.mouterehills.org.nz/event/homeschool-basketball/
LOCATION:Sports Hall
CATEGORIES:Event
END:VEVENT
BEGIN:VEVENT
DTSTART;TZID=Pacific/Auckland:20250608T173000
DTEND;TZID=Pacific/Auckland:20250608T183000
DTSTAMP:20260423T052759
CREATED:20250529T010700Z
LAST-MODIFIED:20250529T010700Z
UID:10031957-1749403800-1749407400@www.mouterehills.org.nz
SUMMARY:Mahana School Basketball practice
DESCRIPTION:
URL:https://www.mouterehills.org.nz/event/mahana-school-basketball-practice/
LOCATION:Sports Hall
CATEGORIES:Event
END:VEVENT
END:VCALENDAR