BEGIN:VCALENDAR
VERSION:2.0
PRODID:-//Moutere Hills Community Centre - ECPv6.15.19//NONSGML v1.0//EN
CALSCALE:GREGORIAN
METHOD:PUBLISH
X-WR-CALNAME:Moutere Hills Community Centre
X-ORIGINAL-URL:https://www.mouterehills.org.nz
X-WR-CALDESC:Events for Moutere Hills Community Centre
REFRESH-INTERVAL;VALUE=DURATION:PT1H
X-Robots-Tag:noindex
X-PUBLISHED-TTL:PT1H
BEGIN:VTIMEZONE
TZID:Pacific/Auckland
BEGIN:STANDARD
TZOFFSETFROM:+1300
TZOFFSETTO:+1200
TZNAME:NZST
DTSTART:20250405T140000
END:STANDARD
BEGIN:DAYLIGHT
TZOFFSETFROM:+1200
TZOFFSETTO:+1300
TZNAME:NZDT
DTSTART:20250927T140000
END:DAYLIGHT
BEGIN:STANDARD
TZOFFSETFROM:+1300
TZOFFSETTO:+1200
TZNAME:NZST
DTSTART:20260404T140000
END:STANDARD
BEGIN:DAYLIGHT
TZOFFSETFROM:+1200
TZOFFSETTO:+1300
TZNAME:NZDT
DTSTART:20260926T140000
END:DAYLIGHT
BEGIN:STANDARD
TZOFFSETFROM:+1300
TZOFFSETTO:+1200
TZNAME:NZST
DTSTART:20270403T140000
END:STANDARD
BEGIN:DAYLIGHT
TZOFFSETFROM:+1200
TZOFFSETTO:+1300
TZNAME:NZDT
DTSTART:20270925T140000
END:DAYLIGHT
END:VTIMEZONE
BEGIN:VEVENT
DTSTART;TZID=Pacific/Auckland:20260323T060000
DTEND;TZID=Pacific/Auckland:20260323T184500
DTSTAMP:20260423T215415
CREATED:20260104T215730Z
LAST-MODIFIED:20260104T215730Z
UID:10033364-1774245600-1774291500@www.mouterehills.org.nz
SUMMARY:Strength & Fitness Circuit - Mondays
DESCRIPTION:
URL:https://www.mouterehills.org.nz/event/strength-fitness-circuit-mondays/2026-03-23/
LOCATION:Sports Hall
CATEGORIES:Exercise Class
END:VEVENT
BEGIN:VEVENT
DTSTART;TZID=Pacific/Auckland:20260323T090000
DTEND;TZID=Pacific/Auckland:20260323T094500
DTSTAMP:20260423T215415
CREATED:20250128T195500Z
LAST-MODIFIED:20250410T025234Z
UID:10025280-1774256400-1774259100@www.mouterehills.org.nz
SUMMARY:Re-Activate
DESCRIPTION:A social workout\, designed to improve overall mobility and fitness through a functional fitness approach. This class is suitable for those just getting back into exercise\, those with a lower level of fitness or those who simply want to enjoy social interaction. All exercises can be tailored to suit individual needs and will be set to a level in which individuals determine their own exercise intensity. $12 per person or free for Fitness Centre members. Concession cards also available\, $80 for 10 classes. \nBookings are essential.
URL:https://www.mouterehills.org.nz/event/re-activate-3/2026-03-23/
LOCATION:Moutere Hills Community Centre
CATEGORIES:Exercise Class
END:VEVENT
BEGIN:VEVENT
DTSTART;TZID=Pacific/Auckland:20260323T100000
DTEND;TZID=Pacific/Auckland:20260323T130000
DTSTAMP:20260423T215415
CREATED:20260318T184933Z
LAST-MODIFIED:20260406T211449Z
UID:10034475-1774260000-1774270800@www.mouterehills.org.nz
SUMMARY:Playgroup
DESCRIPTION:Join us for a friendly\, relaxed morning where tamariki can play and explore while caregivers connect over a cuppa \n\n\n Monday & Friday | 10am–1pm\n Moutere Hills Community Centre\n Ages 0–6\nFree entry\n if you’re able\, please bring something small to share for morning kai\n\n\nWe look forward to seeing you there!\n\n\nContact Kaitlin or Anna\, email moutereplaygroup@gmail.com\n\, or follow our Facebook page for updates.
URL:https://www.mouterehills.org.nz/event/playgroup-4/2026-03-23/
LOCATION:Sports Hall
CATEGORIES:Community Recreation
END:VEVENT
BEGIN:VEVENT
DTSTART;TZID=Pacific/Auckland:20260323T103000
DTEND;TZID=Pacific/Auckland:20260323T113000
DTSTAMP:20260423T215415
CREATED:20260318T185915Z
LAST-MODIFIED:20260318T185916Z
UID:10034633-1774261800-1774265400@www.mouterehills.org.nz
SUMMARY:Sit & Be Fit
DESCRIPTION:A chair based exercise class designed to improve mobility and build strength. \nAfter the session enjoy a relaxing cup of tea\, a friendly catch-up with others\, and once a month an inspiring guest speaker to support you stay active and able! \nCost $5 per session \nor free for Fitness Centre members.
URL:https://www.mouterehills.org.nz/event/sit-be-fit-2-2-2-2/2026-03-23/
LOCATION:Moutere Hills Community Centre
CATEGORIES:Exercise Class
END:VEVENT
BEGIN:VEVENT
DTSTART;TZID=Pacific/Auckland:20260323T133000
DTEND;TZID=Pacific/Auckland:20260323T151500
DTSTAMP:20260423T215415
CREATED:20260318T190227Z
LAST-MODIFIED:20260318T190227Z
UID:10033412-1774272600-1774278900@www.mouterehills.org.nz
SUMMARY:Kids Ballroom/Latin Dance - Monday
DESCRIPTION:Classes For 6 to 9 year olds  1:30 to 2:30pm \nPrivate lessons till 3:15pm
URL:https://www.mouterehills.org.nz/event/kids-ballroom-latin-dance-monday-2/2026-03-23/
LOCATION:Sports Hall
CATEGORIES:Community Recreation
END:VEVENT
BEGIN:VEVENT
DTSTART;TZID=Pacific/Auckland:20260323T153000
DTEND;TZID=Pacific/Auckland:20260323T181500
DTSTAMP:20260423T215415
CREATED:20260318T203052Z
LAST-MODIFIED:20260407T013850Z
UID:10034904-1774279800-1774289700@www.mouterehills.org.nz
SUMMARY:Creative Barefoot & Ballet Classes
DESCRIPTION:
URL:https://www.mouterehills.org.nz/event/creative-barefoot-ballet-classes/2026-03-23/
LOCATION:Sports Hall
CATEGORIES:Community Recreation
END:VEVENT
BEGIN:VEVENT
DTSTART;TZID=Pacific/Auckland:20260323T170000
DTEND;TZID=Pacific/Auckland:20260323T174500
DTSTAMP:20260423T215415
CREATED:20250410T072823Z
LAST-MODIFIED:20250410T072823Z
UID:10030361-1774285200-1774287900@www.mouterehills.org.nz
SUMMARY:Pilates
DESCRIPTION:Join Kris in our new Pilates class.  Pilates is a low-impact workout which is great for strenthening your muscles though controlled\, repetitive movements\, building muscular endurance and stability. \n$12 casual\, $80 for a 10 class concession card or free for fitness centre members.
URL:https://www.mouterehills.org.nz/event/pilates-5/2026-03-23/
LOCATION:Moutere Hills Community Centre
CATEGORIES:Exercise Class
END:VEVENT
BEGIN:VEVENT
DTSTART;TZID=Pacific/Auckland:20260323T180000
DTEND;TZID=Pacific/Auckland:20260323T184500
DTSTAMP:20260423T215415
CREATED:20260106T214236Z
LAST-MODIFIED:20260106T214237Z
UID:10009225-1774288800-1774291500@www.mouterehills.org.nz
SUMMARY:Pilates
DESCRIPTION:Join Kris in our Pilates class.  Pilates is a low-impact workout which is great for strengthening your muscles though controlled\, repetitive movements\, building muscular endurance and stability.  This class will is not aimed at the beginner. \n$12 casual\, $80 for a 10 class concession card or free for fitness centre members.
URL:https://www.mouterehills.org.nz/event/pilates-3-2-2/2026-03-23/
LOCATION:Moutere Hills Community Centre
CATEGORIES:Exercise Class
END:VEVENT
BEGIN:VEVENT
DTSTART;TZID=Pacific/Auckland:20260323T184500
DTEND;TZID=Pacific/Auckland:20260323T200000
DTSTAMP:20260423T215415
CREATED:20260104T222315Z
LAST-MODIFIED:20260104T222315Z
UID:10033675-1774291500-1774296000@www.mouterehills.org.nz
SUMMARY:Social Netball
DESCRIPTION:
URL:https://www.mouterehills.org.nz/event/social-netball-2/2026-03-23/
LOCATION:Sports Hall
CATEGORIES:Social Sport
END:VEVENT
BEGIN:VEVENT
DTSTART;TZID=Pacific/Auckland:20260323T190000
DTEND;TZID=Pacific/Auckland:20260323T201500
DTSTAMP:20260423T215415
CREATED:20260106T212412Z
LAST-MODIFIED:20260106T212412Z
UID:10009488-1774292400-1774296900@www.mouterehills.org.nz
SUMMARY:Yoga with Kris
DESCRIPTION:Contact Kris on 0275252814 for more information or to book your spot.
URL:https://www.mouterehills.org.nz/event/dru-yoga-with-kris-2-3-2-2/2026-03-23/
LOCATION:Moutere Hills Community Centre
CATEGORIES:Community Recreation
END:VEVENT
BEGIN:VEVENT
DTSTART;TZID=Pacific/Auckland:20260324T053000
DTEND;TZID=Pacific/Auckland:20260324T063000
DTSTAMP:20260423T215415
CREATED:20260104T220342Z
LAST-MODIFIED:20260104T220558Z
UID:10033474-1774330200-1774333800@www.mouterehills.org.nz
SUMMARY:Energise Group Fitness
DESCRIPTION:Start the day by working out with a fun bunch of motivated people who like to work out for better health and wellbeing. \nBookings essential. Contact Cindus on 0273587233.
URL:https://www.mouterehills.org.nz/event/energise-group-fitness-2-2-2/2026-03-24/
LOCATION:Moutere Hills Community Centre
CATEGORIES:Exercise Class
ORGANIZER;CN="Cindus Colonna":MAILTO:energiseme19@gmail.com
END:VEVENT
BEGIN:VEVENT
DTSTART;TZID=Pacific/Auckland:20260324T090000
DTEND;TZID=Pacific/Auckland:20260324T103000
DTSTAMP:20260423T215415
CREATED:20240728T235311Z
LAST-MODIFIED:20240729T003110Z
UID:10014281-1774342800-1774348200@www.mouterehills.org.nz
SUMMARY:Tennis Coaching
DESCRIPTION:Group and individual lessons.  Contact Vanessa on 022 460 0320 for info.
URL:https://www.mouterehills.org.nz/event/tennis-coaching/2026-03-24/
LOCATION:Moutere Hills Community Centre
CATEGORIES:Social Sport
END:VEVENT
BEGIN:VEVENT
DTSTART;TZID=Pacific/Auckland:20260324T090000
DTEND;TZID=Pacific/Auckland:20260324T150000
DTSTAMP:20260423T215415
CREATED:20240418T235342Z
LAST-MODIFIED:20240418T235342Z
UID:10010014-1774342800-1774364400@www.mouterehills.org.nz
SUMMARY:Quirky Quilters
DESCRIPTION:Thursdays 10:00am-2:00pm. \nPlease contact the office on 03 5432516 for more details.
URL:https://www.mouterehills.org.nz/event/quirky-quilters-2-2-2/2026-03-24/
CATEGORIES:Community Recreation
END:VEVENT
BEGIN:VEVENT
DTSTART;TZID=Pacific/Auckland:20260324T093000
DTEND;TZID=Pacific/Auckland:20260324T101500
DTSTAMP:20260423T215415
CREATED:20250129T074446Z
LAST-MODIFIED:20260318T190636Z
UID:10026705-1774344600-1774347300@www.mouterehills.org.nz
SUMMARY:Stretch & Flex with Vicki
DESCRIPTION:Increase flexibility and mobility with slow moving range of motion stretching. Suitable for all ages and abilities. $12 per class or free for Fitness Centre members. Concession cards are also available ($80 for 10 classes). \nBookings essential. Visit the members portal to book.
URL:https://www.mouterehills.org.nz/event/stretch-flex-with-vicki-4/2026-03-24/
LOCATION:Moutere Hills Community Centre
CATEGORIES:Exercise Class
END:VEVENT
BEGIN:VEVENT
DTSTART;TZID=Pacific/Auckland:20260324T103000
DTEND;TZID=Pacific/Auckland:20260324T123000
DTSTAMP:20260423T215415
CREATED:20260318T190813Z
LAST-MODIFIED:20260318T190813Z
UID:10034355-1774348200-1774355400@www.mouterehills.org.nz
SUMMARY:Pickleball
DESCRIPTION:Cost $3 per person – for all ages and abilities
URL:https://www.mouterehills.org.nz/event/pickleball-3-2-2/2026-03-24/
LOCATION:Sports Hall
CATEGORIES:Exercise Class
END:VEVENT
BEGIN:VEVENT
DTSTART;TZID=Pacific/Auckland:20260324T153000
DTEND;TZID=Pacific/Auckland:20260324T173000
DTSTAMP:20260423T215415
CREATED:20260104T222701Z
LAST-MODIFIED:20260406T211833Z
UID:10033721-1774366200-1774373400@www.mouterehills.org.nz
SUMMARY:Aerial Silks - Tuesday
DESCRIPTION:Contact Ilka for more info\n\n\n\nlka Ph: 022 085 5970                      
URL:https://www.mouterehills.org.nz/event/aerial-silks-tuesday/2026-03-24/
LOCATION:Sports Hall
CATEGORIES:Community Recreation
END:VEVENT
BEGIN:VEVENT
DTSTART;TZID=Pacific/Auckland:20260324T173000
DTEND;TZID=Pacific/Auckland:20260324T200000
DTSTAMP:20260423T215415
CREATED:20260106T221736Z
LAST-MODIFIED:20260106T221736Z
UID:10034129-1774373400-1774382400@www.mouterehills.org.nz
SUMMARY:Ballroom/Latin Dance - Tuesday
DESCRIPTION:
URL:https://www.mouterehills.org.nz/event/ballroom-latin-dance-tuesday/2026-03-24/
LOCATION:Sports Hall
CATEGORIES:Community Recreation
END:VEVENT
BEGIN:VEVENT
DTSTART;TZID=Pacific/Auckland:20260324T180000
DTEND;TZID=Pacific/Auckland:20260324T190000
DTSTAMP:20260423T215415
CREATED:20260104T221132Z
LAST-MODIFIED:20260104T221132Z
UID:10033610-1774375200-1774378800@www.mouterehills.org.nz
SUMMARY:Social Touch
DESCRIPTION:Contact Mark 027 4229949
URL:https://www.mouterehills.org.nz/event/social-touch/2026-03-24/
LOCATION:Moutere Hills Community Centre
CATEGORIES:Social Sport
END:VEVENT
BEGIN:VEVENT
DTSTART;TZID=Pacific/Auckland:20260325T080000
DTEND;TZID=Pacific/Auckland:20260325T084500
DTSTAMP:20260423T215415
CREATED:20240419T010735Z
LAST-MODIFIED:20260106T214122Z
UID:10012076-1774425600-1774428300@www.mouterehills.org.nz
SUMMARY:Pilates
DESCRIPTION:Join Kris in our Pilates class.  Pilates is a low-impact workout which is great for strengthening your muscles though controlled\, repetitive movements\, building muscular endurance and stability. Suitable for Beginners.  $12 casual\, $80 for a 10 class concession card or free for fitness centre members.
URL:https://www.mouterehills.org.nz/event/pilates-4/2026-03-25/
LOCATION:Moutere Hills Community Centre
CATEGORIES:Exercise Class
END:VEVENT
BEGIN:VEVENT
DTSTART;TZID=Pacific/Auckland:20260325T084500
DTEND;TZID=Pacific/Auckland:20260325T094500
DTSTAMP:20260423T215415
CREATED:20260312T235445Z
LAST-MODIFIED:20260407T013946Z
UID:10034395-1774428300-1774431900@www.mouterehills.org.nz
SUMMARY:Powerhooping
DESCRIPTION:
URL:https://www.mouterehills.org.nz/event/powerhooping-4/2026-03-25/
LOCATION:Sports Hall
CATEGORIES:Exercise Class
END:VEVENT
BEGIN:VEVENT
DTSTART;TZID=Pacific/Auckland:20260325T090000
DTEND;TZID=Pacific/Auckland:20260325T214500
DTSTAMP:20260423T215415
CREATED:20240729T010107Z
LAST-MODIFIED:20250410T014347Z
UID:10015099-1774429200-1774475100@www.mouterehills.org.nz
SUMMARY:Pilates
DESCRIPTION:Join Kris in our new Pilates class.  Pilates is a low-impact workout which is great for strenthening your muscles though controlled\, repetitive movements\, building muscular endurance and stability. \n$12 casual\, $80 for a 10 class concession card or free for fitness centre members.
URL:https://www.mouterehills.org.nz/event/pilates-3-3/2026-03-25/
LOCATION:Moutere Hills Community Centre
CATEGORIES:Exercise Class
END:VEVENT
BEGIN:VEVENT
DTSTART;TZID=Pacific/Auckland:20260325T100000
DTEND;TZID=Pacific/Auckland:20260325T111500
DTSTAMP:20260423T215415
CREATED:20260106T212720Z
LAST-MODIFIED:20260106T212721Z
UID:10029861-1774432800-1774437300@www.mouterehills.org.nz
SUMMARY:Yoga with Kris
DESCRIPTION:Contact Kris on 0275252814 for more information or to book your spot.
URL:https://www.mouterehills.org.nz/event/yoga-with-kris-3/2026-03-25/
LOCATION:Moutere Hills Community Centre
CATEGORIES:Community Recreation
END:VEVENT
BEGIN:VEVENT
DTSTART;TZID=Pacific/Auckland:20260325T154500
DTEND;TZID=Pacific/Auckland:20260325T190000
DTSTAMP:20260423T215415
CREATED:20260105T054759Z
LAST-MODIFIED:20260406T211640Z
UID:10033808-1774453500-1774465200@www.mouterehills.org.nz
SUMMARY:Legacy Dance
DESCRIPTION:Classes from 3:45pm to 7:00pm \nContact Annie for more info \nemail: legacydancenz@gmail.com
URL:https://www.mouterehills.org.nz/event/legacy-dance-term-three-2/2026-03-25/
LOCATION:Moutere Hills Community Centre
CATEGORIES:Community Recreation
END:VEVENT
BEGIN:VEVENT
DTSTART;TZID=Pacific/Auckland:20260325T173000
DTEND;TZID=Pacific/Auckland:20260325T181500
DTSTAMP:20260423T215415
CREATED:20250311T035808Z
LAST-MODIFIED:20250311T035808Z
UID:10028685-1774459800-1774462500@www.mouterehills.org.nz
SUMMARY:Core Focus
DESCRIPTION:Incorporates core stabilisation\, muscular endurance\, strength\, balance and coordination. \nBookings are essential. Visit the Fitness Centre calendar page to register.
URL:https://www.mouterehills.org.nz/event/core-focus-3/2026-03-25/
LOCATION:Moutere Hills Community Centre
CATEGORIES:Exercise Class
END:VEVENT
BEGIN:VEVENT
DTSTART;TZID=Pacific/Auckland:20260325T180000
DTEND;TZID=Pacific/Auckland:20260325T190000
DTSTAMP:20260423T215415
CREATED:20260106T222007Z
LAST-MODIFIED:20260106T222007Z
UID:10029722-1774461600-1774465200@www.mouterehills.org.nz
SUMMARY:Walking Football
DESCRIPTION:Open to males and females aged 50+ \nGold coin donation \nTo Register contact Steve \nemail: clarky.walkingfootball@gmail.com \nStay Active – Stay Social – Stay in the Game
URL:https://www.mouterehills.org.nz/event/walking-football-2-2/2026-03-25/
LOCATION:Moutere Hills Community Centre
CATEGORIES:Social Sport
END:VEVENT
BEGIN:VEVENT
DTSTART;TZID=Pacific/Auckland:20260325T191500
DTEND;TZID=Pacific/Auckland:20260325T210000
DTSTAMP:20260423T215415
CREATED:20250107T233201Z
LAST-MODIFIED:20250107T233201Z
UID:10023607-1774466100-1774472400@www.mouterehills.org.nz
SUMMARY:Social Table Tennis
DESCRIPTION:Enjoy an evening of singles and doubles play on one of our four high quality tables. Bats can be provided and all levels of players are welcome. No need to book just turn up and join in! \n$3 per person\, per session. \nContact Peter on 03 929 8256 for more information.
URL:https://www.mouterehills.org.nz/event/social-table-tennis-2-3-2/2026-03-25/
LOCATION:Moutere Hills Community Centre
CATEGORIES:Social Sport
END:VEVENT
BEGIN:VEVENT
DTSTART;TZID=Pacific/Auckland:20260326T053000
DTEND;TZID=Pacific/Auckland:20260326T063000
DTSTAMP:20260423T215415
CREATED:20260104T220342Z
LAST-MODIFIED:20260104T220558Z
UID:10033475-1774503000-1774506600@www.mouterehills.org.nz
SUMMARY:Energise Group Fitness
DESCRIPTION:Start the day by working out with a fun bunch of motivated people who like to work out for better health and wellbeing. \nBookings essential. Contact Cindus on 0273587233.
URL:https://www.mouterehills.org.nz/event/energise-group-fitness-2-2-2/2026-03-26/
LOCATION:Moutere Hills Community Centre
CATEGORIES:Exercise Class
ORGANIZER;CN="Cindus Colonna":MAILTO:energiseme19@gmail.com
END:VEVENT
BEGIN:VEVENT
DTSTART;TZID=Pacific/Auckland:20260326T083000
DTEND;TZID=Pacific/Auckland:20260326T091500
DTSTAMP:20260423T215415
CREATED:20260106T213329Z
LAST-MODIFIED:20260106T213329Z
UID:10016766-1774513800-1774516500@www.mouterehills.org.nz
SUMMARY:Re-Activate
DESCRIPTION:A social workout\, designed to improve overall mobility and fitness through a functional fitness approach. This class is suitable for those just getting back into exercise\, those with a lower level of fitness or those who simply want to enjoy social interaction. All exercises can be tailored to suit individual needs and will be set to a level in which individuals determine their own exercise intensity. $12 per person or free for Fitness Centre members. Concession cards also available\, $80 for 10 classes. \nBookings are essential. Visit the Fitness Centre calendar page to register.
URL:https://www.mouterehills.org.nz/event/re-activate-2-3/2026-03-26/
CATEGORIES:Exercise Class
END:VEVENT
BEGIN:VEVENT
DTSTART;TZID=Pacific/Auckland:20260326T090000
DTEND;TZID=Pacific/Auckland:20260326T103000
DTSTAMP:20260423T215415
CREATED:20240729T030950Z
LAST-MODIFIED:20240729T030950Z
UID:10017289-1774515600-1774521000@www.mouterehills.org.nz
SUMMARY:Tennis Coaching
DESCRIPTION:Group and individual lessons.  Contact Vanessa on 022 460 0320 for info.
URL:https://www.mouterehills.org.nz/event/tennis-coaching-2/2026-03-26/
LOCATION:Moutere Hills Community Centre
CATEGORIES:Social Sport
END:VEVENT
BEGIN:VEVENT
DTSTART;TZID=Pacific/Auckland:20260326T093000
DTEND;TZID=Pacific/Auckland:20260326T113000
DTSTAMP:20260423T215415
CREATED:20260318T190432Z
LAST-MODIFIED:20260318T190432Z
UID:10034748-1774517400-1774524600@www.mouterehills.org.nz
SUMMARY:Dungeons n Dragons
DESCRIPTION:
URL:https://www.mouterehills.org.nz/event/dungeons-n-dragons/2026-03-26/
LOCATION:Community Room
CATEGORIES:Community Recreation
END:VEVENT
END:VCALENDAR