BEGIN:VCALENDAR
VERSION:2.0
PRODID:-//Moutere Hills Community Centre - ECPv6.15.19//NONSGML v1.0//EN
CALSCALE:GREGORIAN
METHOD:PUBLISH
X-WR-CALNAME:Moutere Hills Community Centre
X-ORIGINAL-URL:https://www.mouterehills.org.nz
X-WR-CALDESC:Events for Moutere Hills Community Centre
REFRESH-INTERVAL;VALUE=DURATION:PT1H
X-Robots-Tag:noindex
X-PUBLISHED-TTL:PT1H
BEGIN:VTIMEZONE
TZID:Pacific/Auckland
BEGIN:STANDARD
TZOFFSETFROM:+1300
TZOFFSETTO:+1200
TZNAME:NZST
DTSTART:20250405T140000
END:STANDARD
BEGIN:DAYLIGHT
TZOFFSETFROM:+1200
TZOFFSETTO:+1300
TZNAME:NZDT
DTSTART:20250927T140000
END:DAYLIGHT
BEGIN:STANDARD
TZOFFSETFROM:+1300
TZOFFSETTO:+1200
TZNAME:NZST
DTSTART:20260404T140000
END:STANDARD
BEGIN:DAYLIGHT
TZOFFSETFROM:+1200
TZOFFSETTO:+1300
TZNAME:NZDT
DTSTART:20260926T140000
END:DAYLIGHT
BEGIN:STANDARD
TZOFFSETFROM:+1300
TZOFFSETTO:+1200
TZNAME:NZST
DTSTART:20270403T140000
END:STANDARD
BEGIN:DAYLIGHT
TZOFFSETFROM:+1200
TZOFFSETTO:+1300
TZNAME:NZDT
DTSTART:20270925T140000
END:DAYLIGHT
END:VTIMEZONE
BEGIN:VEVENT
DTSTART;TZID=Pacific/Auckland:20260105T090000
DTEND;TZID=Pacific/Auckland:20260105T094500
DTSTAMP:20260420T060435
CREATED:20250128T195500Z
LAST-MODIFIED:20250410T025234Z
UID:10025269-1767603600-1767606300@www.mouterehills.org.nz
SUMMARY:Re-Activate
DESCRIPTION:A social workout\, designed to improve overall mobility and fitness through a functional fitness approach. This class is suitable for those just getting back into exercise\, those with a lower level of fitness or those who simply want to enjoy social interaction. All exercises can be tailored to suit individual needs and will be set to a level in which individuals determine their own exercise intensity. $12 per person or free for Fitness Centre members. Concession cards also available\, $80 for 10 classes. \nBookings are essential.
URL:https://www.mouterehills.org.nz/event/re-activate-3/2026-01-05/
LOCATION:Moutere Hills Community Centre
CATEGORIES:Exercise Class
END:VEVENT
BEGIN:VEVENT
DTSTART;TZID=Pacific/Auckland:20260105T170000
DTEND;TZID=Pacific/Auckland:20260105T174500
DTSTAMP:20260420T060435
CREATED:20250410T072823Z
LAST-MODIFIED:20250410T072823Z
UID:10030350-1767632400-1767635100@www.mouterehills.org.nz
SUMMARY:Pilates
DESCRIPTION:Join Kris in our new Pilates class.  Pilates is a low-impact workout which is great for strenthening your muscles though controlled\, repetitive movements\, building muscular endurance and stability. \n$12 casual\, $80 for a 10 class concession card or free for fitness centre members.
URL:https://www.mouterehills.org.nz/event/pilates-5/2026-01-05/
LOCATION:Moutere Hills Community Centre
CATEGORIES:Exercise Class
END:VEVENT
BEGIN:VEVENT
DTSTART;TZID=Pacific/Auckland:20260105T190000
DTEND;TZID=Pacific/Auckland:20260105T201500
DTSTAMP:20260420T060435
CREATED:20250410T010501Z
LAST-MODIFIED:20260106T211020Z
UID:10009477-1767639600-1767644100@www.mouterehills.org.nz
SUMMARY:Yoga with Kris
DESCRIPTION:Contact Kris on 0275252814 for more information or to book your spot.
URL:https://www.mouterehills.org.nz/event/dru-yoga-with-kris-2-3-2/2026-01-05/
LOCATION:Moutere Hills Community Centre
CATEGORIES:Community Recreation
END:VEVENT
BEGIN:VEVENT
DTSTART;TZID=Pacific/Auckland:20260106T053000
DTEND;TZID=Pacific/Auckland:20260106T063000
DTSTAMP:20260420T060435
CREATED:20260104T220342Z
LAST-MODIFIED:20260104T220558Z
UID:10033452-1767677400-1767681000@www.mouterehills.org.nz
SUMMARY:Energise Group Fitness
DESCRIPTION:Start the day by working out with a fun bunch of motivated people who like to work out for better health and wellbeing. \nBookings essential. Contact Cindus on 0273587233.
URL:https://www.mouterehills.org.nz/event/energise-group-fitness-2-2-2/2026-01-06/
LOCATION:Moutere Hills Community Centre
CATEGORIES:Exercise Class
ORGANIZER;CN="Cindus Colonna":MAILTO:energiseme19@gmail.com
END:VEVENT
BEGIN:VEVENT
DTSTART;TZID=Pacific/Auckland:20260106T090000
DTEND;TZID=Pacific/Auckland:20260106T103000
DTSTAMP:20260420T060435
CREATED:20240728T235311Z
LAST-MODIFIED:20240729T003110Z
UID:10014270-1767690000-1767695400@www.mouterehills.org.nz
SUMMARY:Tennis Coaching
DESCRIPTION:Group and individual lessons.  Contact Vanessa on 022 460 0320 for info.
URL:https://www.mouterehills.org.nz/event/tennis-coaching/2026-01-06/
LOCATION:Moutere Hills Community Centre
CATEGORIES:Social Sport
END:VEVENT
BEGIN:VEVENT
DTSTART;TZID=Pacific/Auckland:20260106T090000
DTEND;TZID=Pacific/Auckland:20260106T150000
DTSTAMP:20260420T060435
CREATED:20240418T235342Z
LAST-MODIFIED:20240418T235342Z
UID:10010003-1767690000-1767711600@www.mouterehills.org.nz
SUMMARY:Quirky Quilters
DESCRIPTION:Thursdays 10:00am-2:00pm. \nPlease contact the office on 03 5432516 for more details.
URL:https://www.mouterehills.org.nz/event/quirky-quilters-2-2-2/2026-01-06/
CATEGORIES:Community Recreation
END:VEVENT
BEGIN:VEVENT
DTSTART;TZID=Pacific/Auckland:20260106T093000
DTEND;TZID=Pacific/Auckland:20260106T101500
DTSTAMP:20260420T060435
CREATED:20250129T074446Z
LAST-MODIFIED:20260318T190636Z
UID:10034786-1767691800-1767694500@www.mouterehills.org.nz
SUMMARY:Stretch & Flex with Vicki
DESCRIPTION:Increase flexibility and mobility with slow moving range of motion stretching. Suitable for all ages and abilities. $12 per class or free for Fitness Centre members. Concession cards are also available ($80 for 10 classes). \nBookings essential. Visit the members portal to book.
URL:https://www.mouterehills.org.nz/event/stretch-flex-with-vicki-4/2026-01-06/
LOCATION:Moutere Hills Community Centre
CATEGORIES:Exercise Class
END:VEVENT
BEGIN:VEVENT
DTSTART;TZID=Pacific/Auckland:20260107T080000
DTEND;TZID=Pacific/Auckland:20260107T084500
DTSTAMP:20260420T060435
CREATED:20240419T010735Z
LAST-MODIFIED:20260106T214122Z
UID:10033990-1767772800-1767775500@www.mouterehills.org.nz
SUMMARY:Pilates
DESCRIPTION:Join Kris in our Pilates class.  Pilates is a low-impact workout which is great for strengthening your muscles though controlled\, repetitive movements\, building muscular endurance and stability. Suitable for Beginners.  $12 casual\, $80 for a 10 class concession card or free for fitness centre members.
URL:https://www.mouterehills.org.nz/event/pilates-4/2026-01-07/
LOCATION:Moutere Hills Community Centre
CATEGORIES:Exercise Class
END:VEVENT
BEGIN:VEVENT
DTSTART;TZID=Pacific/Auckland:20260107T173000
DTEND;TZID=Pacific/Auckland:20260107T181500
DTSTAMP:20260420T060435
CREATED:20250311T035808Z
LAST-MODIFIED:20250311T035808Z
UID:10028674-1767807000-1767809700@www.mouterehills.org.nz
SUMMARY:Core Focus
DESCRIPTION:Incorporates core stabilisation\, muscular endurance\, strength\, balance and coordination. \nBookings are essential. Visit the Fitness Centre calendar page to register.
URL:https://www.mouterehills.org.nz/event/core-focus-3/2026-01-07/
LOCATION:Moutere Hills Community Centre
CATEGORIES:Exercise Class
END:VEVENT
BEGIN:VEVENT
DTSTART;TZID=Pacific/Auckland:20260107T191500
DTEND;TZID=Pacific/Auckland:20260107T210000
DTSTAMP:20260420T060435
CREATED:20250107T233201Z
LAST-MODIFIED:20250107T233201Z
UID:10023596-1767813300-1767819600@www.mouterehills.org.nz
SUMMARY:Social Table Tennis
DESCRIPTION:Enjoy an evening of singles and doubles play on one of our four high quality tables. Bats can be provided and all levels of players are welcome. No need to book just turn up and join in! \n$3 per person\, per session. \nContact Peter on 03 929 8256 for more information.
URL:https://www.mouterehills.org.nz/event/social-table-tennis-2-3-2/2026-01-07/
LOCATION:Moutere Hills Community Centre
CATEGORIES:Social Sport
END:VEVENT
BEGIN:VEVENT
DTSTART;TZID=Pacific/Auckland:20260108T053000
DTEND;TZID=Pacific/Auckland:20260108T063000
DTSTAMP:20260420T060435
CREATED:20260104T220342Z
LAST-MODIFIED:20260104T220558Z
UID:10033453-1767850200-1767853800@www.mouterehills.org.nz
SUMMARY:Energise Group Fitness
DESCRIPTION:Start the day by working out with a fun bunch of motivated people who like to work out for better health and wellbeing. \nBookings essential. Contact Cindus on 0273587233.
URL:https://www.mouterehills.org.nz/event/energise-group-fitness-2-2-2/2026-01-08/
LOCATION:Moutere Hills Community Centre
CATEGORIES:Exercise Class
ORGANIZER;CN="Cindus Colonna":MAILTO:energiseme19@gmail.com
END:VEVENT
BEGIN:VEVENT
DTSTART;TZID=Pacific/Auckland:20260108T090000
DTEND;TZID=Pacific/Auckland:20260108T103000
DTSTAMP:20260420T060435
CREATED:20240729T030950Z
LAST-MODIFIED:20240729T030950Z
UID:10017278-1767862800-1767868200@www.mouterehills.org.nz
SUMMARY:Tennis Coaching
DESCRIPTION:Group and individual lessons.  Contact Vanessa on 022 460 0320 for info.
URL:https://www.mouterehills.org.nz/event/tennis-coaching-2/2026-01-08/
LOCATION:Moutere Hills Community Centre
CATEGORIES:Social Sport
END:VEVENT
BEGIN:VEVENT
DTSTART;TZID=Pacific/Auckland:20260108T153000
DTEND;TZID=Pacific/Auckland:20260108T180000
DTSTAMP:20260420T060436
CREATED:20240729T031539Z
LAST-MODIFIED:20240729T031539Z
UID:10017540-1767886200-1767895200@www.mouterehills.org.nz
SUMMARY:Junior Tennis Coaching
DESCRIPTION:All levels welcome 5yrs old + and upwards. \nContact Vanessa on 022 424 3564 or claybrookestate@xtra.co.nz for more info or to book.
URL:https://www.mouterehills.org.nz/event/junior-tennis-coaching-3/2026-01-08/
LOCATION:Moutere Hills Community Centre
CATEGORIES:Community Recreation
END:VEVENT
BEGIN:VEVENT
DTSTART;TZID=Pacific/Auckland:20260108T190000
DTEND;TZID=Pacific/Auckland:20260108T213000
DTSTAMP:20260420T060436
CREATED:20250129T072538Z
LAST-MODIFIED:20250129T072538Z
UID:10026246-1767898800-1767907800@www.mouterehills.org.nz
SUMMARY:Adults Volleyball
DESCRIPTION:Competitive grade \ncost $3.00 \nContact Gordon 021 246 7366
URL:https://www.mouterehills.org.nz/event/adults-volleyball/2026-01-08/
LOCATION:Moutere Hills Community Centre
CATEGORIES:Social Sport
END:VEVENT
BEGIN:VEVENT
DTSTART;TZID=Pacific/Auckland:20260109T080000
DTEND;TZID=Pacific/Auckland:20260111T170000
DTSTAMP:20260420T060436
CREATED:20250310T210602Z
LAST-MODIFIED:20250310T210602Z
UID:10028017-1767945600-1768150800@www.mouterehills.org.nz
SUMMARY:Country Music Festival weekend
DESCRIPTION:Whole centre booking \nContact MHCC for more details
URL:https://www.mouterehills.org.nz/event/country-music-festival-weekend/
LOCATION:Moutere Hills Community Centre
CATEGORIES:Event
END:VEVENT
BEGIN:VEVENT
DTSTART;TZID=Pacific/Auckland:20260110T133000
DTEND;TZID=Pacific/Auckland:20260110T150000
DTSTAMP:20260420T060436
CREATED:20260106T222746Z
LAST-MODIFIED:20260106T222844Z
UID:10029182-1768051800-1768057200@www.mouterehills.org.nz
SUMMARY:Youth/ Adults Social Basketball
DESCRIPTION:Join in a fun session of Basketball. For all ability levels. Only $3.00/session
URL:https://www.mouterehills.org.nz/event/youth-adults-social-basketball-6/
LOCATION:Moutere Hills Community Centre
CATEGORIES:Community Recreation
END:VEVENT
BEGIN:VEVENT
DTSTART;TZID=Pacific/Auckland:20260111T093000
DTEND;TZID=Pacific/Auckland:20260111T110000
DTSTAMP:20260420T060436
CREATED:20240729T034031Z
LAST-MODIFIED:20240729T034237Z
UID:10019141-1768123800-1768129200@www.mouterehills.org.nz
SUMMARY:Club Tennis Session
DESCRIPTION:Run by Upper Moutere Tennis Club. \nAll welcome.
URL:https://www.mouterehills.org.nz/event/club-tennis-session-2/2026-01-11/
CATEGORIES:Community Recreation
END:VEVENT
BEGIN:VEVENT
DTSTART;TZID=Pacific/Auckland:20260111T160000
DTEND;TZID=Pacific/Auckland:20260111T180000
DTSTAMP:20260420T060436
CREATED:20250731T020646Z
LAST-MODIFIED:20250731T020646Z
UID:10032578-1768147200-1768154400@www.mouterehills.org.nz
SUMMARY:Private Ballroom Lessons
DESCRIPTION:
URL:https://www.mouterehills.org.nz/event/private-ballroom-lessons/2026-01-11/
LOCATION:Sports Hall
CATEGORIES:Event
END:VEVENT
BEGIN:VEVENT
DTSTART;TZID=Pacific/Auckland:20260111T180000
DTEND;TZID=Pacific/Auckland:20260111T200000
DTSTAMP:20260420T060436
CREATED:20250721T224103Z
LAST-MODIFIED:20250721T224103Z
UID:10032417-1768154400-1768161600@www.mouterehills.org.nz
SUMMARY:Dance Classes - Ballroom/Latin
DESCRIPTION:Come along to a fun adult beginners Ballroom dance class \nContact Becks on dancingbecks@hotmail.com or cell 021482263
URL:https://www.mouterehills.org.nz/event/dance-classes-ballroom-latin/2026-01-11/
LOCATION:Moutere Hills Community Centre
CATEGORIES:Community Recreation
END:VEVENT
END:VCALENDAR