BEGIN:VCALENDAR
VERSION:2.0
PRODID:-//Moutere Hills Community Centre - ECPv6.15.19//NONSGML v1.0//EN
CALSCALE:GREGORIAN
METHOD:PUBLISH
X-WR-CALNAME:Moutere Hills Community Centre
X-ORIGINAL-URL:https://www.mouterehills.org.nz
X-WR-CALDESC:Events for Moutere Hills Community Centre
REFRESH-INTERVAL;VALUE=DURATION:PT1H
X-Robots-Tag:noindex
X-PUBLISHED-TTL:PT1H
BEGIN:VTIMEZONE
TZID:Pacific/Auckland
BEGIN:STANDARD
TZOFFSETFROM:+1300
TZOFFSETTO:+1200
TZNAME:NZST
DTSTART:20240406T140000
END:STANDARD
BEGIN:DAYLIGHT
TZOFFSETFROM:+1200
TZOFFSETTO:+1300
TZNAME:NZDT
DTSTART:20240928T140000
END:DAYLIGHT
BEGIN:STANDARD
TZOFFSETFROM:+1300
TZOFFSETTO:+1200
TZNAME:NZST
DTSTART:20250405T140000
END:STANDARD
BEGIN:DAYLIGHT
TZOFFSETFROM:+1200
TZOFFSETTO:+1300
TZNAME:NZDT
DTSTART:20250927T140000
END:DAYLIGHT
BEGIN:STANDARD
TZOFFSETFROM:+1300
TZOFFSETTO:+1200
TZNAME:NZST
DTSTART:20260404T140000
END:STANDARD
BEGIN:DAYLIGHT
TZOFFSETFROM:+1200
TZOFFSETTO:+1300
TZNAME:NZDT
DTSTART:20260926T140000
END:DAYLIGHT
BEGIN:STANDARD
TZOFFSETFROM:+1300
TZOFFSETTO:+1200
TZNAME:NZST
DTSTART:20270403T140000
END:STANDARD
BEGIN:DAYLIGHT
TZOFFSETFROM:+1200
TZOFFSETTO:+1300
TZNAME:NZDT
DTSTART:20270925T140000
END:DAYLIGHT
END:VTIMEZONE
BEGIN:VEVENT
DTSTART;TZID=Pacific/Auckland:20260525T060000
DTEND;TZID=Pacific/Auckland:20260525T184500
DTSTAMP:20260424T075437
CREATED:20260104T215730Z
LAST-MODIFIED:20260104T215730Z
UID:10033373-1779688800-1779734700@www.mouterehills.org.nz
SUMMARY:Strength & Fitness Circuit - Mondays
DESCRIPTION:
URL:https://www.mouterehills.org.nz/event/strength-fitness-circuit-mondays/2026-05-25/
LOCATION:Sports Hall
CATEGORIES:Exercise Class
END:VEVENT
BEGIN:VEVENT
DTSTART;TZID=Pacific/Auckland:20260524T160000
DTEND;TZID=Pacific/Auckland:20260524T180000
DTSTAMP:20260424T075437
CREATED:20250731T020646Z
LAST-MODIFIED:20250731T020646Z
UID:10032597-1779638400-1779645600@www.mouterehills.org.nz
SUMMARY:Private Ballroom Lessons
DESCRIPTION:
URL:https://www.mouterehills.org.nz/event/private-ballroom-lessons/2026-05-24/
LOCATION:Sports Hall
CATEGORIES:Event
END:VEVENT
BEGIN:VEVENT
DTSTART;TZID=Pacific/Auckland:20260524T093000
DTEND;TZID=Pacific/Auckland:20260524T110000
DTSTAMP:20260424T075437
CREATED:20240729T034031Z
LAST-MODIFIED:20240729T034237Z
UID:10019160-1779615000-1779620400@www.mouterehills.org.nz
SUMMARY:Club Tennis Session
DESCRIPTION:Run by Upper Moutere Tennis Club. \nAll welcome.
URL:https://www.mouterehills.org.nz/event/club-tennis-session-2/2026-05-24/
CATEGORIES:Community Recreation
END:VEVENT
BEGIN:VEVENT
DTSTART;TZID=Pacific/Auckland:20260523T133000
DTEND;TZID=Pacific/Auckland:20260523T150000
DTSTAMP:20260424T075437
CREATED:20250320T221821Z
LAST-MODIFIED:20250530T032422Z
UID:10029201-1779543000-1779548400@www.mouterehills.org.nz
SUMMARY:Youth/ Adults Social Basketball
DESCRIPTION:Join in a fun session of Basketball. For all ability levels. Only $3.00/session
URL:https://www.mouterehills.org.nz/event/youth-adults-social-basketball-4/2026-05-23/
LOCATION:Moutere Hills Community Centre
CATEGORIES:Community Recreation
END:VEVENT
BEGIN:VEVENT
DTSTART;TZID=Pacific/Auckland:20260523T080000
DTEND;TZID=Pacific/Auckland:20260523T084500
DTSTAMP:20260424T075437
CREATED:20260318T184246Z
LAST-MODIFIED:20260318T184424Z
UID:10034443-1779523200-1779525900@www.mouterehills.org.nz
SUMMARY:Strength & Fitness - Saturday
DESCRIPTION:A circuit class designed to build strength & Fitness \nAll abilities welcome
URL:https://www.mouterehills.org.nz/event/strength-fitness-saturday/2026-05-23/
LOCATION:Sports Hall
CATEGORIES:Exercise Class
END:VEVENT
BEGIN:VEVENT
DTSTART;TZID=Pacific/Auckland:20260522T151500
DTEND;TZID=Pacific/Auckland:20260522T171500
DTSTAMP:20260424T075437
CREATED:20260318T185446Z
LAST-MODIFIED:20260407T014030Z
UID:10034602-1779462900-1779470100@www.mouterehills.org.nz
SUMMARY:Indoor Bowls
DESCRIPTION:We welcome anyone from 8yrs old and all abilities. \nAll gear provided\, just wear soft flat soled shoes.
URL:https://www.mouterehills.org.nz/event/indoor-bowls-3/2026-05-22/
LOCATION:Sports Hall
CATEGORIES:Exercise Class
END:VEVENT
BEGIN:VEVENT
DTSTART;TZID=Pacific/Auckland:20260522T100000
DTEND;TZID=Pacific/Auckland:20260522T111500
DTSTAMP:20260424T075437
CREATED:20260318T185130Z
LAST-MODIFIED:20260318T185130Z
UID:10034562-1779444000-1779448500@www.mouterehills.org.nz
SUMMARY:Yoga with Kris
DESCRIPTION:
URL:https://www.mouterehills.org.nz/event/yoga-with-kris-4/2026-05-22/
LOCATION:Function room
CATEGORIES:Exercise Class
END:VEVENT
BEGIN:VEVENT
DTSTART;TZID=Pacific/Auckland:20260522T090000
DTEND;TZID=Pacific/Auckland:20260522T094500
DTSTAMP:20260424T075437
CREATED:20240419T011921Z
LAST-MODIFIED:20250410T014732Z
UID:10012872-1779440400-1779443100@www.mouterehills.org.nz
SUMMARY:Pilates with Kris
DESCRIPTION:Join Kris for this great pilates class.  $12 for casual\, $80 for 10 class concession card or free for fitness centre members.
URL:https://www.mouterehills.org.nz/event/pilates-with-kris/2026-05-22/
LOCATION:Moutere Hills Community Centre
CATEGORIES:Exercise Class
END:VEVENT
BEGIN:VEVENT
DTSTART;TZID=Pacific/Auckland:20260522T081500
DTEND;TZID=Pacific/Auckland:20260522T090000
DTSTAMP:20260424T075437
CREATED:20260106T223323Z
LAST-MODIFIED:20260416T220611Z
UID:10012611-1779437700-1779440400@www.mouterehills.org.nz
SUMMARY:MetaFit and Core
DESCRIPTION:Join Fiona for some high intensity interval training. This short-and-sweet class will leave your metabolic rate boosted for hours afterwards. All exercises are body-weight and time-based to allow individuals to work to their own pace. Then finish the class with a core and pelvic muscle workout. \n$12 per person or free for Fitness Centre members. Concession cards available ($80 for 10 classes). \nBookings are essential. Visit the Fitness Centre calendar page to register.
URL:https://www.mouterehills.org.nz/event/metafit-and-core-with-fiona-2-2-2/2026-05-22/
LOCATION:Moutere Hills Community Centre
CATEGORIES:Exercise Class
END:VEVENT
BEGIN:VEVENT
DTSTART;TZID=Pacific/Auckland:20260521T190000
DTEND;TZID=Pacific/Auckland:20260521T213000
DTSTAMP:20260424T075437
CREATED:20250129T072538Z
LAST-MODIFIED:20250129T072538Z
UID:10026265-1779390000-1779399000@www.mouterehills.org.nz
SUMMARY:Adults Volleyball
DESCRIPTION:Competitive grade \ncost $3.00 \nContact Gordon 021 246 7366
URL:https://www.mouterehills.org.nz/event/adults-volleyball/2026-05-21/
LOCATION:Moutere Hills Community Centre
CATEGORIES:Social Sport
END:VEVENT
BEGIN:VEVENT
DTSTART;TZID=Pacific/Auckland:20260521T153000
DTEND;TZID=Pacific/Auckland:20260521T183000
DTSTAMP:20260424T075437
CREATED:20260104T223015Z
LAST-MODIFIED:20260406T211925Z
UID:10033775-1779377400-1779388200@www.mouterehills.org.nz
SUMMARY:Aerial Silks - Thursday
DESCRIPTION:Tasman Aerial Silks   \nIlka 022 085 5970                                    
URL:https://www.mouterehills.org.nz/event/aerial-silks-thursday/2026-05-21/
LOCATION:Sports Hall
CATEGORIES:Community Recreation
END:VEVENT
BEGIN:VEVENT
DTSTART;TZID=Pacific/Auckland:20260521T153000
DTEND;TZID=Pacific/Auckland:20260521T180000
DTSTAMP:20260424T075437
CREATED:20240729T031539Z
LAST-MODIFIED:20240729T031539Z
UID:10017559-1779377400-1779386400@www.mouterehills.org.nz
SUMMARY:Junior Tennis Coaching
DESCRIPTION:All levels welcome 5yrs old + and upwards. \nContact Vanessa on 022 424 3564 or claybrookestate@xtra.co.nz for more info or to book.
URL:https://www.mouterehills.org.nz/event/junior-tennis-coaching-3/2026-05-21/
LOCATION:Moutere Hills Community Centre
CATEGORIES:Community Recreation
END:VEVENT
BEGIN:VEVENT
DTSTART;TZID=Pacific/Auckland:20260521T103000
DTEND;TZID=Pacific/Auckland:20260521T120000
DTSTAMP:20260424T075437
CREATED:20260104T215252Z
LAST-MODIFIED:20260104T215252Z
UID:10033274-1779359400-1779364800@www.mouterehills.org.nz
SUMMARY:Ballroom - Homeschool class
DESCRIPTION:
URL:https://www.mouterehills.org.nz/event/ballroom-homeschool-class/2026-05-21/
LOCATION:Moutere Hills Community Centre
CATEGORIES:Community Recreation
END:VEVENT
BEGIN:VEVENT
DTSTART;TZID=Pacific/Auckland:20260521T093000
DTEND;TZID=Pacific/Auckland:20260521T113000
DTSTAMP:20260424T075437
CREATED:20260318T190432Z
LAST-MODIFIED:20260318T190432Z
UID:10034756-1779355800-1779363000@www.mouterehills.org.nz
SUMMARY:Dungeons n Dragons
DESCRIPTION:
URL:https://www.mouterehills.org.nz/event/dungeons-n-dragons/2026-05-21/
LOCATION:Community Room
CATEGORIES:Community Recreation
END:VEVENT
BEGIN:VEVENT
DTSTART;TZID=Pacific/Auckland:20260521T083000
DTEND;TZID=Pacific/Auckland:20260521T091500
DTSTAMP:20260424T075437
CREATED:20260106T213329Z
LAST-MODIFIED:20260106T213329Z
UID:10016774-1779352200-1779354900@www.mouterehills.org.nz
SUMMARY:Re-Activate
DESCRIPTION:A social workout\, designed to improve overall mobility and fitness through a functional fitness approach. This class is suitable for those just getting back into exercise\, those with a lower level of fitness or those who simply want to enjoy social interaction. All exercises can be tailored to suit individual needs and will be set to a level in which individuals determine their own exercise intensity. $12 per person or free for Fitness Centre members. Concession cards also available\, $80 for 10 classes. \nBookings are essential. Visit the Fitness Centre calendar page to register.
URL:https://www.mouterehills.org.nz/event/re-activate-2-3/2026-05-21/
CATEGORIES:Exercise Class
END:VEVENT
BEGIN:VEVENT
DTSTART;TZID=Pacific/Auckland:20260510T180000
DTEND;TZID=Pacific/Auckland:20260510T200000
DTSTAMP:20260424T075437
CREATED:20250721T224103Z
LAST-MODIFIED:20250721T224103Z
UID:10032421-1778436000-1778443200@www.mouterehills.org.nz
SUMMARY:Dance Classes - Ballroom/Latin
DESCRIPTION:Come along to a fun adult beginners Ballroom dance class \nContact Becks on dancingbecks@hotmail.com or cell 021482263
URL:https://www.mouterehills.org.nz/event/dance-classes-ballroom-latin/2026-05-10/
LOCATION:Moutere Hills Community Centre
CATEGORIES:Community Recreation
END:VEVENT
BEGIN:VEVENT
DTSTART;TZID=Pacific/Auckland:20260508T183000
DTEND;TZID=Pacific/Auckland:20260508T203000
DTSTAMP:20260424T075437
CREATED:20240729T032733Z
LAST-MODIFIED:20240729T033053Z
UID:10018746-1778265000-1778272200@www.mouterehills.org.nz
SUMMARY:Ballroom / Latin Dance Class
DESCRIPTION:Join Becks for on the monthly practice Night.  Practice session runs from 6:30pm – 8:30pm. 2nd Friday of each month \n$10 per session.  For more details contact Becks on 021482263
URL:https://www.mouterehills.org.nz/event/ballroom-latin-dance-class-2/2026-05-08/
LOCATION:Moutere Hills Community Centre
CATEGORIES:Social Sport
END:VEVENT
BEGIN:VEVENT
DTSTART;TZID=Pacific/Auckland:20260504T191500
DTEND;TZID=Pacific/Auckland:20260504T203000
DTSTAMP:20260424T075437
CREATED:20260407T014715Z
LAST-MODIFIED:20260407T014715Z
UID:10035007-1777922100-1777926600@www.mouterehills.org.nz
SUMMARY:Social Netball
DESCRIPTION:
URL:https://www.mouterehills.org.nz/event/social-netball-3/
LOCATION:Sports Hall
CATEGORIES:Social Sport
END:VEVENT
BEGIN:VEVENT
DTSTART;TZID=Pacific/Auckland:20260412T080000
DTEND;TZID=Pacific/Auckland:20260412T170000
DTSTAMP:20260424T075437
CREATED:20260318T191403Z
LAST-MODIFIED:20260318T191403Z
UID:10034789-1775980800-1776013200@www.mouterehills.org.nz
SUMMARY:Age Group Road National Championships
DESCRIPTION:The Age Group Road National Championships are on 10-12 of April 2026 at Moutere Hills Community Centre in the Nelson / Tasman region\, organised by Dynamo Events. This event is the premiere masters\, age group and para cycling road event where all competitors represent their chosen club.
URL:https://www.mouterehills.org.nz/event/age-group-road-national-championships/2026-04-12/
LOCATION:Moutere Hills Community Centre
CATEGORIES:Event
END:VEVENT
BEGIN:VEVENT
DTSTART;TZID=Pacific/Auckland:20260406T090000
DTEND;TZID=Pacific/Auckland:20260406T094500
DTSTAMP:20260424T075437
CREATED:20260401T211914Z
LAST-MODIFIED:20260401T211915Z
UID:10025282-1775466000-1775468700@www.mouterehills.org.nz
SUMMARY:Re-Activate
DESCRIPTION:A social workout\, designed to improve overall mobility and fitness through a functional fitness approach. This class is suitable for those just getting back into exercise\, those with a lower level of fitness or those who simply want to enjoy social interaction. All exercises can be tailored to suit individual needs and will be set to a level in which individuals determine their own exercise intensity. $12 per person or free for Fitness Centre members. Concession cards also available\, $80 for 10 classes. \nBookings are essential.
URL:https://www.mouterehills.org.nz/event/re-activate-3-2/
LOCATION:Moutere Hills Community Centre
CATEGORIES:Exercise Class
END:VEVENT
BEGIN:VEVENT
DTSTART;TZID=Pacific/Auckland:20260403T150000
DTEND;TZID=Pacific/Auckland:20260406T170000
DTSTAMP:20260424T075437
CREATED:20260402T044027Z
LAST-MODIFIED:20260402T044145Z
UID:10034992-1775228400-1775494800@www.mouterehills.org.nz
SUMMARY:Private Booking of whole Centre
DESCRIPTION:Private booking running three days
URL:https://www.mouterehills.org.nz/event/private-booking-94/
LOCATION:Moutere Hills Community Centre
CATEGORIES:Event
END:VEVENT
BEGIN:VEVENT
DTSTART;TZID=Pacific/Auckland:20260331T180000
DTEND;TZID=Pacific/Auckland:20260331T190000
DTSTAMP:20260424T075437
CREATED:20260329T043932Z
LAST-MODIFIED:20260329T044206Z
UID:10033611-1774980000-1774983600@www.mouterehills.org.nz
SUMMARY:Social Touch
DESCRIPTION:Contact Mark 027 4229949
URL:https://www.mouterehills.org.nz/event/social-touch-2/2026-03-31/
LOCATION:Moutere Hills Community Centre
CATEGORIES:Social Sport
END:VEVENT
BEGIN:VEVENT
DTSTART;TZID=Pacific/Auckland:20260331T093000
DTEND;TZID=Pacific/Auckland:20260331T101500
DTSTAMP:20260424T075437
CREATED:20250129T074446Z
LAST-MODIFIED:20260318T190636Z
UID:10026706-1774949400-1774952100@www.mouterehills.org.nz
SUMMARY:Stretch & Flex with Vicki
DESCRIPTION:Increase flexibility and mobility with slow moving range of motion stretching. Suitable for all ages and abilities. $12 per class or free for Fitness Centre members. Concession cards are also available ($80 for 10 classes). \nBookings essential. Visit the members portal to book.
URL:https://www.mouterehills.org.nz/event/stretch-flex-with-vicki-4/2026-03-31/
LOCATION:Moutere Hills Community Centre
CATEGORIES:Exercise Class
END:VEVENT
BEGIN:VEVENT
DTSTART;VALUE=DATE:20260206
DTEND;VALUE=DATE:20260207
DTSTAMP:20260424T075437
CREATED:20260115T000634Z
LAST-MODIFIED:20260115T000634Z
UID:10034347-1770336000-1770422399@www.mouterehills.org.nz
SUMMARY:Waitangi day
DESCRIPTION:
URL:https://www.mouterehills.org.nz/event/waitangi-day/
CATEGORIES:Event
END:VEVENT
BEGIN:VEVENT
DTSTART;VALUE=DATE:20260202
DTEND;VALUE=DATE:20260203
DTSTAMP:20260424T075437
CREATED:20260115T000555Z
LAST-MODIFIED:20260115T000555Z
UID:10034346-1769990400-1770076799@www.mouterehills.org.nz
SUMMARY:Nelson anniversary day
DESCRIPTION:
URL:https://www.mouterehills.org.nz/event/nelson-anniversary-day/
CATEGORIES:Event
END:VEVENT
BEGIN:VEVENT
DTSTART;TZID=Pacific/Auckland:20260117T091500
DTEND;TZID=Pacific/Auckland:20260117T103000
DTSTAMP:20260424T075437
CREATED:20260106T213037Z
LAST-MODIFIED:20260106T213038Z
UID:10033181-1768641300-1768645800@www.mouterehills.org.nz
SUMMARY:Yoga Flow - with Angie
DESCRIPTION:Register by text or WHATSAPP \nPh: 027 666 9642
URL:https://www.mouterehills.org.nz/event/yoga-flow-with-angie-2/
LOCATION:Moutere Hills Community Centre
CATEGORIES:Community Recreation
END:VEVENT
BEGIN:VEVENT
DTSTART;TZID=Pacific/Auckland:20260109T080000
DTEND;TZID=Pacific/Auckland:20260111T170000
DTSTAMP:20260424T075437
CREATED:20250310T210602Z
LAST-MODIFIED:20250310T210602Z
UID:10028017-1767945600-1768150800@www.mouterehills.org.nz
SUMMARY:Country Music Festival weekend
DESCRIPTION:Whole centre booking \nContact MHCC for more details
URL:https://www.mouterehills.org.nz/event/country-music-festival-weekend/
LOCATION:Moutere Hills Community Centre
CATEGORIES:Event
END:VEVENT
BEGIN:VEVENT
DTSTART;TZID=Pacific/Auckland:20260101T180000
DTEND;TZID=Pacific/Auckland:20260101T184500
DTSTAMP:20260424T075437
CREATED:20250320T200151Z
LAST-MODIFIED:20250320T200151Z
UID:10028863-1767290400-1767293100@www.mouterehills.org.nz
SUMMARY:Box'n burn
DESCRIPTION:
URL:https://www.mouterehills.org.nz/event/boxn-burn/2026-01-01/
LOCATION:Moutere Hills Community Centre
CATEGORIES:Exercise Class
END:VEVENT
BEGIN:VEVENT
DTSTART;TZID=Pacific/Auckland:20251231T154500
DTEND;TZID=Pacific/Auckland:20251231T190000
DTSTAMP:20260424T075437
CREATED:20250721T221734Z
LAST-MODIFIED:20260105T022734Z
UID:10032360-1767195900-1767207600@www.mouterehills.org.nz
SUMMARY:Legacy Dance
DESCRIPTION:Classes from 3:45pm to 7:00pm \nContact Annie for more info \nemail: legacydancenz@gmail.com
URL:https://www.mouterehills.org.nz/event/legacy-dance-term-three/2025-12-31/
LOCATION:Moutere Hills Community Centre
CATEGORIES:Community Recreation
END:VEVENT
BEGIN:VEVENT
DTSTART;TZID=Pacific/Auckland:20251230T080000
DTEND;TZID=Pacific/Auckland:20260102T170000
DTSTAMP:20260424T075437
CREATED:20250310T210337Z
LAST-MODIFIED:20250310T210337Z
UID:10028016-1767081600-1767373200@www.mouterehills.org.nz
SUMMARY:NZMCA New Year Rally
DESCRIPTION:Whole Centre Booking \nContact MHCC for more details
URL:https://www.mouterehills.org.nz/event/nzmca-new-year-rally/
LOCATION:Moutere Hills Community Centre
CATEGORIES:Event
END:VEVENT
END:VCALENDAR