BEGIN:VCALENDAR
VERSION:2.0
PRODID:-//Moutere Hills Community Centre - ECPv6.15.19//NONSGML v1.0//EN
CALSCALE:GREGORIAN
METHOD:PUBLISH
X-ORIGINAL-URL:https://www.mouterehills.org.nz
X-WR-CALDESC:Events for Moutere Hills Community Centre
REFRESH-INTERVAL;VALUE=DURATION:PT1H
X-Robots-Tag:noindex
X-PUBLISHED-TTL:PT1H
BEGIN:VTIMEZONE
TZID:Pacific/Auckland
BEGIN:STANDARD
TZOFFSETFROM:+1300
TZOFFSETTO:+1200
TZNAME:NZST
DTSTART:20250405T140000
END:STANDARD
BEGIN:DAYLIGHT
TZOFFSETFROM:+1200
TZOFFSETTO:+1300
TZNAME:NZDT
DTSTART:20250927T140000
END:DAYLIGHT
BEGIN:STANDARD
TZOFFSETFROM:+1300
TZOFFSETTO:+1200
TZNAME:NZST
DTSTART:20260404T140000
END:STANDARD
BEGIN:DAYLIGHT
TZOFFSETFROM:+1200
TZOFFSETTO:+1300
TZNAME:NZDT
DTSTART:20260926T140000
END:DAYLIGHT
BEGIN:STANDARD
TZOFFSETFROM:+1300
TZOFFSETTO:+1200
TZNAME:NZST
DTSTART:20270403T140000
END:STANDARD
BEGIN:DAYLIGHT
TZOFFSETFROM:+1200
TZOFFSETTO:+1300
TZNAME:NZDT
DTSTART:20270925T140000
END:DAYLIGHT
END:VTIMEZONE
BEGIN:VEVENT
DTSTART;TZID=Pacific/Auckland:20260602T090000
DTEND;TZID=Pacific/Auckland:20260602T150000
DTSTAMP:20260424T115218
CREATED:20240418T235342Z
LAST-MODIFIED:20240418T235342Z
UID:10010024-1780390800-1780412400@www.mouterehills.org.nz
SUMMARY:Quirky Quilters
DESCRIPTION:Thursdays 10:00am-2:00pm. \nPlease contact the office on 03 5432516 for more details.
URL:https://www.mouterehills.org.nz/event/quirky-quilters-2-2-2/2026-06-02/
CATEGORIES:Community Recreation
END:VEVENT
BEGIN:VEVENT
DTSTART;TZID=Pacific/Auckland:20260602T093000
DTEND;TZID=Pacific/Auckland:20260602T101500
DTSTAMP:20260424T115218
CREATED:20260318T202715Z
LAST-MODIFIED:20260318T202715Z
UID:10034835-1780392600-1780395300@www.mouterehills.org.nz
SUMMARY:Stretch & Flex with Bex
DESCRIPTION:Cost: $12 casual\, $80 for 10 class concession or free for Fitness Centre Members 
URL:https://www.mouterehills.org.nz/event/stretch-flex-with-bex/2026-06-02/
LOCATION:Sports Hall
CATEGORIES:Exercise Class
END:VEVENT
BEGIN:VEVENT
DTSTART;TZID=Pacific/Auckland:20260602T103000
DTEND;TZID=Pacific/Auckland:20260602T123000
DTSTAMP:20260424T115218
CREATED:20260318T190813Z
LAST-MODIFIED:20260318T190813Z
UID:10034365-1780396200-1780403400@www.mouterehills.org.nz
SUMMARY:Pickleball
DESCRIPTION:Cost $3 per person – for all ages and abilities
URL:https://www.mouterehills.org.nz/event/pickleball-3-2-2/2026-06-02/
LOCATION:Sports Hall
CATEGORIES:Exercise Class
END:VEVENT
BEGIN:VEVENT
DTSTART;TZID=Pacific/Auckland:20260602T153000
DTEND;TZID=Pacific/Auckland:20260602T173000
DTSTAMP:20260424T115218
CREATED:20260104T222701Z
LAST-MODIFIED:20260406T211833Z
UID:10033731-1780414200-1780421400@www.mouterehills.org.nz
SUMMARY:Aerial Silks - Tuesday
DESCRIPTION:Contact Ilka for more info\n\n\n\nlka Ph: 022 085 5970                      
URL:https://www.mouterehills.org.nz/event/aerial-silks-tuesday/2026-06-02/
LOCATION:Sports Hall
CATEGORIES:Community Recreation
END:VEVENT
BEGIN:VEVENT
DTSTART;TZID=Pacific/Auckland:20260602T173000
DTEND;TZID=Pacific/Auckland:20260602T200000
DTSTAMP:20260424T115218
CREATED:20260106T221736Z
LAST-MODIFIED:20260106T221736Z
UID:10034139-1780421400-1780430400@www.mouterehills.org.nz
SUMMARY:Ballroom/Latin Dance - Tuesday
DESCRIPTION:
URL:https://www.mouterehills.org.nz/event/ballroom-latin-dance-tuesday/2026-06-02/
LOCATION:Sports Hall
CATEGORIES:Community Recreation
END:VEVENT
BEGIN:VEVENT
DTSTART;TZID=Pacific/Auckland:20260612T183000
DTEND;TZID=Pacific/Auckland:20260612T203000
DTSTAMP:20260424T115218
CREATED:20240729T032733Z
LAST-MODIFIED:20240729T033053Z
UID:10018747-1781289000-1781296200@www.mouterehills.org.nz
SUMMARY:Ballroom / Latin Dance Class
DESCRIPTION:Join Becks for on the monthly practice Night.  Practice session runs from 6:30pm – 8:30pm. 2nd Friday of each month \n$10 per session.  For more details contact Becks on 021482263
URL:https://www.mouterehills.org.nz/event/ballroom-latin-dance-class-2/2026-06-12/
LOCATION:Moutere Hills Community Centre
CATEGORIES:Social Sport
END:VEVENT
BEGIN:VEVENT
DTSTART;TZID=Pacific/Auckland:20260614T180000
DTEND;TZID=Pacific/Auckland:20260614T200000
DTSTAMP:20260424T115218
CREATED:20250721T224103Z
LAST-MODIFIED:20250721T224103Z
UID:10032422-1781460000-1781467200@www.mouterehills.org.nz
SUMMARY:Dance Classes - Ballroom/Latin
DESCRIPTION:Come along to a fun adult beginners Ballroom dance class \nContact Becks on dancingbecks@hotmail.com or cell 021482263
URL:https://www.mouterehills.org.nz/event/dance-classes-ballroom-latin/2026-06-14/
LOCATION:Moutere Hills Community Centre
CATEGORIES:Community Recreation
END:VEVENT
END:VCALENDAR