BEGIN:VCALENDAR
VERSION:2.0
PRODID:-//Moutere Hills Community Centre - ECPv6.15.19//NONSGML v1.0//EN
CALSCALE:GREGORIAN
METHOD:PUBLISH
X-WR-CALNAME:Moutere Hills Community Centre
X-ORIGINAL-URL:https://www.mouterehills.org.nz
X-WR-CALDESC:Events for Moutere Hills Community Centre
REFRESH-INTERVAL;VALUE=DURATION:PT1H
X-Robots-Tag:noindex
X-PUBLISHED-TTL:PT1H
BEGIN:VTIMEZONE
TZID:Pacific/Auckland
BEGIN:STANDARD
TZOFFSETFROM:+1300
TZOFFSETTO:+1200
TZNAME:NZST
DTSTART:20250405T140000
END:STANDARD
BEGIN:DAYLIGHT
TZOFFSETFROM:+1200
TZOFFSETTO:+1300
TZNAME:NZDT
DTSTART:20250927T140000
END:DAYLIGHT
BEGIN:STANDARD
TZOFFSETFROM:+1300
TZOFFSETTO:+1200
TZNAME:NZST
DTSTART:20260404T140000
END:STANDARD
BEGIN:DAYLIGHT
TZOFFSETFROM:+1200
TZOFFSETTO:+1300
TZNAME:NZDT
DTSTART:20260926T140000
END:DAYLIGHT
BEGIN:STANDARD
TZOFFSETFROM:+1300
TZOFFSETTO:+1200
TZNAME:NZST
DTSTART:20270403T140000
END:STANDARD
BEGIN:DAYLIGHT
TZOFFSETFROM:+1200
TZOFFSETTO:+1300
TZNAME:NZDT
DTSTART:20270925T140000
END:DAYLIGHT
END:VTIMEZONE
BEGIN:VEVENT
DTSTART;TZID=Pacific/Auckland:20260331T180000
DTEND;TZID=Pacific/Auckland:20260331T190000
DTSTAMP:20260422T045950
CREATED:20260329T043932Z
LAST-MODIFIED:20260329T044206Z
UID:10033611-1774980000-1774983600@www.mouterehills.org.nz
SUMMARY:Social Touch
DESCRIPTION:Contact Mark 027 4229949
URL:https://www.mouterehills.org.nz/event/social-touch-2/2026-03-31/
LOCATION:Moutere Hills Community Centre
CATEGORIES:Social Sport
END:VEVENT
BEGIN:VEVENT
DTSTART;TZID=Pacific/Auckland:20260331T173000
DTEND;TZID=Pacific/Auckland:20260331T200000
DTSTAMP:20260422T045950
CREATED:20260106T221736Z
LAST-MODIFIED:20260106T221736Z
UID:10034130-1774978200-1774987200@www.mouterehills.org.nz
SUMMARY:Ballroom/Latin Dance - Tuesday
DESCRIPTION:
URL:https://www.mouterehills.org.nz/event/ballroom-latin-dance-tuesday/2026-03-31/
LOCATION:Sports Hall
CATEGORIES:Community Recreation
END:VEVENT
BEGIN:VEVENT
DTSTART;TZID=Pacific/Auckland:20260331T153000
DTEND;TZID=Pacific/Auckland:20260331T173000
DTSTAMP:20260422T045950
CREATED:20260104T222701Z
LAST-MODIFIED:20260406T211833Z
UID:10033722-1774971000-1774978200@www.mouterehills.org.nz
SUMMARY:Aerial Silks - Tuesday
DESCRIPTION:Contact Ilka for more info\n\n\n\nlka Ph: 022 085 5970                      
URL:https://www.mouterehills.org.nz/event/aerial-silks-tuesday/2026-03-31/
LOCATION:Sports Hall
CATEGORIES:Community Recreation
END:VEVENT
BEGIN:VEVENT
DTSTART;TZID=Pacific/Auckland:20260331T103000
DTEND;TZID=Pacific/Auckland:20260331T123000
DTSTAMP:20260422T045950
CREATED:20260318T190813Z
LAST-MODIFIED:20260318T190813Z
UID:10034356-1774953000-1774960200@www.mouterehills.org.nz
SUMMARY:Pickleball
DESCRIPTION:Cost $3 per person – for all ages and abilities
URL:https://www.mouterehills.org.nz/event/pickleball-3-2-2/2026-03-31/
LOCATION:Sports Hall
CATEGORIES:Exercise Class
END:VEVENT
BEGIN:VEVENT
DTSTART;TZID=Pacific/Auckland:20260331T093000
DTEND;TZID=Pacific/Auckland:20260331T101500
DTSTAMP:20260422T045950
CREATED:20250129T074446Z
LAST-MODIFIED:20260318T190636Z
UID:10026706-1774949400-1774952100@www.mouterehills.org.nz
SUMMARY:Stretch & Flex with Vicki
DESCRIPTION:Increase flexibility and mobility with slow moving range of motion stretching. Suitable for all ages and abilities. $12 per class or free for Fitness Centre members. Concession cards are also available ($80 for 10 classes). \nBookings essential. Visit the members portal to book.
URL:https://www.mouterehills.org.nz/event/stretch-flex-with-vicki-4/2026-03-31/
LOCATION:Moutere Hills Community Centre
CATEGORIES:Exercise Class
END:VEVENT
BEGIN:VEVENT
DTSTART;TZID=Pacific/Auckland:20260331T090000
DTEND;TZID=Pacific/Auckland:20260331T150000
DTSTAMP:20260422T045950
CREATED:20240418T235342Z
LAST-MODIFIED:20240418T235342Z
UID:10010015-1774947600-1774969200@www.mouterehills.org.nz
SUMMARY:Quirky Quilters
DESCRIPTION:Thursdays 10:00am-2:00pm. \nPlease contact the office on 03 5432516 for more details.
URL:https://www.mouterehills.org.nz/event/quirky-quilters-2-2-2/2026-03-31/
CATEGORIES:Community Recreation
END:VEVENT
BEGIN:VEVENT
DTSTART;TZID=Pacific/Auckland:20260331T090000
DTEND;TZID=Pacific/Auckland:20260331T103000
DTSTAMP:20260422T045950
CREATED:20240728T235311Z
LAST-MODIFIED:20240729T003110Z
UID:10014282-1774947600-1774953000@www.mouterehills.org.nz
SUMMARY:Tennis Coaching
DESCRIPTION:Group and individual lessons.  Contact Vanessa on 022 460 0320 for info.
URL:https://www.mouterehills.org.nz/event/tennis-coaching/2026-03-31/
LOCATION:Moutere Hills Community Centre
CATEGORIES:Social Sport
END:VEVENT
BEGIN:VEVENT
DTSTART;TZID=Pacific/Auckland:20260331T053000
DTEND;TZID=Pacific/Auckland:20260331T063000
DTSTAMP:20260422T045950
CREATED:20260104T220342Z
LAST-MODIFIED:20260104T220558Z
UID:10033476-1774935000-1774938600@www.mouterehills.org.nz
SUMMARY:Energise Group Fitness
DESCRIPTION:Start the day by working out with a fun bunch of motivated people who like to work out for better health and wellbeing. \nBookings essential. Contact Cindus on 0273587233.
URL:https://www.mouterehills.org.nz/event/energise-group-fitness-2-2-2/2026-03-31/
LOCATION:Moutere Hills Community Centre
CATEGORIES:Exercise Class
ORGANIZER;CN="Cindus Colonna":MAILTO:energiseme19@gmail.com
END:VEVENT
BEGIN:VEVENT
DTSTART;TZID=Pacific/Auckland:20260330T190000
DTEND;TZID=Pacific/Auckland:20260330T201500
DTSTAMP:20260422T045950
CREATED:20260106T212412Z
LAST-MODIFIED:20260106T212412Z
UID:10009489-1774897200-1774901700@www.mouterehills.org.nz
SUMMARY:Yoga with Kris
DESCRIPTION:Contact Kris on 0275252814 for more information or to book your spot.
URL:https://www.mouterehills.org.nz/event/dru-yoga-with-kris-2-3-2-2/2026-03-30/
LOCATION:Moutere Hills Community Centre
CATEGORIES:Community Recreation
END:VEVENT
BEGIN:VEVENT
DTSTART;TZID=Pacific/Auckland:20260330T184500
DTEND;TZID=Pacific/Auckland:20260330T200000
DTSTAMP:20260422T045950
CREATED:20260104T222315Z
LAST-MODIFIED:20260104T222315Z
UID:10033676-1774896300-1774900800@www.mouterehills.org.nz
SUMMARY:Social Netball
DESCRIPTION:
URL:https://www.mouterehills.org.nz/event/social-netball-2/2026-03-30/
LOCATION:Sports Hall
CATEGORIES:Social Sport
END:VEVENT
BEGIN:VEVENT
DTSTART;TZID=Pacific/Auckland:20260330T180000
DTEND;TZID=Pacific/Auckland:20260330T184500
DTSTAMP:20260422T045950
CREATED:20260106T214236Z
LAST-MODIFIED:20260106T214237Z
UID:10009226-1774893600-1774896300@www.mouterehills.org.nz
SUMMARY:Pilates
DESCRIPTION:Join Kris in our Pilates class.  Pilates is a low-impact workout which is great for strengthening your muscles though controlled\, repetitive movements\, building muscular endurance and stability.  This class will is not aimed at the beginner. \n$12 casual\, $80 for a 10 class concession card or free for fitness centre members.
URL:https://www.mouterehills.org.nz/event/pilates-3-2-2/2026-03-30/
LOCATION:Moutere Hills Community Centre
CATEGORIES:Exercise Class
END:VEVENT
BEGIN:VEVENT
DTSTART;TZID=Pacific/Auckland:20260330T153000
DTEND;TZID=Pacific/Auckland:20260330T181500
DTSTAMP:20260422T045950
CREATED:20260318T203052Z
LAST-MODIFIED:20260407T013850Z
UID:10034905-1774884600-1774894500@www.mouterehills.org.nz
SUMMARY:Creative Barefoot & Ballet Classes
DESCRIPTION:
URL:https://www.mouterehills.org.nz/event/creative-barefoot-ballet-classes/2026-03-30/
LOCATION:Sports Hall
CATEGORIES:Community Recreation
END:VEVENT
BEGIN:VEVENT
DTSTART;TZID=Pacific/Auckland:20260330T133000
DTEND;TZID=Pacific/Auckland:20260330T151500
DTSTAMP:20260422T045950
CREATED:20260318T190227Z
LAST-MODIFIED:20260318T190227Z
UID:10034708-1774877400-1774883700@www.mouterehills.org.nz
SUMMARY:Kids Ballroom/Latin Dance - Monday
DESCRIPTION:Classes For 6 to 9 year olds  1:30 to 2:30pm \nPrivate lessons till 3:15pm
URL:https://www.mouterehills.org.nz/event/kids-ballroom-latin-dance-monday-2/2026-03-30/
LOCATION:Sports Hall
CATEGORIES:Community Recreation
END:VEVENT
BEGIN:VEVENT
DTSTART;TZID=Pacific/Auckland:20260330T103000
DTEND;TZID=Pacific/Auckland:20260330T113000
DTSTAMP:20260422T045950
CREATED:20260318T185915Z
LAST-MODIFIED:20260318T185916Z
UID:10034634-1774866600-1774870200@www.mouterehills.org.nz
SUMMARY:Sit & Be Fit
DESCRIPTION:A chair based exercise class designed to improve mobility and build strength. \nAfter the session enjoy a relaxing cup of tea\, a friendly catch-up with others\, and once a month an inspiring guest speaker to support you stay active and able! \nCost $5 per session \nor free for Fitness Centre members.
URL:https://www.mouterehills.org.nz/event/sit-be-fit-2-2-2-2/2026-03-30/
LOCATION:Moutere Hills Community Centre
CATEGORIES:Exercise Class
END:VEVENT
BEGIN:VEVENT
DTSTART;TZID=Pacific/Auckland:20260330T100000
DTEND;TZID=Pacific/Auckland:20260330T130000
DTSTAMP:20260422T045950
CREATED:20260318T184933Z
LAST-MODIFIED:20260406T211449Z
UID:10034477-1774864800-1774875600@www.mouterehills.org.nz
SUMMARY:Playgroup
DESCRIPTION:Join us for a friendly\, relaxed morning where tamariki can play and explore while caregivers connect over a cuppa \n\n\n Monday & Friday | 10am–1pm\n Moutere Hills Community Centre\n Ages 0–6\nFree entry\n if you’re able\, please bring something small to share for morning kai\n\n\nWe look forward to seeing you there!\n\n\nContact Kaitlin or Anna\, email moutereplaygroup@gmail.com\n\, or follow our Facebook page for updates.
URL:https://www.mouterehills.org.nz/event/playgroup-4/2026-03-30/
LOCATION:Sports Hall
CATEGORIES:Community Recreation
END:VEVENT
BEGIN:VEVENT
DTSTART;TZID=Pacific/Auckland:20260330T090000
DTEND;TZID=Pacific/Auckland:20260330T094500
DTSTAMP:20260422T045950
CREATED:20250128T195500Z
LAST-MODIFIED:20250410T025234Z
UID:10025281-1774861200-1774863900@www.mouterehills.org.nz
SUMMARY:Re-Activate
DESCRIPTION:A social workout\, designed to improve overall mobility and fitness through a functional fitness approach. This class is suitable for those just getting back into exercise\, those with a lower level of fitness or those who simply want to enjoy social interaction. All exercises can be tailored to suit individual needs and will be set to a level in which individuals determine their own exercise intensity. $12 per person or free for Fitness Centre members. Concession cards also available\, $80 for 10 classes. \nBookings are essential.
URL:https://www.mouterehills.org.nz/event/re-activate-3/2026-03-30/
LOCATION:Moutere Hills Community Centre
CATEGORIES:Exercise Class
END:VEVENT
BEGIN:VEVENT
DTSTART;TZID=Pacific/Auckland:20260330T060000
DTEND;TZID=Pacific/Auckland:20260330T184500
DTSTAMP:20260422T045950
CREATED:20260104T215730Z
LAST-MODIFIED:20260104T215730Z
UID:10033365-1774850400-1774896300@www.mouterehills.org.nz
SUMMARY:Strength & Fitness Circuit - Mondays
DESCRIPTION:
URL:https://www.mouterehills.org.nz/event/strength-fitness-circuit-mondays/2026-03-30/
LOCATION:Sports Hall
CATEGORIES:Exercise Class
END:VEVENT
BEGIN:VEVENT
DTSTART;TZID=Pacific/Auckland:20260329T160000
DTEND;TZID=Pacific/Auckland:20260329T180000
DTSTAMP:20260422T045950
CREATED:20250731T020646Z
LAST-MODIFIED:20250731T020646Z
UID:10032589-1774800000-1774807200@www.mouterehills.org.nz
SUMMARY:Private Ballroom Lessons
DESCRIPTION:
URL:https://www.mouterehills.org.nz/event/private-ballroom-lessons/2026-03-29/
LOCATION:Sports Hall
CATEGORIES:Event
END:VEVENT
BEGIN:VEVENT
DTSTART;TZID=Pacific/Auckland:20260329T093000
DTEND;TZID=Pacific/Auckland:20260329T110000
DTSTAMP:20260422T045950
CREATED:20240729T034031Z
LAST-MODIFIED:20240729T034237Z
UID:10019152-1774776600-1774782000@www.mouterehills.org.nz
SUMMARY:Club Tennis Session
DESCRIPTION:Run by Upper Moutere Tennis Club. \nAll welcome.
URL:https://www.mouterehills.org.nz/event/club-tennis-session-2/2026-03-29/
CATEGORIES:Community Recreation
END:VEVENT
BEGIN:VEVENT
DTSTART;TZID=Pacific/Auckland:20260328T133000
DTEND;TZID=Pacific/Auckland:20260328T150000
DTSTAMP:20260422T045950
CREATED:20250320T221821Z
LAST-MODIFIED:20250530T032422Z
UID:10029193-1774704600-1774710000@www.mouterehills.org.nz
SUMMARY:Youth/ Adults Social Basketball
DESCRIPTION:Join in a fun session of Basketball. For all ability levels. Only $3.00/session
URL:https://www.mouterehills.org.nz/event/youth-adults-social-basketball-4/2026-03-28/
LOCATION:Moutere Hills Community Centre
CATEGORIES:Community Recreation
END:VEVENT
BEGIN:VEVENT
DTSTART;TZID=Pacific/Auckland:20260328T080000
DTEND;TZID=Pacific/Auckland:20260328T084500
DTSTAMP:20260422T045950
CREATED:20260318T184246Z
LAST-MODIFIED:20260318T184424Z
UID:10034435-1774684800-1774687500@www.mouterehills.org.nz
SUMMARY:Strength & Fitness - Saturday
DESCRIPTION:A circuit class designed to build strength & Fitness \nAll abilities welcome
URL:https://www.mouterehills.org.nz/event/strength-fitness-saturday/2026-03-28/
LOCATION:Sports Hall
CATEGORIES:Exercise Class
END:VEVENT
BEGIN:VEVENT
DTSTART;TZID=Pacific/Auckland:20260327T151500
DTEND;TZID=Pacific/Auckland:20260327T171500
DTSTAMP:20260422T045950
CREATED:20260318T185446Z
LAST-MODIFIED:20260407T014030Z
UID:10034594-1774624500-1774631700@www.mouterehills.org.nz
SUMMARY:Indoor Bowls
DESCRIPTION:We welcome anyone from 8yrs old and all abilities. \nAll gear provided\, just wear soft flat soled shoes.
URL:https://www.mouterehills.org.nz/event/indoor-bowls-3/2026-03-27/
LOCATION:Sports Hall
CATEGORIES:Exercise Class
END:VEVENT
BEGIN:VEVENT
DTSTART;TZID=Pacific/Auckland:20260327T100000
DTEND;TZID=Pacific/Auckland:20260327T111500
DTSTAMP:20260422T045950
CREATED:20260318T185130Z
LAST-MODIFIED:20260318T185130Z
UID:10034554-1774605600-1774610100@www.mouterehills.org.nz
SUMMARY:Yoga with Kris
DESCRIPTION:
URL:https://www.mouterehills.org.nz/event/yoga-with-kris-4/2026-03-27/
LOCATION:Function room
CATEGORIES:Exercise Class
END:VEVENT
BEGIN:VEVENT
DTSTART;TZID=Pacific/Auckland:20260327T090000
DTEND;TZID=Pacific/Auckland:20260327T094500
DTSTAMP:20260422T045950
CREATED:20240419T011921Z
LAST-MODIFIED:20250410T014732Z
UID:10012864-1774602000-1774604700@www.mouterehills.org.nz
SUMMARY:Pilates with Kris
DESCRIPTION:Join Kris for this great pilates class.  $12 for casual\, $80 for 10 class concession card or free for fitness centre members.
URL:https://www.mouterehills.org.nz/event/pilates-with-kris/2026-03-27/
LOCATION:Moutere Hills Community Centre
CATEGORIES:Exercise Class
END:VEVENT
BEGIN:VEVENT
DTSTART;TZID=Pacific/Auckland:20260327T081500
DTEND;TZID=Pacific/Auckland:20260327T090000
DTSTAMP:20260422T045950
CREATED:20260106T223323Z
LAST-MODIFIED:20260416T220611Z
UID:10012603-1774599300-1774602000@www.mouterehills.org.nz
SUMMARY:MetaFit and Core
DESCRIPTION:Join Fiona for some high intensity interval training. This short-and-sweet class will leave your metabolic rate boosted for hours afterwards. All exercises are body-weight and time-based to allow individuals to work to their own pace. Then finish the class with a core and pelvic muscle workout. \n$12 per person or free for Fitness Centre members. Concession cards available ($80 for 10 classes). \nBookings are essential. Visit the Fitness Centre calendar page to register.
URL:https://www.mouterehills.org.nz/event/metafit-and-core-with-fiona-2-2-2/2026-03-27/
LOCATION:Moutere Hills Community Centre
CATEGORIES:Exercise Class
END:VEVENT
BEGIN:VEVENT
DTSTART;TZID=Pacific/Auckland:20260326T190000
DTEND;TZID=Pacific/Auckland:20260326T213000
DTSTAMP:20260422T045950
CREATED:20250129T072538Z
LAST-MODIFIED:20250129T072538Z
UID:10026257-1774551600-1774560600@www.mouterehills.org.nz
SUMMARY:Adults Volleyball
DESCRIPTION:Competitive grade \ncost $3.00 \nContact Gordon 021 246 7366
URL:https://www.mouterehills.org.nz/event/adults-volleyball/2026-03-26/
LOCATION:Moutere Hills Community Centre
CATEGORIES:Social Sport
END:VEVENT
BEGIN:VEVENT
DTSTART;TZID=Pacific/Auckland:20260326T153000
DTEND;TZID=Pacific/Auckland:20260326T183000
DTSTAMP:20260422T045950
CREATED:20260104T223015Z
LAST-MODIFIED:20260406T211925Z
UID:10033767-1774539000-1774549800@www.mouterehills.org.nz
SUMMARY:Aerial Silks - Thursday
DESCRIPTION:Tasman Aerial Silks   \nIlka 022 085 5970                                    
URL:https://www.mouterehills.org.nz/event/aerial-silks-thursday/2026-03-26/
LOCATION:Sports Hall
CATEGORIES:Community Recreation
END:VEVENT
BEGIN:VEVENT
DTSTART;TZID=Pacific/Auckland:20260326T153000
DTEND;TZID=Pacific/Auckland:20260326T180000
DTSTAMP:20260422T045950
CREATED:20240729T031539Z
LAST-MODIFIED:20240729T031539Z
UID:10017551-1774539000-1774548000@www.mouterehills.org.nz
SUMMARY:Junior Tennis Coaching
DESCRIPTION:All levels welcome 5yrs old + and upwards. \nContact Vanessa on 022 424 3564 or claybrookestate@xtra.co.nz for more info or to book.
URL:https://www.mouterehills.org.nz/event/junior-tennis-coaching-3/2026-03-26/
LOCATION:Moutere Hills Community Centre
CATEGORIES:Community Recreation
END:VEVENT
BEGIN:VEVENT
DTSTART;TZID=Pacific/Auckland:20260326T103000
DTEND;TZID=Pacific/Auckland:20260326T120000
DTSTAMP:20260422T045950
CREATED:20260104T215252Z
LAST-MODIFIED:20260104T215252Z
UID:10033266-1774521000-1774526400@www.mouterehills.org.nz
SUMMARY:Ballroom - Homeschool class
DESCRIPTION:
URL:https://www.mouterehills.org.nz/event/ballroom-homeschool-class/2026-03-26/
LOCATION:Moutere Hills Community Centre
CATEGORIES:Community Recreation
END:VEVENT
BEGIN:VEVENT
DTSTART;TZID=Pacific/Auckland:20260326T093000
DTEND;TZID=Pacific/Auckland:20260326T113000
DTSTAMP:20260422T045950
CREATED:20260318T190432Z
LAST-MODIFIED:20260318T190432Z
UID:10034748-1774517400-1774524600@www.mouterehills.org.nz
SUMMARY:Dungeons n Dragons
DESCRIPTION:
URL:https://www.mouterehills.org.nz/event/dungeons-n-dragons/2026-03-26/
LOCATION:Community Room
CATEGORIES:Community Recreation
END:VEVENT
END:VCALENDAR