BEGIN:VCALENDAR
VERSION:2.0
PRODID:-//Moutere Hills Community Centre - ECPv6.15.19//NONSGML v1.0//EN
CALSCALE:GREGORIAN
METHOD:PUBLISH
X-WR-CALNAME:Moutere Hills Community Centre
X-ORIGINAL-URL:https://www.mouterehills.org.nz
X-WR-CALDESC:Events for Moutere Hills Community Centre
REFRESH-INTERVAL;VALUE=DURATION:PT1H
X-Robots-Tag:noindex
X-PUBLISHED-TTL:PT1H
BEGIN:VTIMEZONE
TZID:Pacific/Auckland
BEGIN:STANDARD
TZOFFSETFROM:+1300
TZOFFSETTO:+1200
TZNAME:NZST
DTSTART:20240406T140000
END:STANDARD
BEGIN:DAYLIGHT
TZOFFSETFROM:+1200
TZOFFSETTO:+1300
TZNAME:NZDT
DTSTART:20240928T140000
END:DAYLIGHT
BEGIN:STANDARD
TZOFFSETFROM:+1300
TZOFFSETTO:+1200
TZNAME:NZST
DTSTART:20250405T140000
END:STANDARD
BEGIN:DAYLIGHT
TZOFFSETFROM:+1200
TZOFFSETTO:+1300
TZNAME:NZDT
DTSTART:20250927T140000
END:DAYLIGHT
BEGIN:STANDARD
TZOFFSETFROM:+1300
TZOFFSETTO:+1200
TZNAME:NZST
DTSTART:20260404T140000
END:STANDARD
BEGIN:DAYLIGHT
TZOFFSETFROM:+1200
TZOFFSETTO:+1300
TZNAME:NZDT
DTSTART:20260926T140000
END:DAYLIGHT
BEGIN:STANDARD
TZOFFSETFROM:+1300
TZOFFSETTO:+1200
TZNAME:NZST
DTSTART:20270403T140000
END:STANDARD
BEGIN:DAYLIGHT
TZOFFSETFROM:+1200
TZOFFSETTO:+1300
TZNAME:NZDT
DTSTART:20270925T140000
END:DAYLIGHT
END:VTIMEZONE
BEGIN:VEVENT
DTSTART;TZID=Pacific/Auckland:20260318T173000
DTEND;TZID=Pacific/Auckland:20260318T181500
DTSTAMP:20260424T045906
CREATED:20250311T035808Z
LAST-MODIFIED:20250311T035808Z
UID:10028684-1773855000-1773857700@www.mouterehills.org.nz
SUMMARY:Core Focus
DESCRIPTION:Incorporates core stabilisation\, muscular endurance\, strength\, balance and coordination. \nBookings are essential. Visit the Fitness Centre calendar page to register.
URL:https://www.mouterehills.org.nz/event/core-focus-3/2026-03-18/
LOCATION:Moutere Hills Community Centre
CATEGORIES:Exercise Class
END:VEVENT
BEGIN:VEVENT
DTSTART;TZID=Pacific/Auckland:20260318T154500
DTEND;TZID=Pacific/Auckland:20260318T190000
DTSTAMP:20260424T045906
CREATED:20260105T054759Z
LAST-MODIFIED:20260406T211640Z
UID:10033807-1773848700-1773860400@www.mouterehills.org.nz
SUMMARY:Legacy Dance
DESCRIPTION:Classes from 3:45pm to 7:00pm \nContact Annie for more info \nemail: legacydancenz@gmail.com
URL:https://www.mouterehills.org.nz/event/legacy-dance-term-three-2/2026-03-18/
LOCATION:Moutere Hills Community Centre
CATEGORIES:Community Recreation
END:VEVENT
BEGIN:VEVENT
DTSTART;TZID=Pacific/Auckland:20260318T100000
DTEND;TZID=Pacific/Auckland:20260318T111500
DTSTAMP:20260424T045906
CREATED:20260106T212720Z
LAST-MODIFIED:20260106T212721Z
UID:10029860-1773828000-1773832500@www.mouterehills.org.nz
SUMMARY:Yoga with Kris
DESCRIPTION:Contact Kris on 0275252814 for more information or to book your spot.
URL:https://www.mouterehills.org.nz/event/yoga-with-kris-3/2026-03-18/
LOCATION:Moutere Hills Community Centre
CATEGORIES:Community Recreation
END:VEVENT
BEGIN:VEVENT
DTSTART;TZID=Pacific/Auckland:20260318T090000
DTEND;TZID=Pacific/Auckland:20260318T214500
DTSTAMP:20260424T045906
CREATED:20240729T010107Z
LAST-MODIFIED:20250410T014347Z
UID:10015098-1773824400-1773870300@www.mouterehills.org.nz
SUMMARY:Pilates
DESCRIPTION:Join Kris in our new Pilates class.  Pilates is a low-impact workout which is great for strenthening your muscles though controlled\, repetitive movements\, building muscular endurance and stability. \n$12 casual\, $80 for a 10 class concession card or free for fitness centre members.
URL:https://www.mouterehills.org.nz/event/pilates-3-3/2026-03-18/
LOCATION:Moutere Hills Community Centre
CATEGORIES:Exercise Class
END:VEVENT
BEGIN:VEVENT
DTSTART;TZID=Pacific/Auckland:20260318T084500
DTEND;TZID=Pacific/Auckland:20260318T094500
DTSTAMP:20260424T045906
CREATED:20260312T235445Z
LAST-MODIFIED:20260407T013946Z
UID:10034394-1773823500-1773827100@www.mouterehills.org.nz
SUMMARY:Powerhooping
DESCRIPTION:
URL:https://www.mouterehills.org.nz/event/powerhooping-4/2026-03-18/
LOCATION:Sports Hall
CATEGORIES:Exercise Class
END:VEVENT
BEGIN:VEVENT
DTSTART;TZID=Pacific/Auckland:20260318T080000
DTEND;TZID=Pacific/Auckland:20260318T084500
DTSTAMP:20260424T045906
CREATED:20240419T010735Z
LAST-MODIFIED:20260106T214122Z
UID:10012075-1773820800-1773823500@www.mouterehills.org.nz
SUMMARY:Pilates
DESCRIPTION:Join Kris in our Pilates class.  Pilates is a low-impact workout which is great for strengthening your muscles though controlled\, repetitive movements\, building muscular endurance and stability. Suitable for Beginners.  $12 casual\, $80 for a 10 class concession card or free for fitness centre members.
URL:https://www.mouterehills.org.nz/event/pilates-4/2026-03-18/
LOCATION:Moutere Hills Community Centre
CATEGORIES:Exercise Class
END:VEVENT
BEGIN:VEVENT
DTSTART;TZID=Pacific/Auckland:20260317T180000
DTEND;TZID=Pacific/Auckland:20260317T190000
DTSTAMP:20260424T045906
CREATED:20260104T221132Z
LAST-MODIFIED:20260104T221132Z
UID:10033609-1773770400-1773774000@www.mouterehills.org.nz
SUMMARY:Social Touch
DESCRIPTION:Contact Mark 027 4229949
URL:https://www.mouterehills.org.nz/event/social-touch/2026-03-17/
LOCATION:Moutere Hills Community Centre
CATEGORIES:Social Sport
END:VEVENT
BEGIN:VEVENT
DTSTART;TZID=Pacific/Auckland:20260317T173000
DTEND;TZID=Pacific/Auckland:20260317T200000
DTSTAMP:20260424T045906
CREATED:20260106T221736Z
LAST-MODIFIED:20260106T221736Z
UID:10034128-1773768600-1773777600@www.mouterehills.org.nz
SUMMARY:Ballroom/Latin Dance - Tuesday
DESCRIPTION:
URL:https://www.mouterehills.org.nz/event/ballroom-latin-dance-tuesday/2026-03-17/
LOCATION:Sports Hall
CATEGORIES:Community Recreation
END:VEVENT
BEGIN:VEVENT
DTSTART;TZID=Pacific/Auckland:20260317T153000
DTEND;TZID=Pacific/Auckland:20260317T173000
DTSTAMP:20260424T045906
CREATED:20260104T222701Z
LAST-MODIFIED:20260406T211833Z
UID:10033720-1773761400-1773768600@www.mouterehills.org.nz
SUMMARY:Aerial Silks - Tuesday
DESCRIPTION:Contact Ilka for more info\n\n\n\nlka Ph: 022 085 5970                      
URL:https://www.mouterehills.org.nz/event/aerial-silks-tuesday/2026-03-17/
LOCATION:Sports Hall
CATEGORIES:Community Recreation
END:VEVENT
BEGIN:VEVENT
DTSTART;TZID=Pacific/Auckland:20260317T103000
DTEND;TZID=Pacific/Auckland:20260317T114500
DTSTAMP:20260424T045906
CREATED:20260120T203419Z
LAST-MODIFIED:20260120T203419Z
UID:10034354-1773743400-1773747900@www.mouterehills.org.nz
SUMMARY:Pickleball
DESCRIPTION:Cost $3 per person – for all ages and abilities
URL:https://www.mouterehills.org.nz/event/pickleball-3-2/2026-03-17/
LOCATION:Sports Hall
CATEGORIES:Exercise Class
END:VEVENT
BEGIN:VEVENT
DTSTART;TZID=Pacific/Auckland:20260317T093000
DTEND;TZID=Pacific/Auckland:20260317T101500
DTSTAMP:20260424T045906
CREATED:20250129T074446Z
LAST-MODIFIED:20260318T190636Z
UID:10026704-1773739800-1773742500@www.mouterehills.org.nz
SUMMARY:Stretch & Flex with Vicki
DESCRIPTION:Increase flexibility and mobility with slow moving range of motion stretching. Suitable for all ages and abilities. $12 per class or free for Fitness Centre members. Concession cards are also available ($80 for 10 classes). \nBookings essential. Visit the members portal to book.
URL:https://www.mouterehills.org.nz/event/stretch-flex-with-vicki-4/2026-03-17/
LOCATION:Moutere Hills Community Centre
CATEGORIES:Exercise Class
END:VEVENT
BEGIN:VEVENT
DTSTART;TZID=Pacific/Auckland:20260317T090000
DTEND;TZID=Pacific/Auckland:20260317T150000
DTSTAMP:20260424T045906
CREATED:20240418T235342Z
LAST-MODIFIED:20240418T235342Z
UID:10010013-1773738000-1773759600@www.mouterehills.org.nz
SUMMARY:Quirky Quilters
DESCRIPTION:Thursdays 10:00am-2:00pm. \nPlease contact the office on 03 5432516 for more details.
URL:https://www.mouterehills.org.nz/event/quirky-quilters-2-2-2/2026-03-17/
CATEGORIES:Community Recreation
END:VEVENT
BEGIN:VEVENT
DTSTART;TZID=Pacific/Auckland:20260316T184500
DTEND;TZID=Pacific/Auckland:20260316T200000
DTSTAMP:20260424T045906
CREATED:20260104T222315Z
LAST-MODIFIED:20260104T222315Z
UID:10033674-1773686700-1773691200@www.mouterehills.org.nz
SUMMARY:Social Netball
DESCRIPTION:
URL:https://www.mouterehills.org.nz/event/social-netball-2/2026-03-16/
LOCATION:Sports Hall
CATEGORIES:Social Sport
END:VEVENT
BEGIN:VEVENT
DTSTART;TZID=Pacific/Auckland:20260316T143000
DTEND;TZID=Pacific/Auckland:20260316T151500
DTSTAMP:20260424T045906
CREATED:20260104T215944Z
LAST-MODIFIED:20260104T215944Z
UID:10033411-1773671400-1773674100@www.mouterehills.org.nz
SUMMARY:Kids Ballroom/Latin Dance - Monday
DESCRIPTION:
URL:https://www.mouterehills.org.nz/event/kids-ballroom-latin-dance-monday/2026-03-16/
LOCATION:Sports Hall
CATEGORIES:Community Recreation
END:VEVENT
BEGIN:VEVENT
DTSTART;TZID=Pacific/Auckland:20260316T090000
DTEND;TZID=Pacific/Auckland:20260316T094500
DTSTAMP:20260424T045906
CREATED:20250128T195500Z
LAST-MODIFIED:20250410T025234Z
UID:10025279-1773651600-1773654300@www.mouterehills.org.nz
SUMMARY:Re-Activate
DESCRIPTION:A social workout\, designed to improve overall mobility and fitness through a functional fitness approach. This class is suitable for those just getting back into exercise\, those with a lower level of fitness or those who simply want to enjoy social interaction. All exercises can be tailored to suit individual needs and will be set to a level in which individuals determine their own exercise intensity. $12 per person or free for Fitness Centre members. Concession cards also available\, $80 for 10 classes. \nBookings are essential.
URL:https://www.mouterehills.org.nz/event/re-activate-3/2026-03-16/
LOCATION:Moutere Hills Community Centre
CATEGORIES:Exercise Class
END:VEVENT
BEGIN:VEVENT
DTSTART;TZID=Pacific/Auckland:20260316T060000
DTEND;TZID=Pacific/Auckland:20260316T184500
DTSTAMP:20260424T045906
CREATED:20260104T215730Z
LAST-MODIFIED:20260104T215730Z
UID:10033363-1773640800-1773686700@www.mouterehills.org.nz
SUMMARY:Strength & Fitness Circuit - Mondays
DESCRIPTION:
URL:https://www.mouterehills.org.nz/event/strength-fitness-circuit-mondays/2026-03-16/
LOCATION:Sports Hall
CATEGORIES:Exercise Class
END:VEVENT
BEGIN:VEVENT
DTSTART;TZID=Pacific/Auckland:20260313T183000
DTEND;TZID=Pacific/Auckland:20260313T203000
DTSTAMP:20260424T045906
CREATED:20240729T032733Z
LAST-MODIFIED:20240729T033053Z
UID:10018744-1773426600-1773433800@www.mouterehills.org.nz
SUMMARY:Ballroom / Latin Dance Class
DESCRIPTION:Join Becks for on the monthly practice Night.  Practice session runs from 6:30pm – 8:30pm. 2nd Friday of each month \n$10 per session.  For more details contact Becks on 021482263
URL:https://www.mouterehills.org.nz/event/ballroom-latin-dance-class-2/2026-03-13/
LOCATION:Moutere Hills Community Centre
CATEGORIES:Social Sport
END:VEVENT
BEGIN:VEVENT
DTSTART;TZID=Pacific/Auckland:20260308T180000
DTEND;TZID=Pacific/Auckland:20260308T200000
DTSTAMP:20260424T045906
CREATED:20250721T224103Z
LAST-MODIFIED:20250721T224103Z
UID:10032419-1772992800-1773000000@www.mouterehills.org.nz
SUMMARY:Dance Classes - Ballroom/Latin
DESCRIPTION:Come along to a fun adult beginners Ballroom dance class \nContact Becks on dancingbecks@hotmail.com or cell 021482263
URL:https://www.mouterehills.org.nz/event/dance-classes-ballroom-latin/2026-03-08/
LOCATION:Moutere Hills Community Centre
CATEGORIES:Community Recreation
END:VEVENT
BEGIN:VEVENT
DTSTART;VALUE=DATE:20260206
DTEND;VALUE=DATE:20260207
DTSTAMP:20260424T045906
CREATED:20260115T000634Z
LAST-MODIFIED:20260115T000634Z
UID:10034347-1770336000-1770422399@www.mouterehills.org.nz
SUMMARY:Waitangi day
DESCRIPTION:
URL:https://www.mouterehills.org.nz/event/waitangi-day/
CATEGORIES:Event
END:VEVENT
BEGIN:VEVENT
DTSTART;VALUE=DATE:20260202
DTEND;VALUE=DATE:20260203
DTSTAMP:20260424T045906
CREATED:20260115T000555Z
LAST-MODIFIED:20260115T000555Z
UID:10034346-1769990400-1770076799@www.mouterehills.org.nz
SUMMARY:Nelson anniversary day
DESCRIPTION:
URL:https://www.mouterehills.org.nz/event/nelson-anniversary-day/
CATEGORIES:Event
END:VEVENT
BEGIN:VEVENT
DTSTART;TZID=Pacific/Auckland:20260117T091500
DTEND;TZID=Pacific/Auckland:20260117T103000
DTSTAMP:20260424T045906
CREATED:20260106T213037Z
LAST-MODIFIED:20260106T213038Z
UID:10033181-1768641300-1768645800@www.mouterehills.org.nz
SUMMARY:Yoga Flow - with Angie
DESCRIPTION:Register by text or WHATSAPP \nPh: 027 666 9642
URL:https://www.mouterehills.org.nz/event/yoga-flow-with-angie-2/
LOCATION:Moutere Hills Community Centre
CATEGORIES:Community Recreation
END:VEVENT
BEGIN:VEVENT
DTSTART;TZID=Pacific/Auckland:20260109T080000
DTEND;TZID=Pacific/Auckland:20260111T170000
DTSTAMP:20260424T045906
CREATED:20250310T210602Z
LAST-MODIFIED:20250310T210602Z
UID:10028017-1767945600-1768150800@www.mouterehills.org.nz
SUMMARY:Country Music Festival weekend
DESCRIPTION:Whole centre booking \nContact MHCC for more details
URL:https://www.mouterehills.org.nz/event/country-music-festival-weekend/
LOCATION:Moutere Hills Community Centre
CATEGORIES:Event
END:VEVENT
BEGIN:VEVENT
DTSTART;TZID=Pacific/Auckland:20260101T180000
DTEND;TZID=Pacific/Auckland:20260101T184500
DTSTAMP:20260424T045906
CREATED:20250320T200151Z
LAST-MODIFIED:20250320T200151Z
UID:10028863-1767290400-1767293100@www.mouterehills.org.nz
SUMMARY:Box'n burn
DESCRIPTION:
URL:https://www.mouterehills.org.nz/event/boxn-burn/2026-01-01/
LOCATION:Moutere Hills Community Centre
CATEGORIES:Exercise Class
END:VEVENT
BEGIN:VEVENT
DTSTART;TZID=Pacific/Auckland:20251231T154500
DTEND;TZID=Pacific/Auckland:20251231T190000
DTSTAMP:20260424T045906
CREATED:20250721T221734Z
LAST-MODIFIED:20260105T022734Z
UID:10032360-1767195900-1767207600@www.mouterehills.org.nz
SUMMARY:Legacy Dance
DESCRIPTION:Classes from 3:45pm to 7:00pm \nContact Annie for more info \nemail: legacydancenz@gmail.com
URL:https://www.mouterehills.org.nz/event/legacy-dance-term-three/2025-12-31/
LOCATION:Moutere Hills Community Centre
CATEGORIES:Community Recreation
END:VEVENT
BEGIN:VEVENT
DTSTART;TZID=Pacific/Auckland:20251230T080000
DTEND;TZID=Pacific/Auckland:20260102T170000
DTSTAMP:20260424T045906
CREATED:20250310T210337Z
LAST-MODIFIED:20250310T210337Z
UID:10028016-1767081600-1767373200@www.mouterehills.org.nz
SUMMARY:NZMCA New Year Rally
DESCRIPTION:Whole Centre Booking \nContact MHCC for more details
URL:https://www.mouterehills.org.nz/event/nzmca-new-year-rally/
LOCATION:Moutere Hills Community Centre
CATEGORIES:Event
END:VEVENT
BEGIN:VEVENT
DTSTART;TZID=Pacific/Auckland:20251222T184500
DTEND;TZID=Pacific/Auckland:20251222T200000
DTSTAMP:20260424T045906
CREATED:20250426T032152Z
LAST-MODIFIED:20250721T234017Z
UID:10030788-1766429100-1766433600@www.mouterehills.org.nz
SUMMARY:Social Netball
DESCRIPTION:Join in a fun session of Netball.  For all ages & ability levels.  Only $3 per session.
URL:https://www.mouterehills.org.nz/event/social-netball/2025-12-22/
LOCATION:Moutere Hills Community Centre
CATEGORIES:Community Recreation
END:VEVENT
BEGIN:VEVENT
DTSTART;TZID=Pacific/Auckland:20251222T103000
DTEND;TZID=Pacific/Auckland:20251222T113000
DTSTAMP:20260424T045906
CREATED:20250128T200713Z
LAST-MODIFIED:20251127T025844Z
UID:10033256-1766399400-1766403000@www.mouterehills.org.nz
SUMMARY:Pickleball
DESCRIPTION:Come along and give this new sport a go. \nSuitable for all ability levels \nCost $3 per session
URL:https://www.mouterehills.org.nz/event/pickleball-2/2025-12-22/
CATEGORIES:Exercise Class
END:VEVENT
BEGIN:VEVENT
DTSTART;TZID=Pacific/Auckland:20251219T163000
DTEND;TZID=Pacific/Auckland:20251219T183000
DTSTAMP:20260424T045906
CREATED:20250426T234936Z
LAST-MODIFIED:20250427T000511Z
UID:10031095-1766161800-1766169000@www.mouterehills.org.nz
SUMMARY:Aerial Silks (3)
DESCRIPTION:Class times as follows: \n4:30 to 5:30pm \nTeens & Adults 5:30 to 6:30pm \nContact Ilka for more information – 022 085 5970 or email: tasman silks@gmail.com
URL:https://www.mouterehills.org.nz/event/aerial-silks-3/2025-12-19/
LOCATION:Moutere Hills Community Centre
CATEGORIES:Exercise Class
END:VEVENT
BEGIN:VEVENT
DTSTART;TZID=Pacific/Auckland:20251219T100000
DTEND;TZID=Pacific/Auckland:20251219T120000
DTSTAMP:20260424T045906
CREATED:20250426T032010Z
LAST-MODIFIED:20250731T020135Z
UID:10030753-1766138400-1766145600@www.mouterehills.org.nz
SUMMARY:Playgroup
DESCRIPTION:
URL:https://www.mouterehills.org.nz/event/playgroup-3/2025-12-19/
LOCATION:Moutere Hills Community Centre
CATEGORIES:Community Recreation
END:VEVENT
BEGIN:VEVENT
DTSTART;TZID=Pacific/Auckland:20251218T153000
DTEND;TZID=Pacific/Auckland:20251218T173000
DTSTAMP:20260424T045906
CREATED:20250506T204506Z
LAST-MODIFIED:20250506T204630Z
UID:10031832-1766071800-1766079000@www.mouterehills.org.nz
SUMMARY:Aerial Silks (2)
DESCRIPTION:Class times as follows: \n3:30pm – 4:30pm Children’s class\n4:30pm – 5:30pm Teens and Adults\nContact Ilka for more information – 022 085 5970 or email: tasman silks@gmail.com
URL:https://www.mouterehills.org.nz/event/aerial-silks-2/2025-12-18/
LOCATION:Sports Hall
CATEGORIES:Exercise Class
END:VEVENT
END:VCALENDAR