BEGIN:VCALENDAR
VERSION:2.0
PRODID:-//Moutere Hills Community Centre - ECPv6.15.19//NONSGML v1.0//EN
CALSCALE:GREGORIAN
METHOD:PUBLISH
X-WR-CALNAME:Moutere Hills Community Centre
X-ORIGINAL-URL:https://www.mouterehills.org.nz
X-WR-CALDESC:Events for Moutere Hills Community Centre
REFRESH-INTERVAL;VALUE=DURATION:PT1H
X-Robots-Tag:noindex
X-PUBLISHED-TTL:PT1H
BEGIN:VTIMEZONE
TZID:Pacific/Auckland
BEGIN:STANDARD
TZOFFSETFROM:+1300
TZOFFSETTO:+1200
TZNAME:NZST
DTSTART:20240406T140000
END:STANDARD
BEGIN:DAYLIGHT
TZOFFSETFROM:+1200
TZOFFSETTO:+1300
TZNAME:NZDT
DTSTART:20240928T140000
END:DAYLIGHT
BEGIN:STANDARD
TZOFFSETFROM:+1300
TZOFFSETTO:+1200
TZNAME:NZST
DTSTART:20250405T140000
END:STANDARD
BEGIN:DAYLIGHT
TZOFFSETFROM:+1200
TZOFFSETTO:+1300
TZNAME:NZDT
DTSTART:20250927T140000
END:DAYLIGHT
BEGIN:STANDARD
TZOFFSETFROM:+1300
TZOFFSETTO:+1200
TZNAME:NZST
DTSTART:20260404T140000
END:STANDARD
BEGIN:DAYLIGHT
TZOFFSETFROM:+1200
TZOFFSETTO:+1300
TZNAME:NZDT
DTSTART:20260926T140000
END:DAYLIGHT
BEGIN:STANDARD
TZOFFSETFROM:+1300
TZOFFSETTO:+1200
TZNAME:NZST
DTSTART:20270403T140000
END:STANDARD
BEGIN:DAYLIGHT
TZOFFSETFROM:+1200
TZOFFSETTO:+1300
TZNAME:NZDT
DTSTART:20270925T140000
END:DAYLIGHT
END:VTIMEZONE
BEGIN:VEVENT
DTSTART;TZID=Pacific/Auckland:20260303T180000
DTEND;TZID=Pacific/Auckland:20260303T190000
DTSTAMP:20260420T111410
CREATED:20260104T221132Z
LAST-MODIFIED:20260104T221132Z
UID:10033607-1772560800-1772564400@www.mouterehills.org.nz
SUMMARY:Social Touch
DESCRIPTION:Contact Mark 027 4229949
URL:https://www.mouterehills.org.nz/event/social-touch/2026-03-03/
LOCATION:Moutere Hills Community Centre
CATEGORIES:Social Sport
END:VEVENT
BEGIN:VEVENT
DTSTART;TZID=Pacific/Auckland:20260303T173000
DTEND;TZID=Pacific/Auckland:20260303T200000
DTSTAMP:20260420T111410
CREATED:20260106T221736Z
LAST-MODIFIED:20260106T221736Z
UID:10034126-1772559000-1772568000@www.mouterehills.org.nz
SUMMARY:Ballroom/Latin Dance - Tuesday
DESCRIPTION:
URL:https://www.mouterehills.org.nz/event/ballroom-latin-dance-tuesday/2026-03-03/
LOCATION:Sports Hall
CATEGORIES:Community Recreation
END:VEVENT
BEGIN:VEVENT
DTSTART;TZID=Pacific/Auckland:20260303T153000
DTEND;TZID=Pacific/Auckland:20260303T173000
DTSTAMP:20260420T111410
CREATED:20260104T222701Z
LAST-MODIFIED:20260406T211833Z
UID:10033718-1772551800-1772559000@www.mouterehills.org.nz
SUMMARY:Aerial Silks - Tuesday
DESCRIPTION:Contact Ilka for more info\n\n\n\nlka Ph: 022 085 5970                      
URL:https://www.mouterehills.org.nz/event/aerial-silks-tuesday/2026-03-03/
LOCATION:Sports Hall
CATEGORIES:Community Recreation
END:VEVENT
BEGIN:VEVENT
DTSTART;TZID=Pacific/Auckland:20260303T103000
DTEND;TZID=Pacific/Auckland:20260303T114500
DTSTAMP:20260420T111410
CREATED:20260120T203419Z
LAST-MODIFIED:20260120T203419Z
UID:10034352-1772533800-1772538300@www.mouterehills.org.nz
SUMMARY:Pickleball
DESCRIPTION:Cost $3 per person – for all ages and abilities
URL:https://www.mouterehills.org.nz/event/pickleball-3-2/2026-03-03/
LOCATION:Sports Hall
CATEGORIES:Exercise Class
END:VEVENT
BEGIN:VEVENT
DTSTART;TZID=Pacific/Auckland:20260303T093000
DTEND;TZID=Pacific/Auckland:20260303T101500
DTSTAMP:20260420T111410
CREATED:20250129T074446Z
LAST-MODIFIED:20260318T190636Z
UID:10026702-1772530200-1772532900@www.mouterehills.org.nz
SUMMARY:Stretch & Flex with Vicki
DESCRIPTION:Increase flexibility and mobility with slow moving range of motion stretching. Suitable for all ages and abilities. $12 per class or free for Fitness Centre members. Concession cards are also available ($80 for 10 classes). \nBookings essential. Visit the members portal to book.
URL:https://www.mouterehills.org.nz/event/stretch-flex-with-vicki-4/2026-03-03/
LOCATION:Moutere Hills Community Centre
CATEGORIES:Exercise Class
END:VEVENT
BEGIN:VEVENT
DTSTART;TZID=Pacific/Auckland:20260303T090000
DTEND;TZID=Pacific/Auckland:20260303T150000
DTSTAMP:20260420T111410
CREATED:20240418T235342Z
LAST-MODIFIED:20240418T235342Z
UID:10010011-1772528400-1772550000@www.mouterehills.org.nz
SUMMARY:Quirky Quilters
DESCRIPTION:Thursdays 10:00am-2:00pm. \nPlease contact the office on 03 5432516 for more details.
URL:https://www.mouterehills.org.nz/event/quirky-quilters-2-2-2/2026-03-03/
CATEGORIES:Community Recreation
END:VEVENT
BEGIN:VEVENT
DTSTART;TZID=Pacific/Auckland:20260302T184500
DTEND;TZID=Pacific/Auckland:20260302T200000
DTSTAMP:20260420T111410
CREATED:20260104T222315Z
LAST-MODIFIED:20260104T222315Z
UID:10033672-1772477100-1772481600@www.mouterehills.org.nz
SUMMARY:Social Netball
DESCRIPTION:
URL:https://www.mouterehills.org.nz/event/social-netball-2/2026-03-02/
LOCATION:Sports Hall
CATEGORIES:Social Sport
END:VEVENT
BEGIN:VEVENT
DTSTART;TZID=Pacific/Auckland:20260302T143000
DTEND;TZID=Pacific/Auckland:20260302T151500
DTSTAMP:20260420T111410
CREATED:20260104T215944Z
LAST-MODIFIED:20260104T215944Z
UID:10033409-1772461800-1772464500@www.mouterehills.org.nz
SUMMARY:Kids Ballroom/Latin Dance - Monday
DESCRIPTION:
URL:https://www.mouterehills.org.nz/event/kids-ballroom-latin-dance-monday/2026-03-02/
LOCATION:Sports Hall
CATEGORIES:Community Recreation
END:VEVENT
BEGIN:VEVENT
DTSTART;TZID=Pacific/Auckland:20260302T090000
DTEND;TZID=Pacific/Auckland:20260302T094500
DTSTAMP:20260420T111410
CREATED:20250128T195500Z
LAST-MODIFIED:20250410T025234Z
UID:10025277-1772442000-1772444700@www.mouterehills.org.nz
SUMMARY:Re-Activate
DESCRIPTION:A social workout\, designed to improve overall mobility and fitness through a functional fitness approach. This class is suitable for those just getting back into exercise\, those with a lower level of fitness or those who simply want to enjoy social interaction. All exercises can be tailored to suit individual needs and will be set to a level in which individuals determine their own exercise intensity. $12 per person or free for Fitness Centre members. Concession cards also available\, $80 for 10 classes. \nBookings are essential.
URL:https://www.mouterehills.org.nz/event/re-activate-3/2026-03-02/
LOCATION:Moutere Hills Community Centre
CATEGORIES:Exercise Class
END:VEVENT
BEGIN:VEVENT
DTSTART;TZID=Pacific/Auckland:20260302T060000
DTEND;TZID=Pacific/Auckland:20260302T184500
DTSTAMP:20260420T111410
CREATED:20260104T215730Z
LAST-MODIFIED:20260104T215730Z
UID:10033361-1772431200-1772477100@www.mouterehills.org.nz
SUMMARY:Strength & Fitness Circuit - Mondays
DESCRIPTION:
URL:https://www.mouterehills.org.nz/event/strength-fitness-circuit-mondays/2026-03-02/
LOCATION:Sports Hall
CATEGORIES:Exercise Class
END:VEVENT
BEGIN:VEVENT
DTSTART;TZID=Pacific/Auckland:20260213T183000
DTEND;TZID=Pacific/Auckland:20260213T203000
DTSTAMP:20260420T111410
CREATED:20240729T032733Z
LAST-MODIFIED:20240729T033053Z
UID:10018743-1771007400-1771014600@www.mouterehills.org.nz
SUMMARY:Ballroom / Latin Dance Class
DESCRIPTION:Join Becks for on the monthly practice Night.  Practice session runs from 6:30pm – 8:30pm. 2nd Friday of each month \n$10 per session.  For more details contact Becks on 021482263
URL:https://www.mouterehills.org.nz/event/ballroom-latin-dance-class-2/2026-02-13/
LOCATION:Moutere Hills Community Centre
CATEGORIES:Social Sport
END:VEVENT
BEGIN:VEVENT
DTSTART;TZID=Pacific/Auckland:20260211T154500
DTEND;TZID=Pacific/Auckland:20260211T190000
DTSTAMP:20260420T111410
CREATED:20260105T054759Z
LAST-MODIFIED:20260406T211640Z
UID:10033806-1770824700-1770836400@www.mouterehills.org.nz
SUMMARY:Legacy Dance
DESCRIPTION:Classes from 3:45pm to 7:00pm \nContact Annie for more info \nemail: legacydancenz@gmail.com
URL:https://www.mouterehills.org.nz/event/legacy-dance-term-three-2/2026-02-11/
LOCATION:Moutere Hills Community Centre
CATEGORIES:Community Recreation
END:VEVENT
BEGIN:VEVENT
DTSTART;VALUE=DATE:20260206
DTEND;VALUE=DATE:20260207
DTSTAMP:20260420T111410
CREATED:20260115T000634Z
LAST-MODIFIED:20260115T000634Z
UID:10034347-1770336000-1770422399@www.mouterehills.org.nz
SUMMARY:Waitangi day
DESCRIPTION:
URL:https://www.mouterehills.org.nz/event/waitangi-day/
CATEGORIES:Event
END:VEVENT
BEGIN:VEVENT
DTSTART;VALUE=DATE:20260202
DTEND;VALUE=DATE:20260203
DTSTAMP:20260420T111410
CREATED:20260115T000555Z
LAST-MODIFIED:20260115T000555Z
UID:10034346-1769990400-1770076799@www.mouterehills.org.nz
SUMMARY:Nelson anniversary day
DESCRIPTION:
URL:https://www.mouterehills.org.nz/event/nelson-anniversary-day/
CATEGORIES:Event
END:VEVENT
BEGIN:VEVENT
DTSTART;TZID=Pacific/Auckland:20260117T091500
DTEND;TZID=Pacific/Auckland:20260117T103000
DTSTAMP:20260420T111410
CREATED:20260106T213037Z
LAST-MODIFIED:20260106T213038Z
UID:10033181-1768641300-1768645800@www.mouterehills.org.nz
SUMMARY:Yoga Flow - with Angie
DESCRIPTION:Register by text or WHATSAPP \nPh: 027 666 9642
URL:https://www.mouterehills.org.nz/event/yoga-flow-with-angie-2/
LOCATION:Moutere Hills Community Centre
CATEGORIES:Community Recreation
END:VEVENT
BEGIN:VEVENT
DTSTART;TZID=Pacific/Auckland:20260109T080000
DTEND;TZID=Pacific/Auckland:20260111T170000
DTSTAMP:20260420T111410
CREATED:20250310T210602Z
LAST-MODIFIED:20250310T210602Z
UID:10028017-1767945600-1768150800@www.mouterehills.org.nz
SUMMARY:Country Music Festival weekend
DESCRIPTION:Whole centre booking \nContact MHCC for more details
URL:https://www.mouterehills.org.nz/event/country-music-festival-weekend/
LOCATION:Moutere Hills Community Centre
CATEGORIES:Event
END:VEVENT
BEGIN:VEVENT
DTSTART;TZID=Pacific/Auckland:20260101T180000
DTEND;TZID=Pacific/Auckland:20260101T184500
DTSTAMP:20260420T111410
CREATED:20250320T200151Z
LAST-MODIFIED:20250320T200151Z
UID:10028863-1767290400-1767293100@www.mouterehills.org.nz
SUMMARY:Box'n burn
DESCRIPTION:
URL:https://www.mouterehills.org.nz/event/boxn-burn/2026-01-01/
LOCATION:Moutere Hills Community Centre
CATEGORIES:Exercise Class
END:VEVENT
BEGIN:VEVENT
DTSTART;TZID=Pacific/Auckland:20251231T154500
DTEND;TZID=Pacific/Auckland:20251231T190000
DTSTAMP:20260420T111410
CREATED:20250721T221734Z
LAST-MODIFIED:20260105T022734Z
UID:10032360-1767195900-1767207600@www.mouterehills.org.nz
SUMMARY:Legacy Dance
DESCRIPTION:Classes from 3:45pm to 7:00pm \nContact Annie for more info \nemail: legacydancenz@gmail.com
URL:https://www.mouterehills.org.nz/event/legacy-dance-term-three/2025-12-31/
LOCATION:Moutere Hills Community Centre
CATEGORIES:Community Recreation
END:VEVENT
BEGIN:VEVENT
DTSTART;TZID=Pacific/Auckland:20251230T080000
DTEND;TZID=Pacific/Auckland:20260102T170000
DTSTAMP:20260420T111410
CREATED:20250310T210337Z
LAST-MODIFIED:20250310T210337Z
UID:10028016-1767081600-1767373200@www.mouterehills.org.nz
SUMMARY:NZMCA New Year Rally
DESCRIPTION:Whole Centre Booking \nContact MHCC for more details
URL:https://www.mouterehills.org.nz/event/nzmca-new-year-rally/
LOCATION:Moutere Hills Community Centre
CATEGORIES:Event
END:VEVENT
BEGIN:VEVENT
DTSTART;TZID=Pacific/Auckland:20251222T184500
DTEND;TZID=Pacific/Auckland:20251222T200000
DTSTAMP:20260420T111410
CREATED:20250426T032152Z
LAST-MODIFIED:20250721T234017Z
UID:10030788-1766429100-1766433600@www.mouterehills.org.nz
SUMMARY:Social Netball
DESCRIPTION:Join in a fun session of Netball.  For all ages & ability levels.  Only $3 per session.
URL:https://www.mouterehills.org.nz/event/social-netball/2025-12-22/
LOCATION:Moutere Hills Community Centre
CATEGORIES:Community Recreation
END:VEVENT
BEGIN:VEVENT
DTSTART;TZID=Pacific/Auckland:20251222T103000
DTEND;TZID=Pacific/Auckland:20251222T113000
DTSTAMP:20260420T111410
CREATED:20250128T200713Z
LAST-MODIFIED:20251127T025844Z
UID:10033256-1766399400-1766403000@www.mouterehills.org.nz
SUMMARY:Pickleball
DESCRIPTION:Come along and give this new sport a go. \nSuitable for all ability levels \nCost $3 per session
URL:https://www.mouterehills.org.nz/event/pickleball-2/2025-12-22/
CATEGORIES:Exercise Class
END:VEVENT
BEGIN:VEVENT
DTSTART;TZID=Pacific/Auckland:20251219T163000
DTEND;TZID=Pacific/Auckland:20251219T183000
DTSTAMP:20260420T111410
CREATED:20250426T234936Z
LAST-MODIFIED:20250427T000511Z
UID:10031095-1766161800-1766169000@www.mouterehills.org.nz
SUMMARY:Aerial Silks (3)
DESCRIPTION:Class times as follows: \n4:30 to 5:30pm \nTeens & Adults 5:30 to 6:30pm \nContact Ilka for more information – 022 085 5970 or email: tasman silks@gmail.com
URL:https://www.mouterehills.org.nz/event/aerial-silks-3/2025-12-19/
LOCATION:Moutere Hills Community Centre
CATEGORIES:Exercise Class
END:VEVENT
BEGIN:VEVENT
DTSTART;TZID=Pacific/Auckland:20251219T100000
DTEND;TZID=Pacific/Auckland:20251219T120000
DTSTAMP:20260420T111410
CREATED:20250426T032010Z
LAST-MODIFIED:20250731T020135Z
UID:10030753-1766138400-1766145600@www.mouterehills.org.nz
SUMMARY:Playgroup
DESCRIPTION:
URL:https://www.mouterehills.org.nz/event/playgroup-3/2025-12-19/
LOCATION:Moutere Hills Community Centre
CATEGORIES:Community Recreation
END:VEVENT
BEGIN:VEVENT
DTSTART;TZID=Pacific/Auckland:20251218T153000
DTEND;TZID=Pacific/Auckland:20251218T173000
DTSTAMP:20260420T111410
CREATED:20250506T204506Z
LAST-MODIFIED:20250506T204630Z
UID:10031832-1766071800-1766079000@www.mouterehills.org.nz
SUMMARY:Aerial Silks (2)
DESCRIPTION:Class times as follows: \n3:30pm – 4:30pm Children’s class\n4:30pm – 5:30pm Teens and Adults\nContact Ilka for more information – 022 085 5970 or email: tasman silks@gmail.com
URL:https://www.mouterehills.org.nz/event/aerial-silks-2/2025-12-18/
LOCATION:Sports Hall
CATEGORIES:Exercise Class
END:VEVENT
BEGIN:VEVENT
DTSTART;TZID=Pacific/Auckland:20251217T084500
DTEND;TZID=Pacific/Auckland:20251217T094500
DTSTAMP:20260420T111410
CREATED:20250427T001414Z
LAST-MODIFIED:20250427T001702Z
UID:10031390-1765961100-1765964700@www.mouterehills.org.nz
SUMMARY:Powerhooping
DESCRIPTION:A fun exercise class using specialised hoops to get you moving and stretching. Powerhoops also available for hire on the day and or for purchase. \nContact Sara on 021 069 7522 or powerhoopnelson@gmail.com for more information. \nBook on-line here: Book on-line \nor paste this url into your browser: https://bookwhen.com/powerhoopnelson
URL:https://www.mouterehills.org.nz/event/powerhooping-3/2025-12-17/
LOCATION:Moutere Hills Community Centre
CATEGORIES:Exercise Class
ORGANIZER;CN="Sara":MAILTO:powerhoopingnelson@gmail.com
END:VEVENT
BEGIN:VEVENT
DTSTART;TZID=Pacific/Auckland:20251216T173000
DTEND;TZID=Pacific/Auckland:20251216T210000
DTSTAMP:20260420T111410
CREATED:20250427T232656Z
LAST-MODIFIED:20250427T232844Z
UID:10031751-1765906200-1765918800@www.mouterehills.org.nz
SUMMARY:Dance Classes Ballroom/Latin - Tue
DESCRIPTION:Come along to a fun adult beginners Ballroom dance class.  Cha cha\, samba\, foxtrot\, jive\, waltz\, rumba and more.  No partners necessary.  Beginner class is on from 6:30pm – 7:15pm and then an improver class from 7:00pm – 8:00pm \nPrivate lessons 5:30 – 6:30pm and again 8:00 – 9:00 pm \nContact Becks on dancingbecks@hotmail.com or cell 021482263
URL:https://www.mouterehills.org.nz/event/dance-classes-ballroom-latin-tue/2025-12-16/
LOCATION:Moutere Hills Community Centre
CATEGORIES:Community Recreation
END:VEVENT
BEGIN:VEVENT
DTSTART;TZID=Pacific/Auckland:20251215T160000
DTEND;TZID=Pacific/Auckland:20251215T164500
DTSTAMP:20260420T111410
CREATED:20250910T092841Z
LAST-MODIFIED:20250916T201427Z
UID:10033133-1765814400-1765817100@www.mouterehills.org.nz
SUMMARY:Abilities in Action
DESCRIPTION:Register for this new programme – now running Mondays 4:00pm till 4:45pm Suitable for ages 8-23 years. \n$5 per session \nContact the centre: email enquiries@mouterehills.org.nz or ph 03 5432 516 \n 
URL:https://www.mouterehills.org.nz/event/abilities-in-action-2/2025-12-15/
LOCATION:Moutere Hills Community Centre
CATEGORIES:Exercise Class
END:VEVENT
BEGIN:VEVENT
DTSTART;TZID=Pacific/Auckland:20251215T140000
DTEND;TZID=Pacific/Auckland:20251215T151500
DTSTAMP:20260420T111410
CREATED:20250721T231640Z
LAST-MODIFIED:20250721T231640Z
UID:10032491-1765807200-1765811700@www.mouterehills.org.nz
SUMMARY:Kids Ballroom/Latin Dance -
DESCRIPTION:Join Becks for a fun introduction to Ballroom and Latin Dance for children 6 – 9 yrs. \nFor more details – Contact Becks on dancingbecks@hotmail.com or cell 021 482 263 \nPrivate Lesson 2:00pm to 2:30pm \nFor 6 – 9 yrs   2:30 to 3:15pm
URL:https://www.mouterehills.org.nz/event/kids-ballroom-latin-dance-3/2025-12-15/
LOCATION:Moutere Hills Community Centre
CATEGORIES:Community Recreation
END:VEVENT
BEGIN:VEVENT
DTSTART;TZID=Pacific/Auckland:20251215T060000
DTEND;TZID=Pacific/Auckland:20251215T064500
DTSTAMP:20260420T111410
CREATED:20251007T202942Z
LAST-MODIFIED:20251007T202942Z
UID:10033191-1765778400-1765781100@www.mouterehills.org.nz
SUMMARY:Strength & Fitness Circuit
DESCRIPTION:Circuit class designed to build strength\, fitness & \ncardio \n 
URL:https://www.mouterehills.org.nz/event/strength-fitness-circuit-3/2025-12-15/
LOCATION:Sports Hall
CATEGORIES:Exercise Class
END:VEVENT
BEGIN:VEVENT
DTSTART;TZID=Pacific/Auckland:20251213T080000
DTEND;TZID=Pacific/Auckland:20251213T090000
DTSTAMP:20260420T111410
CREATED:20250426T233854Z
LAST-MODIFIED:20250721T233712Z
UID:10030858-1765612800-1765616400@www.mouterehills.org.nz
SUMMARY:Strength & Fitness Circuit
DESCRIPTION:A circuit class designed to build both strength and Fitness. In this class\, you will rotate between clusters of stations designed to develop specific components of fitness. Be prepared to work hard\, this is not a one-dimensional circuit class. \n$12 casual\, $80 for a 10 class concession card or free for fitness centre members. \nBookings are essential. Visit the Fitness Centre calendar page to register. \nRe-starts Saturday May 3rd by Stuart Port
URL:https://www.mouterehills.org.nz/event/strength-fitness-circuit-2/2025-12-13/
LOCATION:Moutere Hills Community Centre
CATEGORIES:Exercise Class
ORGANIZER;CN="Moutere Hills Community Centre":MAILTO:enquiries@mouterehills.org.nz
END:VEVENT
END:VCALENDAR