BEGIN:VCALENDAR
VERSION:2.0
PRODID:-//Moutere Hills Community Centre - ECPv6.15.19//NONSGML v1.0//EN
CALSCALE:GREGORIAN
METHOD:PUBLISH
X-WR-CALNAME:Moutere Hills Community Centre
X-ORIGINAL-URL:https://www.mouterehills.org.nz
X-WR-CALDESC:Events for Moutere Hills Community Centre
REFRESH-INTERVAL;VALUE=DURATION:PT1H
X-Robots-Tag:noindex
X-PUBLISHED-TTL:PT1H
BEGIN:VTIMEZONE
TZID:Pacific/Auckland
BEGIN:STANDARD
TZOFFSETFROM:+1300
TZOFFSETTO:+1200
TZNAME:NZST
DTSTART:20240406T140000
END:STANDARD
BEGIN:DAYLIGHT
TZOFFSETFROM:+1200
TZOFFSETTO:+1300
TZNAME:NZDT
DTSTART:20240928T140000
END:DAYLIGHT
BEGIN:STANDARD
TZOFFSETFROM:+1300
TZOFFSETTO:+1200
TZNAME:NZST
DTSTART:20250405T140000
END:STANDARD
BEGIN:DAYLIGHT
TZOFFSETFROM:+1200
TZOFFSETTO:+1300
TZNAME:NZDT
DTSTART:20250927T140000
END:DAYLIGHT
BEGIN:STANDARD
TZOFFSETFROM:+1300
TZOFFSETTO:+1200
TZNAME:NZST
DTSTART:20260404T140000
END:STANDARD
BEGIN:DAYLIGHT
TZOFFSETFROM:+1200
TZOFFSETTO:+1300
TZNAME:NZDT
DTSTART:20260926T140000
END:DAYLIGHT
END:VTIMEZONE
BEGIN:VEVENT
DTSTART;TZID=Pacific/Auckland:20251002T150000
DTEND;TZID=Pacific/Auckland:20251002T190000
DTSTAMP:20260420T124150
CREATED:20250923T232815Z
LAST-MODIFIED:20250923T233801Z
UID:10033167-1759417200-1759431600@www.mouterehills.org.nz
SUMMARY:NZ Farm Forestry Association
DESCRIPTION:Free Workshop: Small Grower’s Guide to Forest Harvesting\n\n\nDate: October 2\, 3pm – 7pm\n\n\nVenue: Moutere Community Centre\, 1539 Moutere Highway\, Upper Moutere.\n\n\nRSVP: to register please book a ticket with the link below or email admin@nzffa.org.nz — this helps us with catering and planning\n\n\n• Harvesting 101 and key players in any harvesting process – harvest managers/contractors.\n\n\n• How to salvage windthrow and considerations to be aware of.\n\n\n• What to ask your contractor prior to engagement.\n\n\n• Potentially provide introductions to local contractors.\n\n\n• Understanding ETS and NES-CF obligations.\n\n\n• Markets/contracts/H&S requirements.\n\n\n• How to prepare your land and replant.\n\n\nhttps://nzffa.gecco.co.nz/g/event-manager/view/100
URL:https://www.mouterehills.org.nz/event/nz-farm-forestry-association/
LOCATION:Moutere Hills Community Centre
CATEGORIES:Event
END:VEVENT
BEGIN:VEVENT
DTSTART;TZID=Pacific/Auckland:20250930T183000
DTEND;TZID=Pacific/Auckland:20250930T193000
DTSTAMP:20260420T124150
CREATED:20250904T221803Z
LAST-MODIFIED:20250905T020913Z
UID:10033038-1759257000-1759260600@www.mouterehills.org.nz
SUMMARY:MHCC AGM 2025
DESCRIPTION:more to come
URL:https://www.mouterehills.org.nz/event/mhcc-agm-2025/
LOCATION:Function room
CATEGORIES:Event
END:VEVENT
BEGIN:VEVENT
DTSTART;TZID=Pacific/Auckland:20250926T173000
DTEND;TZID=Pacific/Auckland:20250926T193000
DTSTAMP:20260420T124150
CREATED:20250924T004803Z
LAST-MODIFIED:20250924T004803Z
UID:10033168-1758907800-1758915000@www.mouterehills.org.nz
SUMMARY:Fish & Chip night
DESCRIPTION:
URL:https://www.mouterehills.org.nz/event/fish-chip-night-2/
LOCATION:Moutere Hills Community Centre
CATEGORIES:Event
END:VEVENT
BEGIN:VEVENT
DTSTART;TZID=Pacific/Auckland:20250914T173000
DTEND;TZID=Pacific/Auckland:20250914T193000
DTSTAMP:20260420T124150
CREATED:20250731T021119Z
LAST-MODIFIED:20250731T021119Z
UID:10032617-1757871000-1757878200@www.mouterehills.org.nz
SUMMARY:Plant based Pot Luck Tea
DESCRIPTION:
URL:https://www.mouterehills.org.nz/event/plant-based-pot-luck-tea/
LOCATION:Community Room
CATEGORIES:Event
END:VEVENT
BEGIN:VEVENT
DTSTART;TZID=Pacific/Auckland:20250914T150000
DTEND;TZID=Pacific/Auckland:20250914T160000
DTSTAMP:20260420T124150
CREATED:20250721T224329Z
LAST-MODIFIED:20250721T235713Z
UID:10032436-1757862000-1757865600@www.mouterehills.org.nz
SUMMARY:Private Dance Lessons
DESCRIPTION:Contact Becks on dancingbecks@hotmail.com or cell 021482263
URL:https://www.mouterehills.org.nz/event/private-dance-lessons/2025-09-14/
LOCATION:Moutere Hills Community Centre
CATEGORIES:Community Recreation
END:VEVENT
BEGIN:VEVENT
DTSTART;TZID=Pacific/Auckland:20250914T113000
DTEND;TZID=Pacific/Auckland:20250914T143000
DTSTAMP:20260420T124150
CREATED:20250826T231016Z
LAST-MODIFIED:20250826T231016Z
UID:10033037-1757849400-1757860200@www.mouterehills.org.nz
SUMMARY:Birthday party - Private
DESCRIPTION:
URL:https://www.mouterehills.org.nz/event/birthday-party-private/
LOCATION:Sports Hall
CATEGORIES:Event
END:VEVENT
BEGIN:VEVENT
DTSTART;TZID=Pacific/Auckland:20250913T091500
DTEND;TZID=Pacific/Auckland:20250913T101500
DTSTAMP:20260420T124150
CREATED:20250411T003643Z
LAST-MODIFIED:20250411T003643Z
UID:10030646-1757754900-1757758500@www.mouterehills.org.nz
SUMMARY:Yoga Flow
DESCRIPTION:Contact Angie for more info
URL:https://www.mouterehills.org.nz/event/yoga-flow/2025-09-13/
LOCATION:Moutere Hills Community Centre
END:VEVENT
BEGIN:VEVENT
DTSTART;TZID=Pacific/Auckland:20250912T183000
DTEND;TZID=Pacific/Auckland:20250912T203000
DTSTAMP:20260420T124150
CREATED:20250731T021017Z
LAST-MODIFIED:20250731T021017Z
UID:10032616-1757701800-1757709000@www.mouterehills.org.nz
SUMMARY:Beck's Bootcamp
DESCRIPTION:
URL:https://www.mouterehills.org.nz/event/becks-bootcamp/
LOCATION:Sports Hall
CATEGORIES:Event
END:VEVENT
BEGIN:VEVENT
DTSTART;TZID=Pacific/Auckland:20250910T070000
DTEND;TZID=Pacific/Auckland:20250910T210000
DTSTAMP:20260420T124150
CREATED:20250731T020859Z
LAST-MODIFIED:20250731T020859Z
UID:10032615-1757487600-1757538000@www.mouterehills.org.nz
SUMMARY:Private meeting
DESCRIPTION:
URL:https://www.mouterehills.org.nz/event/private-meeting-2/
LOCATION:Community Room
CATEGORIES:Event
END:VEVENT
BEGIN:VEVENT
DTSTART;TZID=Pacific/Auckland:20250901T080000
DTEND;TZID=Pacific/Auckland:20250901T143000
DTSTAMP:20260420T124150
CREATED:20250826T230845Z
LAST-MODIFIED:20250826T230845Z
UID:10033036-1756713600-1756737000@www.mouterehills.org.nz
SUMMARY:First Aid course
DESCRIPTION:
URL:https://www.mouterehills.org.nz/event/first-aid-course/
LOCATION:Community Room
CATEGORIES:Event
END:VEVENT
BEGIN:VEVENT
DTSTART;TZID=Pacific/Auckland:20250831T123000
DTEND;TZID=Pacific/Auckland:20250831T163000
DTSTAMP:20260420T124150
CREATED:20250826T230506Z
LAST-MODIFIED:20250826T230506Z
UID:10033035-1756643400-1756657800@www.mouterehills.org.nz
SUMMARY:Private function
DESCRIPTION:
URL:https://www.mouterehills.org.nz/event/private-function-5/
LOCATION:Function room
CATEGORIES:Event
END:VEVENT
BEGIN:VEVENT
DTSTART;TZID=Pacific/Auckland:20250830T150000
DTEND;TZID=Pacific/Auckland:20250830T220000
DTSTAMP:20260420T124150
CREATED:20250731T023112Z
LAST-MODIFIED:20250731T023112Z
UID:10033004-1756566000-1756591200@www.mouterehills.org.nz
SUMMARY:Private Function
DESCRIPTION:
URL:https://www.mouterehills.org.nz/event/private-function-4/
LOCATION:Moutere Hills Community Centre
CATEGORIES:Event
END:VEVENT
BEGIN:VEVENT
DTSTART;TZID=Pacific/Auckland:20250830T100000
DTEND;TZID=Pacific/Auckland:20250830T140000
DTSTAMP:20260420T124150
CREATED:20250731T023000Z
LAST-MODIFIED:20250731T023000Z
UID:10033003-1756548000-1756562400@www.mouterehills.org.nz
SUMMARY:Kids Birthday Party
DESCRIPTION:
URL:https://www.mouterehills.org.nz/event/kids-birthday-party/
LOCATION:Community Room
CATEGORIES:Event
END:VEVENT
BEGIN:VEVENT
DTSTART;TZID=Pacific/Auckland:20250829T173000
DTEND;TZID=Pacific/Auckland:20250829T193000
DTSTAMP:20260420T124150
CREATED:20250826T230314Z
LAST-MODIFIED:20250826T230333Z
UID:10033034-1756488600-1756495800@www.mouterehills.org.nz
SUMMARY:Fish & Chip night
DESCRIPTION:
URL:https://www.mouterehills.org.nz/event/fish-chip-night/
LOCATION:Function room
CATEGORIES:Event
END:VEVENT
BEGIN:VEVENT
DTSTART;TZID=Pacific/Auckland:20250825T060000
DTEND;TZID=Pacific/Auckland:20250825T064500
DTSTAMP:20260420T124150
CREATED:20250530T032553Z
LAST-MODIFIED:20250530T032650Z
UID:10030255-1756101600-1756104300@www.mouterehills.org.nz
SUMMARY:Full Body Fitness
DESCRIPTION:Jump start your week with this energizing group class that combines strength training and cardio for a full-body workout
URL:https://www.mouterehills.org.nz/event/full-body-fitness-2/2025-08-25/
CATEGORIES:Exercise Class
END:VEVENT
BEGIN:VEVENT
DTSTART;TZID=Pacific/Auckland:20250822T160000
DTEND;TZID=Pacific/Auckland:20250822T210000
DTSTAMP:20260420T124150
CREATED:20250605T213601Z
LAST-MODIFIED:20250605T213601Z
UID:10032030-1755878400-1755896400@www.mouterehills.org.nz
SUMMARY:Rangers Prizegiving
DESCRIPTION:
URL:https://www.mouterehills.org.nz/event/rangers-prizegiving/
LOCATION:Function room
CATEGORIES:Event
END:VEVENT
BEGIN:VEVENT
DTSTART;TZID=Pacific/Auckland:20250820T080000
DTEND;TZID=Pacific/Auckland:20250820T150000
DTSTAMP:20260420T124150
CREATED:20250722T000304Z
LAST-MODIFIED:20250722T000304Z
UID:10032554-1755676800-1755702000@www.mouterehills.org.nz
SUMMARY:Private Booking
DESCRIPTION:
URL:https://www.mouterehills.org.nz/event/private-booking-93/
LOCATION:Function room
CATEGORIES:Event
END:VEVENT
BEGIN:VEVENT
DTSTART;TZID=Pacific/Auckland:20250820T060000
DTEND;TZID=Pacific/Auckland:20250820T064500
DTSTAMP:20260420T124150
CREATED:20250510T012537Z
LAST-MODIFIED:20250510T012537Z
UID:10031930-1755669600-1755672300@www.mouterehills.org.nz
SUMMARY:MetaPro Hybrid
DESCRIPTION:ake your High Intensity Interval Training to the next level with new Speed\, Agility and Quickness drills and training movements in a small group! Round out the session with some core and pelvic strengthening to ensure you leave having worked your full body! \n$12 casual\, free for Fitness Centre members or concession cards available ($80 for 10 classes). \nRegistrations essential. Visit the Fitness Centre calendar page to book
URL:https://www.mouterehills.org.nz/event/metapro-hybrid-3/2025-08-20/
LOCATION:Moutere Hills Community Centre
CATEGORIES:Exercise Class
END:VEVENT
BEGIN:VEVENT
DTSTART;TZID=Pacific/Auckland:20250819T170000
DTEND;TZID=Pacific/Auckland:20250819T200000
DTSTAMP:20260420T124150
CREATED:20250605T213454Z
LAST-MODIFIED:20250605T213454Z
UID:10032029-1755622800-1755633600@www.mouterehills.org.nz
SUMMARY:MRRA - AGM
DESCRIPTION:
URL:https://www.mouterehills.org.nz/event/mrra-agm/
LOCATION:Function room
CATEGORIES:Event
END:VEVENT
BEGIN:VEVENT
DTSTART;TZID=Pacific/Auckland:20250815T180000
DTEND;TZID=Pacific/Auckland:20250815T223000
DTSTAMP:20260420T124150
CREATED:20250605T212631Z
LAST-MODIFIED:20250731T022626Z
UID:10032026-1755280800-1755297000@www.mouterehills.org.nz
SUMMARY:Rangers Community Dinner
DESCRIPTION:Free Dinner and catchup with the rest of the community \nDinner starts at 6pm \nRSVP by 10th August if you are interested to treasurer@rangersrugby.nz
URL:https://www.mouterehills.org.nz/event/rangers-quiz-night-2/
LOCATION:Moutere Hills Community Centre
CATEGORIES:Event
END:VEVENT
BEGIN:VEVENT
DTSTART;TZID=Pacific/Auckland:20250814T190000
DTEND;TZID=Pacific/Auckland:20250814T210000
DTSTAMP:20260420T124150
CREATED:20250605T213316Z
LAST-MODIFIED:20250605T213316Z
UID:10032028-1755198000-1755205200@www.mouterehills.org.nz
SUMMARY:Moutere Hills Residents Ass. AGM
DESCRIPTION:Function room
URL:https://www.mouterehills.org.nz/event/moutere-hills-residents-ass-agm/
LOCATION:Function room
CATEGORIES:Event
END:VEVENT
BEGIN:VEVENT
DTSTART;TZID=Pacific/Auckland:20250813T191500
DTEND;TZID=Pacific/Auckland:20250813T211500
DTSTAMP:20260420T124150
CREATED:20250721T234549Z
LAST-MODIFIED:20250721T234549Z
UID:10032542-1755112500-1755119700@www.mouterehills.org.nz
SUMMARY:Private booking
DESCRIPTION:
URL:https://www.mouterehills.org.nz/event/private-booking-92/
LOCATION:Community Room
CATEGORIES:Event
END:VEVENT
BEGIN:VEVENT
DTSTART;TZID=Pacific/Auckland:20250813T183000
DTEND;TZID=Pacific/Auckland:20250813T223000
DTSTAMP:20260420T124150
CREATED:20250731T021814Z
LAST-MODIFIED:20250731T021814Z
UID:10032621-1755109800-1755124200@www.mouterehills.org.nz
SUMMARY:Tasman Community Group
DESCRIPTION:
URL:https://www.mouterehills.org.nz/event/tasman-community-group-3/
LOCATION:Function room
CATEGORIES:Event
END:VEVENT
BEGIN:VEVENT
DTSTART;TZID=Pacific/Auckland:20250811T130000
DTEND;TZID=Pacific/Auckland:20250811T203000
DTSTAMP:20260420T124150
CREATED:20250721T234330Z
LAST-MODIFIED:20250731T021656Z
UID:10032541-1754917200-1754944200@www.mouterehills.org.nz
SUMMARY:Beef & Lamb NZ
DESCRIPTION:
URL:https://www.mouterehills.org.nz/event/beef-lamb-nz/
LOCATION:Community Room
CATEGORIES:Event
END:VEVENT
BEGIN:VEVENT
DTSTART;TZID=Pacific/Auckland:20250810T120000
DTEND;TZID=Pacific/Auckland:20250810T160000
DTSTAMP:20260420T124150
CREATED:20250605T213052Z
LAST-MODIFIED:20250605T213052Z
UID:10032027-1754827200-1754841600@www.mouterehills.org.nz
SUMMARY:Private booking
DESCRIPTION:Kitchen & Function room
URL:https://www.mouterehills.org.nz/event/private-booking-88/
LOCATION:Function room
CATEGORIES:Event
END:VEVENT
BEGIN:VEVENT
DTSTART;TZID=Pacific/Auckland:20250810T100000
DTEND;TZID=Pacific/Auckland:20250810T130000
DTSTAMP:20260420T124150
CREATED:20250731T021606Z
LAST-MODIFIED:20250731T021606Z
UID:10032620-1754820000-1754830800@www.mouterehills.org.nz
SUMMARY:Private Kids Birthday party
DESCRIPTION:Community room & Sports Hall
URL:https://www.mouterehills.org.nz/event/private-kids-birthday-party/
LOCATION:Community Room
CATEGORIES:Event
END:VEVENT
BEGIN:VEVENT
DTSTART;TZID=Pacific/Auckland:20250809T170000
DTEND;TZID=Pacific/Auckland:20250809T213000
DTSTAMP:20260420T124150
CREATED:20250721T234148Z
LAST-MODIFIED:20250721T234148Z
UID:10032540-1754758800-1754775000@www.mouterehills.org.nz
SUMMARY:Young Farmers Quiz night
DESCRIPTION:
URL:https://www.mouterehills.org.nz/event/young-farmers-quiz-night/
LOCATION:Moutere Hills Community Centre
CATEGORIES:Event
END:VEVENT
BEGIN:VEVENT
DTSTART;TZID=Pacific/Auckland:20250808T183000
DTEND;TZID=Pacific/Auckland:20250808T203000
DTSTAMP:20260420T124150
CREATED:20250731T021323Z
LAST-MODIFIED:20250731T021323Z
UID:10032619-1754677800-1754685000@www.mouterehills.org.nz
SUMMARY:Becks bootcamp
DESCRIPTION:
URL:https://www.mouterehills.org.nz/event/becks-bootcamp-2/
LOCATION:Sports Hall
CATEGORIES:Event
END:VEVENT
BEGIN:VEVENT
DTSTART;TZID=Pacific/Auckland:20250808T153000
DTEND;TZID=Pacific/Auckland:20250808T170000
DTSTAMP:20260420T124150
CREATED:20250731T021234Z
LAST-MODIFIED:20250731T021234Z
UID:10032618-1754667000-1754672400@www.mouterehills.org.nz
SUMMARY:one forty one drop in session
DESCRIPTION:
URL:https://www.mouterehills.org.nz/event/one-forty-one-drop-in-session/
LOCATION:Function room
CATEGORIES:Event
END:VEVENT
BEGIN:VEVENT
DTSTART;TZID=Pacific/Auckland:20250802T130000
DTEND;TZID=Pacific/Auckland:20250802T220000
DTSTAMP:20260420T124150
CREATED:20250311T193135Z
LAST-MODIFIED:20250311T193135Z
UID:10028724-1754139600-1754172000@www.mouterehills.org.nz
SUMMARY:UMO Fire Brigade
DESCRIPTION:Private function
URL:https://www.mouterehills.org.nz/event/umo-fire-brigade/
LOCATION:Moutere Hills Community Centre
CATEGORIES:Event
END:VEVENT
END:VCALENDAR