BEGIN:VCALENDAR
VERSION:2.0
PRODID:-//Moutere Hills Community Centre - ECPv6.15.19//NONSGML v1.0//EN
CALSCALE:GREGORIAN
METHOD:PUBLISH
X-WR-CALNAME:Moutere Hills Community Centre
X-ORIGINAL-URL:https://www.mouterehills.org.nz
X-WR-CALDESC:Events for Moutere Hills Community Centre
REFRESH-INTERVAL;VALUE=DURATION:PT1H
X-Robots-Tag:noindex
X-PUBLISHED-TTL:PT1H
BEGIN:VTIMEZONE
TZID:Pacific/Auckland
BEGIN:STANDARD
TZOFFSETFROM:+1300
TZOFFSETTO:+1200
TZNAME:NZST
DTSTART:20240406T140000
END:STANDARD
BEGIN:DAYLIGHT
TZOFFSETFROM:+1200
TZOFFSETTO:+1300
TZNAME:NZDT
DTSTART:20240928T140000
END:DAYLIGHT
BEGIN:STANDARD
TZOFFSETFROM:+1300
TZOFFSETTO:+1200
TZNAME:NZST
DTSTART:20250405T140000
END:STANDARD
BEGIN:DAYLIGHT
TZOFFSETFROM:+1200
TZOFFSETTO:+1300
TZNAME:NZDT
DTSTART:20250927T140000
END:DAYLIGHT
BEGIN:STANDARD
TZOFFSETFROM:+1300
TZOFFSETTO:+1200
TZNAME:NZST
DTSTART:20260404T140000
END:STANDARD
BEGIN:DAYLIGHT
TZOFFSETFROM:+1200
TZOFFSETTO:+1300
TZNAME:NZDT
DTSTART:20260926T140000
END:DAYLIGHT
END:VTIMEZONE
BEGIN:VEVENT
DTSTART;TZID=Pacific/Auckland:20250312T173000
DTEND;TZID=Pacific/Auckland:20250312T181500
DTSTAMP:20260420T112110
CREATED:20250311T035808Z
LAST-MODIFIED:20250311T035808Z
UID:10028631-1741800600-1741803300@www.mouterehills.org.nz
SUMMARY:Core Focus
DESCRIPTION:Incorporates core stabilisation\, muscular endurance\, strength\, balance and coordination. \nBookings are essential. Visit the Fitness Centre calendar page to register.
URL:https://www.mouterehills.org.nz/event/core-focus-3/2025-03-12/
LOCATION:Moutere Hills Community Centre
CATEGORIES:Exercise Class
END:VEVENT
BEGIN:VEVENT
DTSTART;TZID=Pacific/Auckland:20250312T181500
DTEND;TZID=Pacific/Auckland:20250312T190000
DTSTAMP:20260420T112110
CREATED:20250311T035506Z
LAST-MODIFIED:20250311T035506Z
UID:10028538-1741803300-1741806000@www.mouterehills.org.nz
SUMMARY:MetaPro Hybrid
DESCRIPTION:Take your High Intensity Interval Training to the next level with new Speed\, Agility and Quickness drills and training movements in a small group! Round out the session with some core and pelvic strengthening to ensure you leave having worked your full body! \n$12 casual\, free for Fitness Centre members or concession cards available ($80 for 10 classes). \nRegistrations essential. Visit the Fitness Centre calendar page to book
URL:https://www.mouterehills.org.nz/event/metapro-hybrid/2025-03-12/
LOCATION:Moutere Hills Community Centre
CATEGORIES:Exercise Class
END:VEVENT
BEGIN:VEVENT
DTSTART;TZID=Pacific/Auckland:20250315T090000
DTEND;TZID=Pacific/Auckland:20250315T123000
DTSTAMP:20260420T112110
CREATED:20250211T231803Z
LAST-MODIFIED:20250213T185603Z
UID:10027581-1742029200-1742041800@www.mouterehills.org.nz
SUMMARY:Rangers Rugby registration day
DESCRIPTION:Register for age grade rugby with Rangers rugby
URL:https://www.mouterehills.org.nz/event/rangers-rugby-registration-day-2/
LOCATION:Moutere Hills Community Centre
CATEGORIES:Event,Meeting
END:VEVENT
BEGIN:VEVENT
DTSTART;TZID=Pacific/Auckland:20250316T080000
DTEND;TZID=Pacific/Auckland:20250317T170000
DTSTAMP:20260420T112110
CREATED:20250211T212144Z
LAST-MODIFIED:20250211T212145Z
UID:10027456-1742112000-1742230800@www.mouterehills.org.nz
SUMMARY:NZ Hops
DESCRIPTION:Whole Centre booking
URL:https://www.mouterehills.org.nz/event/nz-hops-2-2/
LOCATION:Moutere Hills Community Centre
CATEGORIES:Meeting
END:VEVENT
BEGIN:VEVENT
DTSTART;TZID=Pacific/Auckland:20250318T103000
DTEND;TZID=Pacific/Auckland:20250318T113000
DTSTAMP:20260420T112110
CREATED:20250314T200918Z
LAST-MODIFIED:20250314T200918Z
UID:10028727-1742293800-1742297400@www.mouterehills.org.nz
SUMMARY:Adults Social Table Tennis
DESCRIPTION:
URL:https://www.mouterehills.org.nz/event/adults-social-table-tennis/2025-03-18/
LOCATION:Moutere Hills Community Centre
CATEGORIES:Community Recreation
END:VEVENT
BEGIN:VEVENT
DTSTART;TZID=Pacific/Auckland:20250322T080000
DTEND;TZID=Pacific/Auckland:20250322T170000
DTSTAMP:20260420T112110
CREATED:20250305T032343Z
LAST-MODIFIED:20250305T034158Z
UID:10027645-1742630400-1742662800@www.mouterehills.org.nz
SUMMARY:Full Facility hire
DESCRIPTION:Private booking of full facility hire over two days
URL:https://www.mouterehills.org.nz/event/full-facility-hire/2025-03-22/
LOCATION:Moutere Hills Community Centre
CATEGORIES:Event,Meeting
END:VEVENT
BEGIN:VEVENT
DTSTART;TZID=Pacific/Auckland:20250322T133000
DTEND;TZID=Pacific/Auckland:20250322T150000
DTSTAMP:20260420T112110
CREATED:20250320T223641Z
LAST-MODIFIED:20250320T223641Z
UID:10029662-1742650200-1742655600@www.mouterehills.org.nz
SUMMARY:Youth/ Adults Social Basketball
DESCRIPTION:Join in a fun session of Basketball. For all ability levels. Only $3.00/session
URL:https://www.mouterehills.org.nz/event/youth-adults-social-basketball-5/2025-03-22/2/
LOCATION:Moutere Hills Community Centre
CATEGORIES:Community Recreation
END:VEVENT
BEGIN:VEVENT
DTSTART;TZID=Pacific/Auckland:20250323T120000
DTEND;TZID=Pacific/Auckland:20250323T170000
DTSTAMP:20260420T112110
CREATED:20250310T195245Z
LAST-MODIFIED:20250310T195245Z
UID:10028014-1742731200-1742749200@www.mouterehills.org.nz
SUMMARY:HKM Body Scan
DESCRIPTION:Evolt 360 Body Composition  Scans are back again – Sunday 23rd March 12 noon – 5pm \nContact Tracey on 027 546 4360 \nBook now – HKM Body scan
URL:https://www.mouterehills.org.nz/event/hkm-body-scan-2/
LOCATION:Moutere Hills Community Centre
CATEGORIES:Event
END:VEVENT
BEGIN:VEVENT
DTSTART;TZID=Pacific/Auckland:20250326T180000
DTEND;TZID=Pacific/Auckland:20250326T220000
DTSTAMP:20260420T112110
CREATED:20250211T210539Z
LAST-MODIFIED:20250211T210539Z
UID:10027457-1743012000-1743026400@www.mouterehills.org.nz
SUMMARY:Tasman Community Group
DESCRIPTION:Function room
URL:https://www.mouterehills.org.nz/event/tasman-community-group/
LOCATION:Moutere Hills Community Centre
END:VEVENT
BEGIN:VEVENT
DTSTART;TZID=Pacific/Auckland:20250327T103000
DTEND;TZID=Pacific/Auckland:20250327T120000
DTSTAMP:20260420T112110
CREATED:20250320T195733Z
LAST-MODIFIED:20250320T195733Z
UID:10028767-1743071400-1743076800@www.mouterehills.org.nz
SUMMARY:Ballroom Dance
DESCRIPTION:Homeschool class \nContact MHCC for details
URL:https://www.mouterehills.org.nz/event/ballroom-dance/2025-03-27/
LOCATION:Moutere Hills Community Centre
CATEGORIES:Community Recreation
END:VEVENT
BEGIN:VEVENT
DTSTART;TZID=Pacific/Auckland:20250327T180000
DTEND;TZID=Pacific/Auckland:20250327T184500
DTSTAMP:20260420T112110
CREATED:20250320T200151Z
LAST-MODIFIED:20250320T200151Z
UID:10028823-1743098400-1743101100@www.mouterehills.org.nz
SUMMARY:Box'n burn
DESCRIPTION:
URL:https://www.mouterehills.org.nz/event/boxn-burn/2025-03-27/
LOCATION:Moutere Hills Community Centre
CATEGORIES:Exercise Class
END:VEVENT
BEGIN:VEVENT
DTSTART;TZID=Pacific/Auckland:20250329T180000
DTEND;TZID=Pacific/Auckland:20250329T220000
DTSTAMP:20260420T112110
CREATED:20250211T211302Z
LAST-MODIFIED:20250321T045405Z
UID:10027458-1743271200-1743285600@www.mouterehills.org.nz
SUMMARY:Casino Night
DESCRIPTION:A community fundraiser for the gym extension\nMore to come
URL:https://www.mouterehills.org.nz/event/casino-night/
LOCATION:Moutere Hills Community Centre
CATEGORIES:Event
END:VEVENT
BEGIN:VEVENT
DTSTART;TZID=Pacific/Auckland:20250330T110000
DTEND;TZID=Pacific/Auckland:20250330T170000
DTSTAMP:20260420T112110
CREATED:20250305T032622Z
LAST-MODIFIED:20250305T033358Z
UID:10027646-1743332400-1743354000@www.mouterehills.org.nz
SUMMARY:Ipsos Ltd
DESCRIPTION:Full facility hire
URL:https://www.mouterehills.org.nz/event/ipsos-ltd/
LOCATION:Moutere Hills Community Centre
CATEGORIES:Event,Meeting
END:VEVENT
BEGIN:VEVENT
DTSTART;VALUE=DATE:20250404
DTEND;VALUE=DATE:20250405
DTSTAMP:20260420T112110
CREATED:20250318T211615Z
LAST-MODIFIED:20250318T211628Z
UID:10028766-1743724800-1743811199@www.mouterehills.org.nz
SUMMARY:Private booking
DESCRIPTION:Function room & Kitchen all day
URL:https://www.mouterehills.org.nz/event/private-booking-85/
LOCATION:Moutere Hills Community Centre
CATEGORIES:Event
END:VEVENT
BEGIN:VEVENT
DTSTART;TZID=Pacific/Auckland:20250405T120000
DTEND;TZID=Pacific/Auckland:20250405T210000
DTSTAMP:20260420T112110
CREATED:20250324T203530Z
LAST-MODIFIED:20250324T203530Z
UID:10029664-1743854400-1743886800@www.mouterehills.org.nz
SUMMARY:Private Function
DESCRIPTION:Private function \n 
URL:https://www.mouterehills.org.nz/event/private-function-3/
LOCATION:Moutere Hills Community Centre
CATEGORIES:Event
END:VEVENT
BEGIN:VEVENT
DTSTART;TZID=Pacific/Auckland:20250405T130000
DTEND;TZID=Pacific/Auckland:20250405T150000
DTSTAMP:20260420T112110
CREATED:20250310T195611Z
LAST-MODIFIED:20250310T195611Z
UID:10028015-1743858000-1743865200@www.mouterehills.org.nz
SUMMARY:Birthday Party
DESCRIPTION:Community room and Sports Hall
URL:https://www.mouterehills.org.nz/event/birthday-party/
LOCATION:Moutere Hills Community Centre
CATEGORIES:Event
END:VEVENT
BEGIN:VEVENT
DTSTART;TZID=Pacific/Auckland:20250411T173000
DTEND;TZID=Pacific/Auckland:20250411T223000
DTSTAMP:20260420T112110
CREATED:20250224T202251Z
LAST-MODIFIED:20250224T202251Z
UID:10027585-1744392600-1744410600@www.mouterehills.org.nz
SUMMARY:Nelson Hospice Fundraiser
DESCRIPTION:Sports hall & function room \nMore to come
URL:https://www.mouterehills.org.nz/event/nelson-hospice-fundraiser/
LOCATION:Moutere Hills Community Centre
CATEGORIES:Event
END:VEVENT
BEGIN:VEVENT
DTSTART;TZID=Pacific/Auckland:20250414T180000
DTEND;TZID=Pacific/Auckland:20250414T200000
DTSTAMP:20260420T112110
CREATED:20250324T203815Z
LAST-MODIFIED:20250324T203815Z
UID:10029665-1744653600-1744660800@www.mouterehills.org.nz
SUMMARY:Rangers Rugby
DESCRIPTION:Delegates meeting community room
URL:https://www.mouterehills.org.nz/event/rangers-rugby/
LOCATION:Moutere Hills Community Centre
CATEGORIES:Meeting
END:VEVENT
BEGIN:VEVENT
DTSTART;TZID=Pacific/Auckland:20250417T093000
DTEND;TZID=Pacific/Auckland:20250417T153000
DTSTAMP:20260420T112110
CREATED:20250404T012305Z
LAST-MODIFIED:20250404T012305Z
UID:10029672-1744882200-1744903800@www.mouterehills.org.nz
SUMMARY:Innovative Farming Solutions
DESCRIPTION:Free event\, Food provided. \nRegister – www.surveymonkey.com/r/QGBZ3X8 \nto learn more [read here]
URL:https://www.mouterehills.org.nz/event/innovative-farming-solutions/
LOCATION:Moutere Hills Community Centre
CATEGORIES:Event
END:VEVENT
BEGIN:VEVENT
DTSTART;VALUE=DATE:20250418
DTEND;VALUE=DATE:20250419
DTSTAMP:20260420T112110
CREATED:20250410T031213Z
LAST-MODIFIED:20250410T031213Z
UID:10030282-1744934400-1745020799@www.mouterehills.org.nz
SUMMARY:Good Friday - No classes
DESCRIPTION:
URL:https://www.mouterehills.org.nz/event/good-friday-no-classes/
END:VEVENT
BEGIN:VEVENT
DTSTART;TZID=Pacific/Auckland:20250421T080000
DTEND;TZID=Pacific/Auckland:20250421T170000
DTSTAMP:20260420T112110
CREATED:20250410T031315Z
LAST-MODIFIED:20250410T031315Z
UID:10030283-1745222400-1745254800@www.mouterehills.org.nz
SUMMARY:Easter Monday - No classes
DESCRIPTION:
URL:https://www.mouterehills.org.nz/event/easter-monday-no-classes/
END:VEVENT
BEGIN:VEVENT
DTSTART;TZID=Pacific/Auckland:20250422T160000
DTEND;TZID=Pacific/Auckland:20250422T180000
DTSTAMP:20260420T112110
CREATED:20250324T203956Z
LAST-MODIFIED:20250324T203956Z
UID:10029666-1745337600-1745344800@www.mouterehills.org.nz
SUMMARY:MRRA
DESCRIPTION:community room
URL:https://www.mouterehills.org.nz/event/mrra/
LOCATION:Community Room
CATEGORIES:Meeting
END:VEVENT
BEGIN:VEVENT
DTSTART;TZID=Pacific/Auckland:20250423T073000
DTEND;TZID=Pacific/Auckland:20250423T153000
DTSTAMP:20260420T112110
CREATED:20250423T000600Z
LAST-MODIFIED:20250423T000600Z
UID:10030714-1745393400-1745422200@www.mouterehills.org.nz
SUMMARY:Business meeting
DESCRIPTION:Function room
URL:https://www.mouterehills.org.nz/event/business-meeting-24/
LOCATION:Function room
CATEGORIES:Event,Meeting
END:VEVENT
BEGIN:VEVENT
DTSTART;TZID=Pacific/Auckland:20250425T100000
DTEND;TZID=Pacific/Auckland:20250425T120000
DTSTAMP:20260420T112110
CREATED:20250324T213618Z
LAST-MODIFIED:20250324T213618Z
UID:10029669-1745575200-1745582400@www.mouterehills.org.nz
SUMMARY:Anzac Day Service
DESCRIPTION:Friday 25th April 10am at Moutere Hills Community Centre. \nJoin us for a free community morning tea after the service \nAll welcome!
URL:https://www.mouterehills.org.nz/event/anzac-day-service-3/
LOCATION:Moutere Hills Community Centre
CATEGORIES:Event
END:VEVENT
BEGIN:VEVENT
DTSTART;TZID=Pacific/Auckland:20250428T184500
DTEND;TZID=Pacific/Auckland:20250428T200000
DTSTAMP:20260420T112110
CREATED:20250426T032152Z
LAST-MODIFIED:20250721T234017Z
UID:10030754-1745865900-1745870400@www.mouterehills.org.nz
SUMMARY:Social Netball
DESCRIPTION:Join in a fun session of Netball.  For all ages & ability levels.  Only $3 per session.
URL:https://www.mouterehills.org.nz/event/social-netball/2025-04-28/
LOCATION:Moutere Hills Community Centre
CATEGORIES:Community Recreation
END:VEVENT
BEGIN:VEVENT
DTSTART;TZID=Pacific/Auckland:20250429T173000
DTEND;TZID=Pacific/Auckland:20250429T210000
DTSTAMP:20260420T112110
CREATED:20250427T232656Z
LAST-MODIFIED:20250427T232844Z
UID:10031718-1745947800-1745960400@www.mouterehills.org.nz
SUMMARY:Dance Classes Ballroom/Latin - Tue
DESCRIPTION:Come along to a fun adult beginners Ballroom dance class.  Cha cha\, samba\, foxtrot\, jive\, waltz\, rumba and more.  No partners necessary.  Beginner class is on from 6:30pm – 7:15pm and then an improver class from 7:00pm – 8:00pm \nPrivate lessons 5:30 – 6:30pm and again 8:00 – 9:00 pm \nContact Becks on dancingbecks@hotmail.com or cell 021482263
URL:https://www.mouterehills.org.nz/event/dance-classes-ballroom-latin-tue/2025-04-29/
LOCATION:Moutere Hills Community Centre
CATEGORIES:Community Recreation
END:VEVENT
BEGIN:VEVENT
DTSTART;TZID=Pacific/Auckland:20250430T080000
DTEND;TZID=Pacific/Auckland:20250430T160000
DTSTAMP:20260420T112110
CREATED:20250423T000432Z
LAST-MODIFIED:20250426T030246Z
UID:10030713-1746000000-1746028800@www.mouterehills.org.nz
SUMMARY:Business meeting
DESCRIPTION:Community room 8 – 4pm
URL:https://www.mouterehills.org.nz/event/business-meeting-23/
LOCATION:Community Room
CATEGORIES:Event,Meeting
END:VEVENT
BEGIN:VEVENT
DTSTART;TZID=Pacific/Auckland:20250430T084500
DTEND;TZID=Pacific/Auckland:20250430T094500
DTSTAMP:20260420T112110
CREATED:20250427T001414Z
LAST-MODIFIED:20250427T001702Z
UID:10031357-1746002700-1746006300@www.mouterehills.org.nz
SUMMARY:Powerhooping
DESCRIPTION:A fun exercise class using specialised hoops to get you moving and stretching. Powerhoops also available for hire on the day and or for purchase. \nContact Sara on 021 069 7522 or powerhoopnelson@gmail.com for more information. \nBook on-line here: Book on-line \nor paste this url into your browser: https://bookwhen.com/powerhoopnelson
URL:https://www.mouterehills.org.nz/event/powerhooping-3/2025-04-30/
LOCATION:Moutere Hills Community Centre
CATEGORIES:Exercise Class
ORGANIZER;CN="Sara":MAILTO:powerhoopingnelson@gmail.com
END:VEVENT
BEGIN:VEVENT
DTSTART;TZID=Pacific/Auckland:20250430T090000
DTEND;TZID=Pacific/Auckland:20250430T140000
DTSTAMP:20260420T112110
CREATED:20250426T030417Z
LAST-MODIFIED:20250426T030417Z
UID:10030718-1746003600-1746021600@www.mouterehills.org.nz
SUMMARY:Kai Collective
DESCRIPTION:Kitchen all day
URL:https://www.mouterehills.org.nz/event/kai-collective-5/
LOCATION:Kitchen
CATEGORIES:Event,Meeting
END:VEVENT
BEGIN:VEVENT
DTSTART;TZID=Pacific/Auckland:20250501T153000
DTEND;TZID=Pacific/Auckland:20250501T173000
DTSTAMP:20260420T112110
CREATED:20250426T235123Z
LAST-MODIFIED:20250426T235612Z
UID:10027385-1746113400-1746120600@www.mouterehills.org.nz
SUMMARY:Aerial Silks (2)
DESCRIPTION:Class times as follows: \n3:30pm – 4:30pm Children’s class\n4:30pm – 5:30pm Teens and Adults\nContact Ilka for more information – 022 085 5970 or email: tasman silks@gmail.com
URL:https://www.mouterehills.org.nz/event/aerial-silks-thursday-2/2025-05-01/
LOCATION:Moutere Hills Community Centre
CATEGORIES:Exercise Class
END:VEVENT
END:VCALENDAR