BEGIN:VCALENDAR
VERSION:2.0
PRODID:-//Moutere Hills Community Centre - ECPv6.15.19//NONSGML v1.0//EN
CALSCALE:GREGORIAN
METHOD:PUBLISH
X-ORIGINAL-URL:https://www.mouterehills.org.nz
X-WR-CALDESC:Events for Moutere Hills Community Centre
REFRESH-INTERVAL;VALUE=DURATION:PT1H
X-Robots-Tag:noindex
X-PUBLISHED-TTL:PT1H
BEGIN:VTIMEZONE
TZID:Pacific/Auckland
BEGIN:STANDARD
TZOFFSETFROM:+1300
TZOFFSETTO:+1200
TZNAME:NZST
DTSTART:20240406T140000
END:STANDARD
BEGIN:DAYLIGHT
TZOFFSETFROM:+1200
TZOFFSETTO:+1300
TZNAME:NZDT
DTSTART:20240928T140000
END:DAYLIGHT
BEGIN:STANDARD
TZOFFSETFROM:+1300
TZOFFSETTO:+1200
TZNAME:NZST
DTSTART:20250405T140000
END:STANDARD
BEGIN:DAYLIGHT
TZOFFSETFROM:+1200
TZOFFSETTO:+1300
TZNAME:NZDT
DTSTART:20250927T140000
END:DAYLIGHT
BEGIN:STANDARD
TZOFFSETFROM:+1300
TZOFFSETTO:+1200
TZNAME:NZST
DTSTART:20260404T140000
END:STANDARD
BEGIN:DAYLIGHT
TZOFFSETFROM:+1200
TZOFFSETTO:+1300
TZNAME:NZDT
DTSTART:20260926T140000
END:DAYLIGHT
END:VTIMEZONE
BEGIN:VEVENT
DTSTART;TZID=Pacific/Auckland:20250515T153000
DTEND;TZID=Pacific/Auckland:20250515T173000
DTSTAMP:20260420T182054
CREATED:20250506T204506Z
LAST-MODIFIED:20250506T204630Z
UID:10031801-1747323000-1747330200@www.mouterehills.org.nz
SUMMARY:Aerial Silks (2)
DESCRIPTION:Class times as follows: \n3:30pm – 4:30pm Children’s class\n4:30pm – 5:30pm Teens and Adults\nContact Ilka for more information – 022 085 5970 or email: tasman silks@gmail.com
URL:https://www.mouterehills.org.nz/event/aerial-silks-2/2025-05-15/
LOCATION:Sports Hall
CATEGORIES:Exercise Class
END:VEVENT
BEGIN:VEVENT
DTSTART;TZID=Pacific/Auckland:20250520T153000
DTEND;TZID=Pacific/Auckland:20250520T173000
DTSTAMP:20260420T182054
CREATED:20250428T213403Z
LAST-MODIFIED:20250428T214839Z
UID:10031753-1747755000-1747762200@www.mouterehills.org.nz
SUMMARY:Strawberry Industry booking
DESCRIPTION:
URL:https://www.mouterehills.org.nz/event/strawberry-industry-booking/
LOCATION:Community Room
CATEGORIES:Meeting
END:VEVENT
BEGIN:VEVENT
DTSTART;TZID=Pacific/Auckland:20250521T180000
DTEND;TZID=Pacific/Auckland:20250521T213000
DTSTAMP:20260420T182054
CREATED:20250311T202305Z
LAST-MODIFIED:20250311T202305Z
UID:10028726-1747850400-1747863000@www.mouterehills.org.nz
SUMMARY:Friends of Flora
DESCRIPTION:AGM
URL:https://www.mouterehills.org.nz/event/friends-of-flora-2/
LOCATION:Moutere Hills Community Centre
CATEGORIES:Event,Meeting
END:VEVENT
BEGIN:VEVENT
DTSTART;TZID=Pacific/Auckland:20250522T080000
DTEND;TZID=Pacific/Auckland:20250522T160000
DTSTAMP:20260420T182054
CREATED:20250428T213518Z
LAST-MODIFIED:20250428T213518Z
UID:10031754-1747900800-1747929600@www.mouterehills.org.nz
SUMMARY:Business meeting
DESCRIPTION:
URL:https://www.mouterehills.org.nz/event/business-meeting-27/
LOCATION:Community Room
CATEGORIES:Meeting
END:VEVENT
BEGIN:VEVENT
DTSTART;TZID=Pacific/Auckland:20250523T173000
DTEND;TZID=Pacific/Auckland:20250523T193000
DTSTAMP:20260420T182054
CREATED:20250516T043531Z
LAST-MODIFIED:20250516T043531Z
UID:10031948-1748021400-1748028600@www.mouterehills.org.nz
SUMMARY:Social Evening
DESCRIPTION:Join us for a relaxed evening at the end of the week. Great chance to catch up\, connect\, and unwind – bring your friends. Bar will be open\, food available to purchase\, and bring your coins for our raffles. We hope to see you there!
URL:https://www.mouterehills.org.nz/event/social-evening/
LOCATION:Function room
CATEGORIES:Event
END:VEVENT
BEGIN:VEVENT
DTSTART;TZID=Pacific/Auckland:20250524T170000
DTEND;TZID=Pacific/Auckland:20250524T190000
DTSTAMP:20260420T182054
CREATED:20250428T213722Z
LAST-MODIFIED:20250428T213722Z
UID:10031755-1748106000-1748113200@www.mouterehills.org.nz
SUMMARY:Private booking
DESCRIPTION:
URL:https://www.mouterehills.org.nz/event/private-booking-86/
LOCATION:Community Room
CATEGORIES:Meeting
END:VEVENT
BEGIN:VEVENT
DTSTART;TZID=Pacific/Auckland:20250604T083000
DTEND;TZID=Pacific/Auckland:20250604T150000
DTSTAMP:20260420T182054
CREATED:20250527T214657Z
LAST-MODIFIED:20250527T214657Z
UID:10031950-1749025800-1749049200@www.mouterehills.org.nz
SUMMARY:Home School booking
DESCRIPTION:
URL:https://www.mouterehills.org.nz/event/home-school-booking/
LOCATION:Function room
CATEGORIES:Event
END:VEVENT
BEGIN:VEVENT
DTSTART;TZID=Pacific/Auckland:20250604T113000
DTEND;TZID=Pacific/Auckland:20250604T123000
DTSTAMP:20260420T182054
CREATED:20250531T054543Z
LAST-MODIFIED:20250531T054543Z
UID:10031970-1749036600-1749040200@www.mouterehills.org.nz
SUMMARY:Abilities in Action
DESCRIPTION:Register for this new programme – starts Wednesday 4th June for 4 weeks. Suitable for ages 8-23 years. \n$25 per family \nContact the centre: email enquiries@mouterehills.org.nz or ph 03 5432 516
URL:https://www.mouterehills.org.nz/event/abilities-in-action/2025-06-04/
LOCATION:Moutere Hills Community Centre
CATEGORIES:Exercise Class
END:VEVENT
BEGIN:VEVENT
DTSTART;TZID=Pacific/Auckland:20250606T180000
DTEND;TZID=Pacific/Auckland:20250606T223000
DTSTAMP:20260420T182054
CREATED:20250428T213854Z
LAST-MODIFIED:20250428T213854Z
UID:10031756-1749232800-1749249000@www.mouterehills.org.nz
SUMMARY:Quiz night TBCS
DESCRIPTION:
URL:https://www.mouterehills.org.nz/event/quiz-night-tbcs/
LOCATION:Function room
CATEGORIES:Event
END:VEVENT
BEGIN:VEVENT
DTSTART;TZID=Pacific/Auckland:20250607T090000
DTEND;TZID=Pacific/Auckland:20250607T163000
DTSTAMP:20260420T182054
CREATED:20250506T203623Z
LAST-MODIFIED:20250506T203623Z
UID:10031764-1749286800-1749313800@www.mouterehills.org.nz
SUMMARY:Private Booking
DESCRIPTION:Function room\, Sportshall and Kitchen \n 
URL:https://www.mouterehills.org.nz/event/private-booking-87/
LOCATION:Moutere Hills Community Centre
CATEGORIES:Event,Meeting
END:VEVENT
BEGIN:VEVENT
DTSTART;TZID=Pacific/Auckland:20250607T170000
DTEND;TZID=Pacific/Auckland:20250607T220000
DTSTAMP:20260420T182054
CREATED:20250529T010503Z
LAST-MODIFIED:20250529T010503Z
UID:10031956-1749315600-1749333600@www.mouterehills.org.nz
SUMMARY:Line Dancing
DESCRIPTION:
URL:https://www.mouterehills.org.nz/event/line-dancing-2/
LOCATION:Moutere Hills Community Centre
CATEGORIES:Event
END:VEVENT
BEGIN:VEVENT
DTSTART;TZID=Pacific/Auckland:20250607T183000
DTEND;TZID=Pacific/Auckland:20250607T223000
DTSTAMP:20260420T182054
CREATED:20250428T214004Z
LAST-MODIFIED:20250428T214004Z
UID:10031757-1749321000-1749335400@www.mouterehills.org.nz
SUMMARY:Line - Dancing
DESCRIPTION:
URL:https://www.mouterehills.org.nz/event/line-dancing/
LOCATION:Moutere Hills Community Centre
CATEGORIES:Event
END:VEVENT
BEGIN:VEVENT
DTSTART;TZID=Pacific/Auckland:20250608T090000
DTEND;TZID=Pacific/Auckland:20250608T163000
DTSTAMP:20260420T182054
CREATED:20250527T215832Z
LAST-MODIFIED:20250527T215832Z
UID:10031951-1749373200-1749400200@www.mouterehills.org.nz
SUMMARY:Inspired Faith Church
DESCRIPTION:
URL:https://www.mouterehills.org.nz/event/inspired-faith-church/
LOCATION:Moutere Hills Community Centre
CATEGORIES:Event
END:VEVENT
BEGIN:VEVENT
DTSTART;TZID=Pacific/Auckland:20250608T173000
DTEND;TZID=Pacific/Auckland:20250608T183000
DTSTAMP:20260420T182054
CREATED:20250529T010700Z
LAST-MODIFIED:20250529T010700Z
UID:10031957-1749403800-1749407400@www.mouterehills.org.nz
SUMMARY:Mahana School Basketball practice
DESCRIPTION:
URL:https://www.mouterehills.org.nz/event/mahana-school-basketball-practice/
LOCATION:Sports Hall
CATEGORIES:Event
END:VEVENT
BEGIN:VEVENT
DTSTART;TZID=Pacific/Auckland:20250610T080000
DTEND;TZID=Pacific/Auckland:20250610T160000
DTSTAMP:20260420T182054
CREATED:20250428T214045Z
LAST-MODIFIED:20250428T214045Z
UID:10031758-1749542400-1749571200@www.mouterehills.org.nz
SUMMARY:Business meeting
DESCRIPTION:
URL:https://www.mouterehills.org.nz/event/business-meeting-28/
LOCATION:Community Room
CATEGORIES:Meeting
END:VEVENT
BEGIN:VEVENT
DTSTART;TZID=Pacific/Auckland:20250610T080000
DTEND;TZID=Pacific/Auckland:20250610T160000
DTSTAMP:20260420T182054
CREATED:20250529T010817Z
LAST-MODIFIED:20250529T010817Z
UID:10031958-1749542400-1749571200@www.mouterehills.org.nz
SUMMARY:Business meeting
DESCRIPTION:
URL:https://www.mouterehills.org.nz/event/business-meeting-29/
LOCATION:Community Room
CATEGORIES:Event
END:VEVENT
BEGIN:VEVENT
DTSTART;TZID=Pacific/Auckland:20250613T133000
DTEND;TZID=Pacific/Auckland:20250613T153000
DTSTAMP:20260420T182054
CREATED:20250529T010923Z
LAST-MODIFIED:20250529T010923Z
UID:10031959-1749821400-1749828600@www.mouterehills.org.nz
SUMMARY:Homeschool Basketball
DESCRIPTION:
URL:https://www.mouterehills.org.nz/event/homeschool-basketball/
LOCATION:Sports Hall
CATEGORIES:Event
END:VEVENT
BEGIN:VEVENT
DTSTART;VALUE=DATE:20250614
DTEND;VALUE=DATE:20250615
DTSTAMP:20260420T182054
CREATED:20250527T220104Z
LAST-MODIFIED:20250527T220104Z
UID:10031952-1749859200-1749945599@www.mouterehills.org.nz
SUMMARY:Rangers Club day
DESCRIPTION:
URL:https://www.mouterehills.org.nz/event/rangers-club-day/
LOCATION:Moutere Hills Community Centre
CATEGORIES:Event
END:VEVENT
BEGIN:VEVENT
DTSTART;TZID=Pacific/Auckland:20250614T133000
DTEND;TZID=Pacific/Auckland:20250614T170000
DTSTAMP:20260420T182054
CREATED:20250428T214140Z
LAST-MODIFIED:20250428T215402Z
UID:10031759-1749907800-1749920400@www.mouterehills.org.nz
SUMMARY:Valley Stags home game/ Rangers club day
DESCRIPTION:
URL:https://www.mouterehills.org.nz/event/valley-stags-home-game-2/
LOCATION:Moutere Hills Community Centre
CATEGORIES:Community Recreation
END:VEVENT
BEGIN:VEVENT
DTSTART;TZID=Pacific/Auckland:20250618T090000
DTEND;TZID=Pacific/Auckland:20250618T120000
DTSTAMP:20260420T182054
CREATED:20250527T220232Z
LAST-MODIFIED:20250527T220232Z
UID:10031953-1750237200-1750248000@www.mouterehills.org.nz
SUMMARY:Kai Collective
DESCRIPTION:
URL:https://www.mouterehills.org.nz/event/kai-collective-6/
LOCATION:Kitchen
CATEGORIES:Event
END:VEVENT
BEGIN:VEVENT
DTSTART;TZID=Pacific/Auckland:20250621T160000
DTEND;TZID=Pacific/Auckland:20250621T223000
DTSTAMP:20260420T182054
CREATED:20250618T004520Z
LAST-MODIFIED:20250618T004520Z
UID:10032032-1750521600-1750545000@www.mouterehills.org.nz
SUMMARY:private Booking
DESCRIPTION:Centre Booking
URL:https://www.mouterehills.org.nz/event/private-booking-89/
LOCATION:Moutere Hills Community Centre
CATEGORIES:Event
END:VEVENT
BEGIN:VEVENT
DTSTART;TZID=Pacific/Auckland:20250627T180000
DTEND;TZID=Pacific/Auckland:20250627T230000
DTSTAMP:20260420T182054
CREATED:20250516T043834Z
LAST-MODIFIED:20250516T043834Z
UID:10031949-1751047200-1751065200@www.mouterehills.org.nz
SUMMARY:High Stakes and Hot Plates Fundraiser
DESCRIPTION:Mark your calendar for our fundraiser! Expect a fun night with great food\, a few surprises\, and all proceeds go towards the the gym expansion. Tickets $45 and can be purchased from the office. \nSee upcoming events page for more info
URL:https://www.mouterehills.org.nz/event/high-stakes-and-hot-plates-fundraiser/
LOCATION:Function room
CATEGORIES:Event
END:VEVENT
BEGIN:VEVENT
DTSTART;TZID=Pacific/Auckland:20250703T160000
DTEND;TZID=Pacific/Auckland:20250703T220000
DTSTAMP:20260420T182054
CREATED:20250311T202112Z
LAST-MODIFIED:20250311T202112Z
UID:10028725-1751558400-1751580000@www.mouterehills.org.nz
SUMMARY:Whenua iti
DESCRIPTION:Kitchen all day \nFunction room 4pm – 10pm
URL:https://www.mouterehills.org.nz/event/whenua-iti-2/
LOCATION:Moutere Hills Community Centre
CATEGORIES:Event
END:VEVENT
BEGIN:VEVENT
DTSTART;TZID=Pacific/Auckland:20250703T160000
DTEND;TZID=Pacific/Auckland:20250703T223000
DTSTAMP:20260420T182054
CREATED:20250428T214322Z
LAST-MODIFIED:20250428T214322Z
UID:10031760-1751558400-1751581800@www.mouterehills.org.nz
SUMMARY:Whenua Iti
DESCRIPTION:Dinner event
URL:https://www.mouterehills.org.nz/event/whenua-iti-3/
LOCATION:Function room
CATEGORIES:Event
END:VEVENT
BEGIN:VEVENT
DTSTART;TZID=Pacific/Auckland:20250703T160000
DTEND;TZID=Pacific/Auckland:20250703T223000
DTSTAMP:20260420T182054
CREATED:20250529T011215Z
LAST-MODIFIED:20250529T011215Z
UID:10031960-1751558400-1751581800@www.mouterehills.org.nz
SUMMARY:Whenua Iti booking
DESCRIPTION:
URL:https://www.mouterehills.org.nz/event/whenua-iti-booking/
LOCATION:Moutere Hills Community Centre
CATEGORIES:Event
END:VEVENT
BEGIN:VEVENT
DTSTART;TZID=Pacific/Auckland:20250704T190000
DTEND;TZID=Pacific/Auckland:20250704T210000
DTSTAMP:20260420T182054
CREATED:20250527T220433Z
LAST-MODIFIED:20250527T220433Z
UID:10031954-1751655600-1751662800@www.mouterehills.org.nz
SUMMARY:OKC Talk
DESCRIPTION:
URL:https://www.mouterehills.org.nz/event/okc-talk/
LOCATION:Function room
CATEGORIES:Event
END:VEVENT
BEGIN:VEVENT
DTSTART;TZID=Pacific/Auckland:20250705T133000
DTEND;TZID=Pacific/Auckland:20250705T170000
DTSTAMP:20260420T182054
CREATED:20250428T214410Z
LAST-MODIFIED:20250428T214410Z
UID:10031761-1751722200-1751734800@www.mouterehills.org.nz
SUMMARY:Valley Stags Home game
DESCRIPTION:
URL:https://www.mouterehills.org.nz/event/valley-stags-home-game-3/
LOCATION:Moutere Hills Community Centre
CATEGORIES:Community Recreation
END:VEVENT
BEGIN:VEVENT
DTSTART;TZID=Pacific/Auckland:20250705T140000
DTEND;TZID=Pacific/Auckland:20250705T210000
DTSTAMP:20260420T182054
CREATED:20250529T011316Z
LAST-MODIFIED:20250529T011316Z
UID:10031961-1751724000-1751749200@www.mouterehills.org.nz
SUMMARY:Valley Stags Home game
DESCRIPTION:
URL:https://www.mouterehills.org.nz/event/valley-stags-home-game-4/
LOCATION:Moutere Hills Community Centre
CATEGORIES:Event
END:VEVENT
BEGIN:VEVENT
DTSTART;TZID=Pacific/Auckland:20250719T110000
DTEND;TZID=Pacific/Auckland:20250719T150000
DTSTAMP:20260420T182054
CREATED:20250211T231259Z
LAST-MODIFIED:20250718T101702Z
UID:10032038-1752922800-1752937200@www.mouterehills.org.nz
SUMMARY:Sarau Winter Sale
DESCRIPTION:Annual winter book fair
URL:https://www.mouterehills.org.nz/event/sarau-winter-sale-4/2025-07-19/
LOCATION:Moutere Hills Community Centre
CATEGORIES:Event
END:VEVENT
BEGIN:VEVENT
DTSTART;TZID=Pacific/Auckland:20250719T110000
DTEND;TZID=Pacific/Auckland:20250719T150000
DTSTAMP:20260420T182054
CREATED:20250428T214523Z
LAST-MODIFIED:20250718T101027Z
UID:10031762-1752922800-1752937200@www.mouterehills.org.nz
SUMMARY:Sarau Winter Sale
DESCRIPTION:
URL:https://www.mouterehills.org.nz/event/sarau-winter-sale-5/2025-07-19/
LOCATION:Moutere Hills Community Centre
CATEGORIES:Event
END:VEVENT
END:VCALENDAR