BEGIN:VCALENDAR
VERSION:2.0
PRODID:-//Moutere Hills Community Centre - ECPv6.15.19//NONSGML v1.0//EN
CALSCALE:GREGORIAN
METHOD:PUBLISH
X-WR-CALNAME:Moutere Hills Community Centre
X-ORIGINAL-URL:https://www.mouterehills.org.nz
X-WR-CALDESC:Events for Moutere Hills Community Centre
REFRESH-INTERVAL;VALUE=DURATION:PT1H
X-Robots-Tag:noindex
X-PUBLISHED-TTL:PT1H
BEGIN:VTIMEZONE
TZID:Pacific/Auckland
BEGIN:STANDARD
TZOFFSETFROM:+1300
TZOFFSETTO:+1200
TZNAME:NZST
DTSTART:20220402T140000
END:STANDARD
BEGIN:DAYLIGHT
TZOFFSETFROM:+1200
TZOFFSETTO:+1300
TZNAME:NZDT
DTSTART:20220924T140000
END:DAYLIGHT
BEGIN:STANDARD
TZOFFSETFROM:+1300
TZOFFSETTO:+1200
TZNAME:NZST
DTSTART:20230401T140000
END:STANDARD
BEGIN:DAYLIGHT
TZOFFSETFROM:+1200
TZOFFSETTO:+1300
TZNAME:NZDT
DTSTART:20230923T140000
END:DAYLIGHT
BEGIN:STANDARD
TZOFFSETFROM:+1300
TZOFFSETTO:+1200
TZNAME:NZST
DTSTART:20240406T140000
END:STANDARD
BEGIN:DAYLIGHT
TZOFFSETFROM:+1200
TZOFFSETTO:+1300
TZNAME:NZDT
DTSTART:20240928T140000
END:DAYLIGHT
END:VTIMEZONE
BEGIN:VEVENT
DTSTART;TZID=Pacific/Auckland:20231110T190000
DTEND;TZID=Pacific/Auckland:20231110T230000
DTSTAMP:20260420T181931
CREATED:20231027T225740Z
LAST-MODIFIED:20231027T225740Z
UID:10008789-1699642800-1699657200@www.mouterehills.org.nz
SUMMARY:Home-school teen movie night
DESCRIPTION:Function Room
URL:https://www.mouterehills.org.nz/event/home-school-teen-movie-night/
CATEGORIES:Community Recreation
END:VEVENT
BEGIN:VEVENT
DTSTART;TZID=Pacific/Auckland:20231110T120000
DTEND;TZID=Pacific/Auckland:20231110T180000
DTSTAMP:20260420T181931
CREATED:20231027T225620Z
LAST-MODIFIED:20231027T225620Z
UID:10008788-1699617600-1699639200@www.mouterehills.org.nz
SUMMARY:Private Booking
DESCRIPTION:Booking for a memorial service.
URL:https://www.mouterehills.org.nz/event/private-booking-38/
LOCATION:Moutere Hills Community Centre
CATEGORIES:Event
END:VEVENT
BEGIN:VEVENT
DTSTART;TZID=Pacific/Auckland:20231108T090000
DTEND;TZID=Pacific/Auckland:20231108T220000
DTSTAMP:20260420T181931
CREATED:20231027T225135Z
LAST-MODIFIED:20231027T225135Z
UID:10008787-1699434000-1699480800@www.mouterehills.org.nz
SUMMARY:Mahana School Production
DESCRIPTION:Both a Matinee and Evening performance.
URL:https://www.mouterehills.org.nz/event/mahana-school-production-3/
LOCATION:Moutere Hills Community Centre
CATEGORIES:Event
END:VEVENT
BEGIN:VEVENT
DTSTART;TZID=Pacific/Auckland:20231107T090000
DTEND;TZID=Pacific/Auckland:20231107T150000
DTSTAMP:20260420T181931
CREATED:20231027T224953Z
LAST-MODIFIED:20231027T224953Z
UID:10008786-1699347600-1699369200@www.mouterehills.org.nz
SUMMARY:Mahana School Production
DESCRIPTION:Dress Rehearsal
URL:https://www.mouterehills.org.nz/event/mahana-school-production-2/
LOCATION:Moutere Hills Community Centre
CATEGORIES:Event
END:VEVENT
BEGIN:VEVENT
DTSTART;TZID=Pacific/Auckland:20231104T110000
DTEND;TZID=Pacific/Auckland:20231104T130000
DTSTAMP:20260420T181931
CREATED:20231027T223538Z
LAST-MODIFIED:20231027T223538Z
UID:10008785-1699095600-1699102800@www.mouterehills.org.nz
SUMMARY:Private Booking
DESCRIPTION:Community Room and Sports hall hired for birthday party.
URL:https://www.mouterehills.org.nz/event/private-booking-37/
LOCATION:Moutere Hills Community Centre
CATEGORIES:Meeting
END:VEVENT
BEGIN:VEVENT
DTSTART;TZID=Pacific/Auckland:20231028T090000
DTEND;TZID=Pacific/Auckland:20231103T090000
DTSTAMP:20260420T181931
CREATED:20231027T223338Z
LAST-MODIFIED:20231027T223338Z
UID:10008784-1698483600-1699002000@www.mouterehills.org.nz
SUMMARY:Hosting Te Kura Akonga o Manurewa
DESCRIPTION:A school is staying for the week to attend the National Primary Kapa Haka Festival
URL:https://www.mouterehills.org.nz/event/hosting-te-kura-akonga-o-manurewa/
LOCATION:Moutere Hills Community Centre
CATEGORIES:Community Recreation
END:VEVENT
BEGIN:VEVENT
DTSTART;TZID=Pacific/Auckland:20231016T180000
DTEND;TZID=Pacific/Auckland:20231016T213000
DTSTAMP:20260420T181931
CREATED:20230724T235223Z
LAST-MODIFIED:20230823T054915Z
UID:10008248-1697479200-1697491800@www.mouterehills.org.nz
SUMMARY:Homeschool Family Dance and Supper
DESCRIPTION:Function Room\, Sportshall and Kitchen.
URL:https://www.mouterehills.org.nz/event/homeschool-family-dance-and-supper/
LOCATION:Moutere Hills Community Centre
CATEGORIES:Community Recreation
END:VEVENT
BEGIN:VEVENT
DTSTART;TZID=Pacific/Auckland:20230909T180000
DTEND;TZID=Pacific/Auckland:20230909T230000
DTSTAMP:20260420T181931
CREATED:20230724T235617Z
LAST-MODIFIED:20230724T235617Z
UID:10008250-1694282400-1694300400@www.mouterehills.org.nz
SUMMARY:Upper Moutere School Quiz Night
DESCRIPTION:A fun night out raising funds for Upper Moutere School.
URL:https://www.mouterehills.org.nz/event/upper-moutere-school-quiz-night-2/
LOCATION:Moutere Hills Community Centre
CATEGORIES:Event
END:VEVENT
BEGIN:VEVENT
DTSTART;TZID=Pacific/Auckland:20230906T120000
DTEND;TZID=Pacific/Auckland:20230906T170000
DTSTAMP:20260420T181931
CREATED:20230724T235406Z
LAST-MODIFIED:20230724T235406Z
UID:10008249-1694001600-1694019600@www.mouterehills.org.nz
SUMMARY:Business Meeting
DESCRIPTION:In Function Room
URL:https://www.mouterehills.org.nz/event/business-meeting-21/
LOCATION:Moutere Hills Community Centre
CATEGORIES:Meeting
END:VEVENT
BEGIN:VEVENT
DTSTART;TZID=Pacific/Auckland:20230901T190000
DTEND;TZID=Pacific/Auckland:20230901T220000
DTSTAMP:20260420T181931
CREATED:20230823T033302Z
LAST-MODIFIED:20230823T033302Z
UID:10008259-1693594800-1693605600@www.mouterehills.org.nz
SUMMARY:Youth Group
DESCRIPTION:Booking for the sportshall
URL:https://www.mouterehills.org.nz/event/youth-group-2/
LOCATION:Moutere Hills Community Centre
CATEGORIES:Community Recreation
END:VEVENT
BEGIN:VEVENT
DTSTART;TZID=Pacific/Auckland:20230831T110000
DTEND;TZID=Pacific/Auckland:20230831T123000
DTSTAMP:20260420T181931
CREATED:20230718T030230Z
LAST-MODIFIED:20230718T031038Z
UID:10008230-1693479600-1693485000@www.mouterehills.org.nz
SUMMARY:Homeschool Dance
DESCRIPTION:Sportshall booked for dance class for homeschool students.
URL:https://www.mouterehills.org.nz/event/homeschool-dance/2023-08-31/
LOCATION:Moutere Hills Community Centre
CATEGORIES:Community Recreation
END:VEVENT
BEGIN:VEVENT
DTSTART;TZID=Pacific/Auckland:20230827T130000
DTEND;TZID=Pacific/Auckland:20230827T160000
DTSTAMP:20260420T181931
CREATED:20230823T033130Z
LAST-MODIFIED:20230823T033806Z
UID:10008258-1693141200-1693152000@www.mouterehills.org.nz
SUMMARY:Private Booking
DESCRIPTION:Booking for Function Room and Kitchen.
URL:https://www.mouterehills.org.nz/event/private-booking-41/
LOCATION:Moutere Hills Community Centre
CATEGORIES:Event
END:VEVENT
BEGIN:VEVENT
DTSTART;TZID=Pacific/Auckland:20230827T080000
DTEND;TZID=Pacific/Auckland:20230827T110000
DTSTAMP:20260420T181931
CREATED:20230724T234836Z
LAST-MODIFIED:20230724T234836Z
UID:10008246-1693123200-1693134000@www.mouterehills.org.nz
SUMMARY:Moutere Hop
DESCRIPTION:Registration and Breakfast in Community Room.
URL:https://www.mouterehills.org.nz/event/moutere-hop-8/
LOCATION:Moutere Hills Community Centre
CATEGORIES:Event
END:VEVENT
BEGIN:VEVENT
DTSTART;TZID=Pacific/Auckland:20230826T183000
DTEND;TZID=Pacific/Auckland:20230826T210000
DTSTAMP:20260420T181931
CREATED:20230823T031640Z
LAST-MODIFIED:20230823T052313Z
UID:10008256-1693074600-1693083600@www.mouterehills.org.nz
SUMMARY:Family Games Night
DESCRIPTION:A fundraising event for Tamaha Scouts.  Function Room and Kitchen.
URL:https://www.mouterehills.org.nz/event/family-games-night/
LOCATION:Moutere Hills Community Centre
CATEGORIES:Event
END:VEVENT
BEGIN:VEVENT
DTSTART;TZID=Pacific/Auckland:20230826T120000
DTEND;TZID=Pacific/Auckland:20230826T140000
DTSTAMP:20260420T181931
CREATED:20230823T031501Z
LAST-MODIFIED:20230823T033437Z
UID:10008255-1693051200-1693058400@www.mouterehills.org.nz
SUMMARY:Moutere Youth Group
DESCRIPTION:Community Room from Hair Styling workshop \nContact Hayley at moutereyouth@gmail.com
URL:https://www.mouterehills.org.nz/event/moutere-youth-group/
LOCATION:Moutere Hills Community Centre
CATEGORIES:Community Recreation
END:VEVENT
BEGIN:VEVENT
DTSTART;TZID=Pacific/Auckland:20230826T100000
DTEND;TZID=Pacific/Auckland:20230826T120000
DTSTAMP:20260420T181931
CREATED:20230823T031316Z
LAST-MODIFIED:20230823T051925Z
UID:10008254-1693044000-1693051200@www.mouterehills.org.nz
SUMMARY:Private Booking
DESCRIPTION:Function Room + bouncy castle for Birthday party
URL:https://www.mouterehills.org.nz/event/private-booking-40/
LOCATION:Moutere Hills Community Centre
CATEGORIES:Meeting
END:VEVENT
BEGIN:VEVENT
DTSTART;TZID=Pacific/Auckland:20230825T170000
DTEND;TZID=Pacific/Auckland:20230825T193000
DTSTAMP:20260420T181931
CREATED:20230823T031046Z
LAST-MODIFIED:20230823T052110Z
UID:10008253-1692982800-1692991800@www.mouterehills.org.nz
SUMMARY:Rangers Rugby Club prizegiving
DESCRIPTION:End of year prizegiving for Rangers Rugby Club in the Function Room and Sportshall.
URL:https://www.mouterehills.org.nz/event/rangers-rugby-club-prizegiving/
LOCATION:Moutere Hills Community Centre
CATEGORIES:Community Recreation
END:VEVENT
BEGIN:VEVENT
DTSTART;TZID=Pacific/Auckland:20230823T183000
DTEND;TZID=Pacific/Auckland:20230823T213000
DTSTAMP:20260420T181931
CREATED:20230823T025313Z
LAST-MODIFIED:20230823T025313Z
UID:10008251-1692815400-1692826200@www.mouterehills.org.nz
SUMMARY:Booking for Community Meeting
DESCRIPTION:Booking for the Function Room
URL:https://www.mouterehills.org.nz/event/booking-for-community-meeting/
LOCATION:Moutere Hills Community Centre
CATEGORIES:Meeting
END:VEVENT
BEGIN:VEVENT
DTSTART;TZID=Pacific/Auckland:20230823T110000
DTEND;TZID=Pacific/Auckland:20230823T143000
DTSTAMP:20260420T181931
CREATED:20230823T025512Z
LAST-MODIFIED:20230823T025512Z
UID:10008252-1692788400-1692801000@www.mouterehills.org.nz
SUMMARY:Private Booking
DESCRIPTION:Act Party Meeting in Function Room
URL:https://www.mouterehills.org.nz/event/private-booking-39/
LOCATION:Moutere Hills Community Centre
CATEGORIES:Meeting
END:VEVENT
BEGIN:VEVENT
DTSTART;TZID=Pacific/Auckland:20230819T140000
DTEND;TZID=Pacific/Auckland:20230819T170000
DTSTAMP:20260420T181931
CREATED:20230724T234407Z
LAST-MODIFIED:20230724T234407Z
UID:10008243-1692453600-1692464400@www.mouterehills.org.nz
SUMMARY:Private Booking
DESCRIPTION:Function Room with Bar open
URL:https://www.mouterehills.org.nz/event/private-booking-36/
LOCATION:Moutere Hills Community Centre
CATEGORIES:Event
END:VEVENT
BEGIN:VEVENT
DTSTART;TZID=Pacific/Auckland:20230818T160000
DTEND;TZID=Pacific/Auckland:20230818T230000
DTSTAMP:20260420T181931
CREATED:20230724T234235Z
LAST-MODIFIED:20230724T234235Z
UID:10008242-1692374400-1692399600@www.mouterehills.org.nz
SUMMARY:Tasman Bay Christian School Quiz Night
DESCRIPTION:A fun night out raising funds for Tasman Bay Christian School.
URL:https://www.mouterehills.org.nz/event/tasman-bay-christian-school-quiz-night/
LOCATION:Moutere Hills Community Centre
CATEGORIES:Event
END:VEVENT
BEGIN:VEVENT
DTSTART;TZID=Pacific/Auckland:20230816T120000
DTEND;TZID=Pacific/Auckland:20230816T170000
DTSTAMP:20260420T181931
CREATED:20230724T234027Z
LAST-MODIFIED:20230724T234027Z
UID:10008241-1692187200-1692205200@www.mouterehills.org.nz
SUMMARY:Business Meeting
DESCRIPTION:In Function Room
URL:https://www.mouterehills.org.nz/event/business-meeting-20/
LOCATION:Moutere Hills Community Centre
CATEGORIES:Meeting
END:VEVENT
BEGIN:VEVENT
DTSTART;TZID=Pacific/Auckland:20230814T190000
DTEND;TZID=Pacific/Auckland:20230814T210000
DTSTAMP:20260420T181931
CREATED:20230724T232353Z
LAST-MODIFIED:20230724T232353Z
UID:10008240-1692039600-1692046800@www.mouterehills.org.nz
SUMMARY:Private Booking
DESCRIPTION:Greens Party meeting in Function Room
URL:https://www.mouterehills.org.nz/event/private-booking-35/
LOCATION:Moutere Hills Community Centre
CATEGORIES:Meeting
END:VEVENT
BEGIN:VEVENT
DTSTART;TZID=Pacific/Auckland:20230813T090000
DTEND;TZID=Pacific/Auckland:20230813T110000
DTSTAMP:20260420T181931
CREATED:20230724T225956Z
LAST-MODIFIED:20230724T225956Z
UID:10008239-1691917200-1691924400@www.mouterehills.org.nz
SUMMARY:Kai Collective
DESCRIPTION:Cook up of Community meals\, in the Kitchen.
URL:https://www.mouterehills.org.nz/event/kai-collective-2/
LOCATION:Moutere Hills Community Centre
CATEGORIES:Community Recreation
END:VEVENT
BEGIN:VEVENT
DTSTART;TZID=Pacific/Auckland:20230812T110000
DTEND;TZID=Pacific/Auckland:20230812T170000
DTSTAMP:20260420T181931
CREATED:20230724T225837Z
LAST-MODIFIED:20230724T225837Z
UID:10008238-1691838000-1691859600@www.mouterehills.org.nz
SUMMARY:Town vs Country Rugby Game
DESCRIPTION:Bar open and after match with meal in Function Room.
URL:https://www.mouterehills.org.nz/event/town-vs-country-rugby-game/
LOCATION:Moutere Hills Community Centre
CATEGORIES:Event
END:VEVENT
BEGIN:VEVENT
DTSTART;TZID=Pacific/Auckland:20230811T170000
DTEND;TZID=Pacific/Auckland:20230811T230000
DTSTAMP:20260420T181931
CREATED:20230724T225653Z
LAST-MODIFIED:20230724T225653Z
UID:10008237-1691773200-1691794800@www.mouterehills.org.nz
SUMMARY:Rangers Rugby Quiz Night
DESCRIPTION:A fun evening out to raise funds for Rangers Rugby Club.
URL:https://www.mouterehills.org.nz/event/rangers-rugby-quiz-night-2/
LOCATION:Moutere Hills Community Centre
CATEGORIES:Event
END:VEVENT
BEGIN:VEVENT
DTSTART;TZID=Pacific/Auckland:20230810T093000
DTEND;TZID=Pacific/Auckland:20230810T113000
DTSTAMP:20260420T181931
CREATED:20230724T225506Z
LAST-MODIFIED:20230724T225506Z
UID:10008236-1691659800-1691667000@www.mouterehills.org.nz
SUMMARY:Business Meeting
DESCRIPTION:Meeting with catering in Function Room
URL:https://www.mouterehills.org.nz/event/business-meeting-19/
LOCATION:Moutere Hills Community Centre
CATEGORIES:Meeting
END:VEVENT
BEGIN:VEVENT
DTSTART;TZID=Pacific/Auckland:20230805T173000
DTEND;TZID=Pacific/Auckland:20230805T213000
DTSTAMP:20260420T181931
CREATED:20230724T221817Z
LAST-MODIFIED:20230724T221817Z
UID:10008235-1691256600-1691271000@www.mouterehills.org.nz
SUMMARY:Private Booking
DESCRIPTION:Private Booking in Function Room and Kitchen
URL:https://www.mouterehills.org.nz/event/private-booking-34/
LOCATION:Moutere Hills Community Centre
CATEGORIES:Meeting
END:VEVENT
BEGIN:VEVENT
DTSTART;TZID=Pacific/Auckland:20230805T080000
DTEND;TZID=Pacific/Auckland:20230805T160000
DTSTAMP:20260420T181931
CREATED:20230724T221537Z
LAST-MODIFIED:20230724T221537Z
UID:10008234-1691222400-1691251200@www.mouterehills.org.nz
SUMMARY:Rangers Rugby Under 10 Tournament
DESCRIPTION:
URL:https://www.mouterehills.org.nz/event/rangers-rugby-under-10-tournament/
LOCATION:Moutere Hills Community Centre
CATEGORIES:Social Sport
END:VEVENT
BEGIN:VEVENT
DTSTART;TZID=Pacific/Auckland:20230730T130000
DTEND;TZID=Pacific/Auckland:20230730T160000
DTSTAMP:20260420T181931
CREATED:20230718T035353Z
LAST-MODIFIED:20230718T035353Z
UID:10008233-1690722000-1690732800@www.mouterehills.org.nz
SUMMARY:Private Booking
DESCRIPTION:Birthday party in sports hall and community room.
URL:https://www.mouterehills.org.nz/event/private-booking-33/
LOCATION:Moutere Hills Community Centre
CATEGORIES:Meeting
END:VEVENT
END:VCALENDAR