BEGIN:VCALENDAR
VERSION:2.0
PRODID:-//Moutere Hills Community Centre - ECPv6.15.19//NONSGML v1.0//EN
CALSCALE:GREGORIAN
METHOD:PUBLISH
X-WR-CALNAME:Moutere Hills Community Centre
X-ORIGINAL-URL:https://www.mouterehills.org.nz
X-WR-CALDESC:Events for Moutere Hills Community Centre
REFRESH-INTERVAL;VALUE=DURATION:PT1H
X-Robots-Tag:noindex
X-PUBLISHED-TTL:PT1H
BEGIN:VTIMEZONE
TZID:Pacific/Auckland
BEGIN:STANDARD
TZOFFSETFROM:+1300
TZOFFSETTO:+1200
TZNAME:NZST
DTSTART:20220402T140000
END:STANDARD
BEGIN:DAYLIGHT
TZOFFSETFROM:+1200
TZOFFSETTO:+1300
TZNAME:NZDT
DTSTART:20220924T140000
END:DAYLIGHT
BEGIN:STANDARD
TZOFFSETFROM:+1300
TZOFFSETTO:+1200
TZNAME:NZST
DTSTART:20230401T140000
END:STANDARD
BEGIN:DAYLIGHT
TZOFFSETFROM:+1200
TZOFFSETTO:+1300
TZNAME:NZDT
DTSTART:20230923T140000
END:DAYLIGHT
BEGIN:STANDARD
TZOFFSETFROM:+1300
TZOFFSETTO:+1200
TZNAME:NZST
DTSTART:20240406T140000
END:STANDARD
BEGIN:DAYLIGHT
TZOFFSETFROM:+1200
TZOFFSETTO:+1300
TZNAME:NZDT
DTSTART:20240928T140000
END:DAYLIGHT
END:VTIMEZONE
BEGIN:VEVENT
DTSTART;TZID=Pacific/Auckland:20230818T160000
DTEND;TZID=Pacific/Auckland:20230818T230000
DTSTAMP:20260420T181929
CREATED:20230724T234235Z
LAST-MODIFIED:20230724T234235Z
UID:10008242-1692374400-1692399600@www.mouterehills.org.nz
SUMMARY:Tasman Bay Christian School Quiz Night
DESCRIPTION:A fun night out raising funds for Tasman Bay Christian School.
URL:https://www.mouterehills.org.nz/event/tasman-bay-christian-school-quiz-night/
LOCATION:Moutere Hills Community Centre
CATEGORIES:Event
END:VEVENT
BEGIN:VEVENT
DTSTART;TZID=Pacific/Auckland:20230816T120000
DTEND;TZID=Pacific/Auckland:20230816T170000
DTSTAMP:20260420T181929
CREATED:20230724T234027Z
LAST-MODIFIED:20230724T234027Z
UID:10008241-1692187200-1692205200@www.mouterehills.org.nz
SUMMARY:Business Meeting
DESCRIPTION:In Function Room
URL:https://www.mouterehills.org.nz/event/business-meeting-20/
LOCATION:Moutere Hills Community Centre
CATEGORIES:Meeting
END:VEVENT
BEGIN:VEVENT
DTSTART;TZID=Pacific/Auckland:20230814T190000
DTEND;TZID=Pacific/Auckland:20230814T210000
DTSTAMP:20260420T181929
CREATED:20230724T232353Z
LAST-MODIFIED:20230724T232353Z
UID:10008240-1692039600-1692046800@www.mouterehills.org.nz
SUMMARY:Private Booking
DESCRIPTION:Greens Party meeting in Function Room
URL:https://www.mouterehills.org.nz/event/private-booking-35/
LOCATION:Moutere Hills Community Centre
CATEGORIES:Meeting
END:VEVENT
BEGIN:VEVENT
DTSTART;TZID=Pacific/Auckland:20230813T090000
DTEND;TZID=Pacific/Auckland:20230813T110000
DTSTAMP:20260420T181929
CREATED:20230724T225956Z
LAST-MODIFIED:20230724T225956Z
UID:10008239-1691917200-1691924400@www.mouterehills.org.nz
SUMMARY:Kai Collective
DESCRIPTION:Cook up of Community meals\, in the Kitchen.
URL:https://www.mouterehills.org.nz/event/kai-collective-2/
LOCATION:Moutere Hills Community Centre
CATEGORIES:Community Recreation
END:VEVENT
BEGIN:VEVENT
DTSTART;TZID=Pacific/Auckland:20230812T110000
DTEND;TZID=Pacific/Auckland:20230812T170000
DTSTAMP:20260420T181929
CREATED:20230724T225837Z
LAST-MODIFIED:20230724T225837Z
UID:10008238-1691838000-1691859600@www.mouterehills.org.nz
SUMMARY:Town vs Country Rugby Game
DESCRIPTION:Bar open and after match with meal in Function Room.
URL:https://www.mouterehills.org.nz/event/town-vs-country-rugby-game/
LOCATION:Moutere Hills Community Centre
CATEGORIES:Event
END:VEVENT
BEGIN:VEVENT
DTSTART;TZID=Pacific/Auckland:20230811T170000
DTEND;TZID=Pacific/Auckland:20230811T230000
DTSTAMP:20260420T181929
CREATED:20230724T225653Z
LAST-MODIFIED:20230724T225653Z
UID:10008237-1691773200-1691794800@www.mouterehills.org.nz
SUMMARY:Rangers Rugby Quiz Night
DESCRIPTION:A fun evening out to raise funds for Rangers Rugby Club.
URL:https://www.mouterehills.org.nz/event/rangers-rugby-quiz-night-2/
LOCATION:Moutere Hills Community Centre
CATEGORIES:Event
END:VEVENT
BEGIN:VEVENT
DTSTART;TZID=Pacific/Auckland:20230810T093000
DTEND;TZID=Pacific/Auckland:20230810T113000
DTSTAMP:20260420T181929
CREATED:20230724T225506Z
LAST-MODIFIED:20230724T225506Z
UID:10008236-1691659800-1691667000@www.mouterehills.org.nz
SUMMARY:Business Meeting
DESCRIPTION:Meeting with catering in Function Room
URL:https://www.mouterehills.org.nz/event/business-meeting-19/
LOCATION:Moutere Hills Community Centre
CATEGORIES:Meeting
END:VEVENT
BEGIN:VEVENT
DTSTART;TZID=Pacific/Auckland:20230805T173000
DTEND;TZID=Pacific/Auckland:20230805T213000
DTSTAMP:20260420T181929
CREATED:20230724T221817Z
LAST-MODIFIED:20230724T221817Z
UID:10008235-1691256600-1691271000@www.mouterehills.org.nz
SUMMARY:Private Booking
DESCRIPTION:Private Booking in Function Room and Kitchen
URL:https://www.mouterehills.org.nz/event/private-booking-34/
LOCATION:Moutere Hills Community Centre
CATEGORIES:Meeting
END:VEVENT
BEGIN:VEVENT
DTSTART;TZID=Pacific/Auckland:20230805T080000
DTEND;TZID=Pacific/Auckland:20230805T160000
DTSTAMP:20260420T181929
CREATED:20230724T221537Z
LAST-MODIFIED:20230724T221537Z
UID:10008234-1691222400-1691251200@www.mouterehills.org.nz
SUMMARY:Rangers Rugby Under 10 Tournament
DESCRIPTION:
URL:https://www.mouterehills.org.nz/event/rangers-rugby-under-10-tournament/
LOCATION:Moutere Hills Community Centre
CATEGORIES:Social Sport
END:VEVENT
BEGIN:VEVENT
DTSTART;TZID=Pacific/Auckland:20230730T130000
DTEND;TZID=Pacific/Auckland:20230730T160000
DTSTAMP:20260420T181929
CREATED:20230718T035353Z
LAST-MODIFIED:20230718T035353Z
UID:10008233-1690722000-1690732800@www.mouterehills.org.nz
SUMMARY:Private Booking
DESCRIPTION:Birthday party in sports hall and community room.
URL:https://www.mouterehills.org.nz/event/private-booking-33/
LOCATION:Moutere Hills Community Centre
CATEGORIES:Meeting
END:VEVENT
BEGIN:VEVENT
DTSTART;TZID=Pacific/Auckland:20230725T090000
DTEND;TZID=Pacific/Auckland:20230725T170000
DTSTAMP:20260420T181929
CREATED:20230718T034818Z
LAST-MODIFIED:20230718T034818Z
UID:10008232-1690275600-1690304400@www.mouterehills.org.nz
SUMMARY:Private Booking
DESCRIPTION:Business Meeting in the Function Room
URL:https://www.mouterehills.org.nz/event/private-booking-32/
LOCATION:Moutere Hills Community Centre
CATEGORIES:Meeting
END:VEVENT
BEGIN:VEVENT
DTSTART;TZID=Pacific/Auckland:20230723T110000
DTEND;TZID=Pacific/Auckland:20230723T150000
DTSTAMP:20260420T181929
CREATED:20230718T030716Z
LAST-MODIFIED:20230718T033314Z
UID:10008231-1690110000-1690124400@www.mouterehills.org.nz
SUMMARY:Sarau Winter Sale
DESCRIPTION:Come along and check out this great community fundraising event. On Saturday and Sunday between 11am and 3pm.
URL:https://www.mouterehills.org.nz/event/sarau-winter-sale/2023-07-23/
LOCATION:Moutere Hills Community Centre
CATEGORIES:Event
END:VEVENT
BEGIN:VEVENT
DTSTART;TZID=Pacific/Auckland:20230722T090000
DTEND;TZID=Pacific/Auckland:20230722T100000
DTSTAMP:20260420T181929
CREATED:20230207T001342Z
LAST-MODIFIED:20230718T034656Z
UID:10006864-1690016400-1690020000@www.mouterehills.org.nz
SUMMARY:Yoga Flow with Valentina
DESCRIPTION:This grounding Vinyasa flow class will help you feel strong and centred\, so you can start your day with full presence and awareness.  A combination of breathwork\, yoga sequence and meditation leaving your body energized and a relaxed mind.  For further details please contact Valentina on vale.alvarez.z@gmail.com or phone 0275157370
URL:https://www.mouterehills.org.nz/event/yoga-flow-with-valentina/2023-07-22/
LOCATION:Moutere Hills Community Centre
CATEGORIES:Community Recreation
END:VEVENT
BEGIN:VEVENT
DTSTART;TZID=Pacific/Auckland:20230719T120000
DTEND;TZID=Pacific/Auckland:20230719T170000
DTSTAMP:20260420T181929
CREATED:20230718T025756Z
LAST-MODIFIED:20230718T025756Z
UID:10008222-1689768000-1689786000@www.mouterehills.org.nz
SUMMARY:Private booking
DESCRIPTION:Business Meeting in the Community room
URL:https://www.mouterehills.org.nz/event/private-booking-31/
LOCATION:Moutere Hills Community Centre
CATEGORIES:Meeting
END:VEVENT
BEGIN:VEVENT
DTSTART;TZID=Pacific/Auckland:20230719T080000
DTEND;TZID=Pacific/Auckland:20230719T170000
DTSTAMP:20260420T181929
CREATED:20230718T025526Z
LAST-MODIFIED:20230718T025526Z
UID:10008221-1689753600-1689786000@www.mouterehills.org.nz
SUMMARY:Private Booking
DESCRIPTION:Business meeting with catering.  Function Room
URL:https://www.mouterehills.org.nz/event/private-booking-30/
LOCATION:Moutere Hills Community Centre
CATEGORIES:Meeting
END:VEVENT
BEGIN:VEVENT
DTSTART;TZID=Pacific/Auckland:20230718T140000
DTEND;TZID=Pacific/Auckland:20230718T163000
DTSTAMP:20260420T181929
CREATED:20230718T023623Z
LAST-MODIFIED:20230718T023623Z
UID:10008220-1689688800-1689697800@www.mouterehills.org.nz
SUMMARY:Private Meeting
DESCRIPTION:Function Room booked for business meeting
URL:https://www.mouterehills.org.nz/event/private-meeting/
LOCATION:Moutere Hills Community Centre
CATEGORIES:Meeting
END:VEVENT
BEGIN:VEVENT
DTSTART;TZID=Pacific/Auckland:20230716T080000
DTEND;TZID=Pacific/Auckland:20230716T170000
DTSTAMP:20260420T181929
CREATED:20230428T021331Z
LAST-MODIFIED:20230718T031927Z
UID:10008165-1689494400-1689526800@www.mouterehills.org.nz
SUMMARY:Private Booking
DESCRIPTION:Booked for a Church Service
URL:https://www.mouterehills.org.nz/event/private-booking-28/2023-07-16/
LOCATION:Moutere Hills Community Centre
CATEGORIES:Meeting
ORGANIZER;CN="Moutere Hills Community Centre":MAILTO:enquiries@mouterehills.org.nz
END:VEVENT
BEGIN:VEVENT
DTSTART;TZID=Pacific/Auckland:20230714T130000
DTEND;TZID=Pacific/Auckland:20230714T160000
DTSTAMP:20260420T181929
CREATED:20230705T015556Z
LAST-MODIFIED:20230705T015556Z
UID:10008216-1689339600-1689350400@www.mouterehills.org.nz
SUMMARY:Teen Mosaics
DESCRIPTION:Thanks to funding from the Arts Council\, we are creating a large mosaic bench seat to reside in our new community outdoor space.  We would love for you to be part of this. \nFree if you just wish to help with the community bench or $10 if you would also like to make your own mosaic tile. \n 
URL:https://www.mouterehills.org.nz/event/teen-mosaics/
LOCATION:Moutere Hills Community Centre
CATEGORIES:Community Recreation
ORGANIZER;CN="Moutere Hills Community Centre":MAILTO:enquiries@mouterehills.org.nz
END:VEVENT
BEGIN:VEVENT
DTSTART;TZID=Pacific/Auckland:20230712T130000
DTEND;TZID=Pacific/Auckland:20230712T150000
DTSTAMP:20260420T181929
CREATED:20230705T010126Z
LAST-MODIFIED:20230705T010126Z
UID:10008213-1689166800-1689174000@www.mouterehills.org.nz
SUMMARY:Art with Helena
DESCRIPTION:A fun workshop where you will learn various drawing and painting techniques and create your own unique art work. \nFor ages 8 years+.  Cost is $25 per child with materials included. \n 
URL:https://www.mouterehills.org.nz/event/art-with-helena/
LOCATION:Moutere Hills Community Centre
CATEGORIES:Community Recreation
ORGANIZER;CN="Moutere Hills Community Centre":MAILTO:enquiries@mouterehills.org.nz
END:VEVENT
BEGIN:VEVENT
DTSTART;TZID=Pacific/Auckland:20230710T130000
DTEND;TZID=Pacific/Auckland:20230710T150000
DTSTAMP:20260420T181929
CREATED:20230705T011101Z
LAST-MODIFIED:20230705T011226Z
UID:10008215-1688994000-1689001200@www.mouterehills.org.nz
SUMMARY:Teen Sports Fun
DESCRIPTION:Join Josh for an afternoon of sports.  For 12 years +.  Only $5 per person.
URL:https://www.mouterehills.org.nz/event/teen-sports-fun/
LOCATION:Moutere Hills Community Centre
CATEGORIES:Community Recreation
ORGANIZER;CN="Moutere Hills Community Centre":MAILTO:enquiries@mouterehills.org.nz
END:VEVENT
BEGIN:VEVENT
DTSTART;TZID=Pacific/Auckland:20230708T170000
DTEND;TZID=Pacific/Auckland:20230708T213000
DTSTAMP:20260420T181929
CREATED:20230705T020427Z
LAST-MODIFIED:20230705T020427Z
UID:10008217-1688835600-1688851800@www.mouterehills.org.nz
SUMMARY:Private Booking
DESCRIPTION:Function Room\, Kitchen and Sportshall booked for private function.
URL:https://www.mouterehills.org.nz/event/private-booking-29/
LOCATION:Moutere Hills Community Centre
CATEGORIES:Meeting
ORGANIZER;CN="Moutere Hills Community Centre":MAILTO:enquiries@mouterehills.org.nz
END:VEVENT
BEGIN:VEVENT
DTSTART;TZID=Pacific/Auckland:20230706T100000
DTEND;TZID=Pacific/Auckland:20230706T113000
DTSTAMP:20260420T181929
CREATED:20230705T010804Z
LAST-MODIFIED:20230705T010804Z
UID:10008214-1688637600-1688643000@www.mouterehills.org.nz
SUMMARY:Sport & Games with Josh
DESCRIPTION:Join Josh for some fun while playing sports and other games.  For children aged 6 years +. \nCost is $5 per child.
URL:https://www.mouterehills.org.nz/event/sport-games-with-josh/
LOCATION:Moutere Hills Community Centre
CATEGORIES:Community Recreation
ORGANIZER;CN="Moutere Hills Community Centre":MAILTO:enquiries@mouterehills.org.nz
END:VEVENT
BEGIN:VEVENT
DTSTART;TZID=Pacific/Auckland:20230705T130000
DTEND;TZID=Pacific/Auckland:20230705T150000
DTSTAMP:20260420T181929
CREATED:20230705T005607Z
LAST-MODIFIED:20230705T005607Z
UID:10008212-1688562000-1688569200@www.mouterehills.org.nz
SUMMARY:Felting with Deborah
DESCRIPTION:A fun workshop where you will learn how to do needle felting and be able to make your own creations. \nFor ages 8 years+.  Cost is $25 per child including materials
URL:https://www.mouterehills.org.nz/event/felting-with-deborah/
LOCATION:Moutere Hills Community Centre
CATEGORIES:Community Recreation
ORGANIZER;CN="Moutere Hills Community Centre":MAILTO:enquiries@mouterehills.org.nz
END:VEVENT
BEGIN:VEVENT
DTSTART;TZID=Pacific/Auckland:20230428T133000
DTEND;TZID=Pacific/Auckland:20230428T153000
DTSTAMP:20260420T181929
CREATED:20230207T002020Z
LAST-MODIFIED:20230207T002020Z
UID:10006530-1682688600-1682695800@www.mouterehills.org.nz
SUMMARY:Indoor Bowls
DESCRIPTION:For all ability levels.  Only $3 per session.
URL:https://www.mouterehills.org.nz/event/indoor-bowls-2/2023-04-28/
LOCATION:Moutere Hills Community Centre
CATEGORIES:Social Sport
END:VEVENT
BEGIN:VEVENT
DTSTART;TZID=Pacific/Auckland:20230425T103000
DTEND;TZID=Pacific/Auckland:20230425T123000
DTSTAMP:20260420T181929
CREATED:20230207T001715Z
LAST-MODIFIED:20230207T001715Z
UID:10006426-1682418600-1682425800@www.mouterehills.org.nz
SUMMARY:Indoor Bowls
DESCRIPTION:For any ability levels.  Only $3 per session.
URL:https://www.mouterehills.org.nz/event/indoor-bowls/2023-04-25/
LOCATION:Moutere Hills Community Centre
CATEGORIES:Social Sport
ORGANIZER;CN="Moutere Hills Community Centre":MAILTO:enquiries@mouterehills.org.nz
END:VEVENT
BEGIN:VEVENT
DTSTART;TZID=Pacific/Auckland:20230408T170000
DTEND;TZID=Pacific/Auckland:20230408T200000
DTSTAMP:20260420T181929
CREATED:20230207T005643Z
LAST-MODIFIED:20230207T005643Z
UID:10006630-1680973200-1680984000@www.mouterehills.org.nz
SUMMARY:Private Event
DESCRIPTION:Iftar Meal – in Function Room – Motueka Uniting Church
URL:https://www.mouterehills.org.nz/event/private-event/
LOCATION:Moutere Hills Community Centre
CATEGORIES:Meeting
END:VEVENT
BEGIN:VEVENT
DTSTART;TZID=Pacific/Auckland:20230408T110000
DTEND;TZID=Pacific/Auckland:20230408T150000
DTSTAMP:20260420T181929
CREATED:20230106T041113Z
LAST-MODIFIED:20230106T041113Z
UID:10005839-1680951600-1680966000@www.mouterehills.org.nz
SUMMARY:Private Booking
DESCRIPTION:Family Reunion in Function Room
URL:https://www.mouterehills.org.nz/event/private-booking-19/
LOCATION:Moutere Hills Community Centre
CATEGORIES:Meeting
END:VEVENT
BEGIN:VEVENT
DTSTART;TZID=Pacific/Auckland:20230325T100000
DTEND;TZID=Pacific/Auckland:20230325T123000
DTSTAMP:20260420T181929
CREATED:20230207T005405Z
LAST-MODIFIED:20230207T005405Z
UID:10006629-1679738400-1679747400@www.mouterehills.org.nz
SUMMARY:Private Booking
DESCRIPTION:Function Room
URL:https://www.mouterehills.org.nz/event/private-booking-26/
LOCATION:Moutere Hills Community Centre
CATEGORIES:Meeting
END:VEVENT
BEGIN:VEVENT
DTSTART;TZID=Pacific/Auckland:20230320T143000
DTEND;TZID=Pacific/Auckland:20230320T183000
DTSTAMP:20260420T181929
CREATED:20230117T014119Z
LAST-MODIFIED:20230117T014148Z
UID:10005951-1679322600-1679337000@www.mouterehills.org.nz
SUMMARY:Gymnastics
DESCRIPTION:A unique combination of dance\, rhythmic gymnastics and acrobatics run by Fusion Dance Sport. \n3-4 year olds: 2:30-3:00pm \n5-6 year olds: 3:15-4:00pm \n7-8 year olds: 4:00-5:00pm \n9+ years old: 5:00-6:30pm \nContact Tanya on 027 454 8024 or fusiondancesport@outlook.com for more information or to book. \n 
URL:https://www.mouterehills.org.nz/event/gymnastics-4-2/2023-03-20/
CATEGORIES:Community Recreation
END:VEVENT
BEGIN:VEVENT
DTSTART;TZID=Pacific/Auckland:20230318T093000
DTEND;TZID=Pacific/Auckland:20230318T123000
DTSTAMP:20260420T181929
CREATED:20230207T005149Z
LAST-MODIFIED:20230207T005149Z
UID:10006628-1679131800-1679142600@www.mouterehills.org.nz
SUMMARY:Rangers Rugby Club Registration Day
DESCRIPTION:In the Function Room from 9:30am – 12:30pm
URL:https://www.mouterehills.org.nz/event/rangers-rugby-club-registration-day-2/
LOCATION:Moutere Hills Community Centre
CATEGORIES:Social Sport
END:VEVENT
END:VCALENDAR