BEGIN:VCALENDAR
VERSION:2.0
PRODID:-//Moutere Hills Community Centre - ECPv6.15.19//NONSGML v1.0//EN
CALSCALE:GREGORIAN
METHOD:PUBLISH
X-WR-CALNAME:Moutere Hills Community Centre
X-ORIGINAL-URL:https://www.mouterehills.org.nz
X-WR-CALDESC:Events for Moutere Hills Community Centre
REFRESH-INTERVAL;VALUE=DURATION:PT1H
X-Robots-Tag:noindex
X-PUBLISHED-TTL:PT1H
BEGIN:VTIMEZONE
TZID:Pacific/Auckland
BEGIN:STANDARD
TZOFFSETFROM:+1300
TZOFFSETTO:+1200
TZNAME:NZST
DTSTART:20210403T140000
END:STANDARD
BEGIN:DAYLIGHT
TZOFFSETFROM:+1200
TZOFFSETTO:+1300
TZNAME:NZDT
DTSTART:20210925T140000
END:DAYLIGHT
BEGIN:STANDARD
TZOFFSETFROM:+1300
TZOFFSETTO:+1200
TZNAME:NZST
DTSTART:20220402T140000
END:STANDARD
BEGIN:DAYLIGHT
TZOFFSETFROM:+1200
TZOFFSETTO:+1300
TZNAME:NZDT
DTSTART:20220924T140000
END:DAYLIGHT
BEGIN:STANDARD
TZOFFSETFROM:+1300
TZOFFSETTO:+1200
TZNAME:NZST
DTSTART:20230401T140000
END:STANDARD
BEGIN:DAYLIGHT
TZOFFSETFROM:+1200
TZOFFSETTO:+1300
TZNAME:NZDT
DTSTART:20230923T140000
END:DAYLIGHT
BEGIN:STANDARD
TZOFFSETFROM:+1300
TZOFFSETTO:+1200
TZNAME:NZST
DTSTART:20240406T140000
END:STANDARD
BEGIN:DAYLIGHT
TZOFFSETFROM:+1200
TZOFFSETTO:+1300
TZNAME:NZDT
DTSTART:20240928T140000
END:DAYLIGHT
END:VTIMEZONE
BEGIN:VEVENT
DTSTART;TZID=Pacific/Auckland:20230225T080000
DTEND;TZID=Pacific/Auckland:20230226T170000
DTSTAMP:20260421T122006
CREATED:20230106T040844Z
LAST-MODIFIED:20230106T040844Z
UID:10005837-1677312000-1677430800@www.mouterehills.org.nz
SUMMARY:Moutere Hop
DESCRIPTION:For more details check out the Moutere Hop facebook page.
URL:https://www.mouterehills.org.nz/event/moutere-hop-7/
LOCATION:Moutere Hills Community Centre
CATEGORIES:Event
END:VEVENT
BEGIN:VEVENT
DTSTART;TZID=Pacific/Auckland:20230220T100000
DTEND;TZID=Pacific/Auckland:20230220T123000
DTSTAMP:20260421T122006
CREATED:20230106T040542Z
LAST-MODIFIED:20230106T040542Z
UID:10005835-1676887200-1676896200@www.mouterehills.org.nz
SUMMARY:Private Booking
DESCRIPTION:Business Meeting in Function Room
URL:https://www.mouterehills.org.nz/event/private-booking-16/
LOCATION:Moutere Hills Community Centre
CATEGORIES:Meeting
END:VEVENT
BEGIN:VEVENT
DTSTART;TZID=Pacific/Auckland:20230215T173000
DTEND;TZID=Pacific/Auckland:20230215T200000
DTSTAMP:20260421T122006
CREATED:20230116T042951Z
LAST-MODIFIED:20230116T042951Z
UID:10005841-1676482200-1676491200@www.mouterehills.org.nz
SUMMARY:Private Booking
DESCRIPTION:Meeting in Function Room
URL:https://www.mouterehills.org.nz/event/private-booking-21/
LOCATION:Moutere Hills Community Centre
CATEGORIES:Meeting
END:VEVENT
BEGIN:VEVENT
DTSTART;TZID=Pacific/Auckland:20230208T120000
DTEND;TZID=Pacific/Auckland:20230208T170000
DTSTAMP:20260421T122006
CREATED:20230106T040730Z
LAST-MODIFIED:20230106T040730Z
UID:10005836-1675857600-1675875600@www.mouterehills.org.nz
SUMMARY:Private Booking
DESCRIPTION:Business Meeting in Function Room
URL:https://www.mouterehills.org.nz/event/private-booking-17/
LOCATION:Moutere Hills Community Centre
CATEGORIES:Meeting
END:VEVENT
BEGIN:VEVENT
DTSTART;TZID=Pacific/Auckland:20230125T150000
DTEND;TZID=Pacific/Auckland:20230125T160000
DTSTAMP:20260421T122006
CREATED:20230116T041303Z
LAST-MODIFIED:20230116T041303Z
UID:10005840-1674658800-1674662400@www.mouterehills.org.nz
SUMMARY:Private Booking
DESCRIPTION:Booking of Function or Community Room for meeting
URL:https://www.mouterehills.org.nz/event/private-booking-20/
LOCATION:Moutere Hills Community Centre
CATEGORIES:Meeting
END:VEVENT
BEGIN:VEVENT
DTSTART;TZID=Pacific/Auckland:20230125T120000
DTEND;TZID=Pacific/Auckland:20230125T170000
DTSTAMP:20260421T122006
CREATED:20230105T045030Z
LAST-MODIFIED:20230105T045030Z
UID:10004666-1674648000-1674666000@www.mouterehills.org.nz
SUMMARY:Private Booking
DESCRIPTION:Business Meeting in Function Room \n\n 
URL:https://www.mouterehills.org.nz/event/private-booking-14/
LOCATION:Moutere Hills Community Centre
CATEGORIES:Meeting
END:VEVENT
BEGIN:VEVENT
DTSTART;TZID=Pacific/Auckland:20230122T180000
DTEND;TZID=Pacific/Auckland:20230122T203000
DTSTAMP:20260421T122006
CREATED:20230117T010309Z
LAST-MODIFIED:20230117T010309Z
UID:10005843-1674410400-1674419400@www.mouterehills.org.nz
SUMMARY:Private Booking
DESCRIPTION:Gathering in the Function Room
URL:https://www.mouterehills.org.nz/event/private-booking-23/
LOCATION:Moutere Hills Community Centre
CATEGORIES:Meeting
END:VEVENT
BEGIN:VEVENT
DTSTART;TZID=Pacific/Auckland:20230121T080000
DTEND;TZID=Pacific/Auckland:20230121T233000
DTSTAMP:20260421T122006
CREATED:20230105T042149Z
LAST-MODIFIED:20230105T042149Z
UID:10004665-1674288000-1674343800@www.mouterehills.org.nz
SUMMARY:Wedding
DESCRIPTION:Private Booking for Wedding.  Booked from Friday midday until Sunday midday.
URL:https://www.mouterehills.org.nz/event/wedding-7/
LOCATION:Moutere Hills Community Centre
CATEGORIES:Meeting
END:VEVENT
BEGIN:VEVENT
DTSTART;TZID=Pacific/Auckland:20230118T180000
DTEND;TZID=Pacific/Auckland:20230118T190000
DTSTAMP:20260421T122006
CREATED:20230106T015003Z
LAST-MODIFIED:20230106T015003Z
UID:10005421-1674064800-1674068400@www.mouterehills.org.nz
SUMMARY:MetaPro Hybrid with Cindus
DESCRIPTION:Take your High Intensity Interval Training to the next level with new Speed\, Agility and Quickness drills and training movements in a small group! Round out the session with some core and pelvic strengthening to ensure you leave having worked your full body! \n$10 casual\, free for Fitness Centre members or concession cards available ($60 for 10 classes). \nRegistrations essential. Visit the Fitness Centre calendar page to book
URL:https://www.mouterehills.org.nz/event/metapro-hybrid-with-cindus-2/2023-01-18/
CATEGORIES:Exercise Class
END:VEVENT
BEGIN:VEVENT
DTSTART;TZID=Pacific/Auckland:20230111T120000
DTEND;TZID=Pacific/Auckland:20230111T170000
DTSTAMP:20260421T122006
CREATED:20230105T041833Z
LAST-MODIFIED:20230105T041833Z
UID:10004664-1673438400-1673456400@www.mouterehills.org.nz
SUMMARY:Private Booking
DESCRIPTION:Business Meeting in Function Room
URL:https://www.mouterehills.org.nz/event/private-booking-13/
LOCATION:Moutere Hills Community Centre
CATEGORIES:Meeting
END:VEVENT
BEGIN:VEVENT
DTSTART;TZID=Pacific/Auckland:20230109T070000
DTEND;TZID=Pacific/Auckland:20230109T110000
DTSTAMP:20260421T122006
CREATED:20230105T041625Z
LAST-MODIFIED:20230105T041625Z
UID:10004663-1673247600-1673262000@www.mouterehills.org.nz
SUMMARY:Private Booking
DESCRIPTION:Business Meeting in the Function Room
URL:https://www.mouterehills.org.nz/event/private-booking-12/
LOCATION:Moutere Hills Community Centre
CATEGORIES:Meeting
END:VEVENT
BEGIN:VEVENT
DTSTART;TZID=Pacific/Auckland:20230106T080000
DTEND;TZID=Pacific/Auckland:20230108T170000
DTSTAMP:20260421T122006
CREATED:20230105T041453Z
LAST-MODIFIED:20230105T050018Z
UID:10004662-1672992000-1673197200@www.mouterehills.org.nz
SUMMARY:Country Music Festival
DESCRIPTION:Festival runs Saturday and Sunday from 10am.  More details can be found on the Motueka Country Music Club Inc facebook page. \n 
URL:https://www.mouterehills.org.nz/event/country-music-festival/
LOCATION:Moutere Hills Community Centre
CATEGORIES:Event
END:VEVENT
BEGIN:VEVENT
DTSTART;TZID=Pacific/Auckland:20221223T103000
DTEND;TZID=Pacific/Auckland:20221223T140000
DTSTAMP:20260421T122006
CREATED:20221124T034929Z
LAST-MODIFIED:20221124T034929Z
UID:10004144-1671791400-1671804000@www.mouterehills.org.nz
SUMMARY:Private Booking
DESCRIPTION:Full facility booked for business xmas function.
URL:https://www.mouterehills.org.nz/event/private-booking-11/
LOCATION:Moutere Hills Community Centre
CATEGORIES:Meeting
END:VEVENT
BEGIN:VEVENT
DTSTART;TZID=Pacific/Auckland:20221223T090000
DTEND;TZID=Pacific/Auckland:20221223T094500
DTSTAMP:20260421T122006
CREATED:20210119T041530Z
LAST-MODIFIED:20220720T031440Z
UID:10003448-1671786000-1671788700@www.mouterehills.org.nz
SUMMARY:Metafit and Core with Cindus
DESCRIPTION:Join Cindus for some high intensity interval training. This short-and-sweet class will leave your metabolic rate boosted for hours afterwards. All exercises are body-weight and time-based to allow individuals to work to their own pace. Then finish the class with a core and pelvic muscle workout. \n$7 per person or free for Fitness Centre members. Concession cards available ($50 for 10 classes). \nBookings are essential. Visit the Fitness Centre calendar page to register.
URL:https://www.mouterehills.org.nz/event/metafit-and-core-with-cindus/2022-12-23/
CATEGORIES:Exercise Class
END:VEVENT
BEGIN:VEVENT
DTSTART;TZID=Pacific/Auckland:20221222T190000
DTEND;TZID=Pacific/Auckland:20221222T190000
DTSTAMP:20260421T122006
CREATED:20200804T040013Z
LAST-MODIFIED:20211216T210947Z
UID:10003598-1671735600-1671735600@www.mouterehills.org.nz
SUMMARY:Adults Competitive Grade Volleyball
DESCRIPTION:This high energy session is a great workout for men and women. Do you have previous Volleyball experience and know the rules? Then come along and join in for a competitive game. Cost is just $3.
URL:https://www.mouterehills.org.nz/event/adults-social-volleyball/2022-12-22/
CATEGORIES:Social Sport
END:VEVENT
BEGIN:VEVENT
DTSTART;TZID=Pacific/Auckland:20221222T110000
DTEND;TZID=Pacific/Auckland:20221222T170000
DTSTAMP:20260421T122006
CREATED:20221124T034800Z
LAST-MODIFIED:20221124T034800Z
UID:10004143-1671706800-1671728400@www.mouterehills.org.nz
SUMMARY:Private Booking
DESCRIPTION:Full facility booked for business xmas function.
URL:https://www.mouterehills.org.nz/event/private-booking-10/
LOCATION:Moutere Hills Community Centre
CATEGORIES:Meeting
END:VEVENT
BEGIN:VEVENT
DTSTART;VALUE=DATE:20221221
DTEND;VALUE=DATE:20221222
DTSTAMP:20260421T122006
CREATED:20221124T034640Z
LAST-MODIFIED:20221124T034640Z
UID:10004142-1671580800-1671667199@www.mouterehills.org.nz
SUMMARY:Private Booking
DESCRIPTION:Full Facility booked for work xmas function
URL:https://www.mouterehills.org.nz/event/private-booking-9/
LOCATION:Moutere Hills Community Centre
CATEGORIES:Meeting
END:VEVENT
BEGIN:VEVENT
DTSTART;TZID=Pacific/Auckland:20221220T190000
DTEND;TZID=Pacific/Auckland:20221220T200000
DTSTAMP:20260421T122006
CREATED:20190220T005515Z
LAST-MODIFIED:20220215T214645Z
UID:10001355-1671562800-1671566400@www.mouterehills.org.nz
SUMMARY:Adults Social Badminton
DESCRIPTION:Keen to have a go at Badminton? Come along with your friends and play. \n$3 per person\, per session. \nDue to having only 1 court we do need to have time slots for groups. If interested contact Mark on 022 424 3564 to book a court time.
URL:https://www.mouterehills.org.nz/event/adults-social-badminton/2022-12-20/
LOCATION:Moutere Hills Community Centre
CATEGORIES:Social Sport
END:VEVENT
BEGIN:VEVENT
DTSTART;TZID=Pacific/Auckland:20221220T173000
DTEND;TZID=Pacific/Auckland:20221220T193000
DTSTAMP:20260421T122006
CREATED:20221007T034153Z
LAST-MODIFIED:20221007T034153Z
UID:10003757-1671557400-1671564600@www.mouterehills.org.nz
SUMMARY:Guitar with Brett
DESCRIPTION:Guitar tuition for Guitar\, Bass\, Ukulele and songwriting. \nBeginners to all levels. \nContact Brett on 020 408 67686 or brettholland.pm.me for more information or to book.
URL:https://www.mouterehills.org.nz/event/guitar-with-brett/2022-12-20/
CATEGORIES:Community Recreation
END:VEVENT
BEGIN:VEVENT
DTSTART;TZID=Pacific/Auckland:20221220T160000
DTEND;TZID=Pacific/Auckland:20221220T180000
DTSTAMP:20260421T122006
CREATED:20220428T053116Z
LAST-MODIFIED:20220428T053116Z
UID:10004053-1671552000-1671559200@www.mouterehills.org.nz
SUMMARY:Advanced Acrobatics Gymnastics
DESCRIPTION:Contact Tanya on 027 454 8024 or fusiondancesport@outlook.com for more information or to book.
URL:https://www.mouterehills.org.nz/event/advanced-acrobatics-gymnastics/2022-12-20/
CATEGORIES:Community Recreation
END:VEVENT
BEGIN:VEVENT
DTSTART;TZID=Pacific/Auckland:20221220T103000
DTEND;TZID=Pacific/Auckland:20221220T120000
DTSTAMP:20260421T122006
CREATED:20200703T005730Z
LAST-MODIFIED:20220215T214735Z
UID:10003495-1671532200-1671537600@www.mouterehills.org.nz
SUMMARY:Coffee & Craft
DESCRIPTION:A social group for adults and home educated young people. \nGold coin donation.
URL:https://www.mouterehills.org.nz/event/coffee-craft/2022-12-20/
CATEGORIES:Community Recreation
END:VEVENT
BEGIN:VEVENT
DTSTART;TZID=Pacific/Auckland:20221217T150000
DTEND;TZID=Pacific/Auckland:20221217T163000
DTSTAMP:20260421T122006
CREATED:20211216T222929Z
LAST-MODIFIED:20220215T220758Z
UID:10003931-1671289200-1671294600@www.mouterehills.org.nz
SUMMARY:Youth/ Adults Social Basketball
DESCRIPTION:All abilities welcome. No need to book\, just turn up. \n$3 per person. \nContact Rafael on 021 022 49737 for more info.
URL:https://www.mouterehills.org.nz/event/youth-adults-social-basketball-2/2022-12-17/
CATEGORIES:Social Sport
END:VEVENT
BEGIN:VEVENT
DTSTART;TZID=Pacific/Auckland:20221216T100000
DTEND;TZID=Pacific/Auckland:20221216T130000
DTSTAMP:20260421T122006
CREATED:20220422T021650Z
LAST-MODIFIED:20220422T021650Z
UID:10002774-1671184800-1671195600@www.mouterehills.org.nz
SUMMARY:Art Course
DESCRIPTION:Friday’s 10am – 1pm \nStarts 20th May \nAdult beginners and improvers. Meet like-minded people in a relaxed atmosphere! \n14-week art course for 3 hours per week \nCost $49 per week (+ $84 booking fee) \nAll materials and refreshments are provided. \nFor more information\, please visit www.seasonartclass-Tasman-Nelson.com \nOr phone 0212782180
URL:https://www.mouterehills.org.nz/event/art-course/2022-12-16/
CATEGORIES:Community Recreation
END:VEVENT
BEGIN:VEVENT
DTSTART;TZID=Pacific/Auckland:20221215T090000
DTEND;TZID=Pacific/Auckland:20221215T103000
DTSTAMP:20260421T122006
CREATED:20210203T013716Z
LAST-MODIFIED:20220215T215037Z
UID:10002290-1671094800-1671100200@www.mouterehills.org.nz
SUMMARY:Midweek Tennis Coaching
DESCRIPTION:Contact Vanessa on 022 4600 320 or claybrookestate@xtra.co.nz for more information or to book.
URL:https://www.mouterehills.org.nz/event/midweek-tennis-coaching/2022-12-15/
CATEGORIES:Community Recreation
END:VEVENT
BEGIN:VEVENT
DTSTART;TZID=Pacific/Auckland:20221215T053000
DTEND;TZID=Pacific/Auckland:20221215T063000
DTSTAMP:20260421T122006
CREATED:20190226T220206Z
LAST-MODIFIED:20220524T050104Z
UID:10000214-1671082200-1671085800@www.mouterehills.org.nz
SUMMARY:Energise Group Fitness
DESCRIPTION:Start the day by working out with a fun bunch of motivated people who like to work out for better health and wellbeing. \nBookings essential. Contact Cindus on 0273587233.
URL:https://www.mouterehills.org.nz/event/group-fitness/2022-12-15/
LOCATION:Moutere Hills Community Centre
CATEGORIES:Community Recreation
ORGANIZER;CN="Cindus Colonna":MAILTO:energiseme19@gmail.com
END:VEVENT
BEGIN:VEVENT
DTSTART;TZID=Pacific/Auckland:20221214T163000
DTEND;TZID=Pacific/Auckland:20221214T183000
DTSTAMP:20260421T122006
CREATED:20221124T034532Z
LAST-MODIFIED:20221124T034532Z
UID:10004141-1671035400-1671042600@www.mouterehills.org.nz
SUMMARY:Private Booking
DESCRIPTION:Country Kids Christmas Party. \nFunction Room and Outside
URL:https://www.mouterehills.org.nz/event/private-booking-8/
LOCATION:Moutere Hills Community Centre
CATEGORIES:Meeting
END:VEVENT
BEGIN:VEVENT
DTSTART;TZID=Pacific/Auckland:20221214T120000
DTEND;TZID=Pacific/Auckland:20221214T170000
DTSTAMP:20260421T122006
CREATED:20221124T034407Z
LAST-MODIFIED:20221124T034407Z
UID:10004140-1671019200-1671037200@www.mouterehills.org.nz
SUMMARY:Private Booking
DESCRIPTION:Meeting in the Function Room
URL:https://www.mouterehills.org.nz/event/private-booking-7/
LOCATION:Moutere Hills Community Centre
CATEGORIES:Meeting
END:VEVENT
BEGIN:VEVENT
DTSTART;TZID=Pacific/Auckland:20221213T180000
DTEND;TZID=Pacific/Auckland:20221213T180000
DTSTAMP:20260421T122006
CREATED:20180606T005641Z
LAST-MODIFIED:20211216T210659Z
UID:10000517-1670954400-1670954400@www.mouterehills.org.nz
SUMMARY:Rangers Rugby Club Social Touch
DESCRIPTION:A fun social game of touch for all skill and fitness levels. All ages welcome! \nGold coin donation.
URL:https://www.mouterehills.org.nz/event/valley-stags-senior-rugby-training/2022-12-13/
LOCATION:Moutere Hills Community Centre
CATEGORIES:Social Sport
END:VEVENT
BEGIN:VEVENT
DTSTART;TZID=Pacific/Auckland:20221211T093000
DTEND;TZID=Pacific/Auckland:20221211T093000
DTSTAMP:20260421T122006
CREATED:20210304T042843Z
LAST-MODIFIED:20220215T220918Z
UID:10003843-1670751000-1670751000@www.mouterehills.org.nz
SUMMARY:Club Tennis Session
DESCRIPTION:Run by Upper Moutere Tennis Club. \nAll welcome.
URL:https://www.mouterehills.org.nz/event/club-tennis-session/2022-12-11/
CATEGORIES:Community Recreation
END:VEVENT
BEGIN:VEVENT
DTSTART;TZID=Pacific/Auckland:20221210T080000
DTEND;TZID=Pacific/Auckland:20221210T233000
DTSTAMP:20260421T122006
CREATED:20221124T034256Z
LAST-MODIFIED:20221124T034256Z
UID:10004139-1670659200-1670715000@www.mouterehills.org.nz
SUMMARY:Private Booking
DESCRIPTION:The Wedding of Fliss and James
URL:https://www.mouterehills.org.nz/event/private-booking-6/
LOCATION:Moutere Hills Community Centre
CATEGORIES:Meeting
END:VEVENT
END:VCALENDAR