BEGIN:VCALENDAR
VERSION:2.0
PRODID:-//Moutere Hills Community Centre - ECPv6.15.19//NONSGML v1.0//EN
CALSCALE:GREGORIAN
METHOD:PUBLISH
X-WR-CALNAME:Moutere Hills Community Centre
X-ORIGINAL-URL:https://www.mouterehills.org.nz
X-WR-CALDESC:Events for Moutere Hills Community Centre
REFRESH-INTERVAL;VALUE=DURATION:PT1H
X-Robots-Tag:noindex
X-PUBLISHED-TTL:PT1H
BEGIN:VTIMEZONE
TZID:Pacific/Auckland
BEGIN:STANDARD
TZOFFSETFROM:+1300
TZOFFSETTO:+1200
TZNAME:NZST
DTSTART:20240406T140000
END:STANDARD
BEGIN:DAYLIGHT
TZOFFSETFROM:+1200
TZOFFSETTO:+1300
TZNAME:NZDT
DTSTART:20240928T140000
END:DAYLIGHT
BEGIN:STANDARD
TZOFFSETFROM:+1300
TZOFFSETTO:+1200
TZNAME:NZST
DTSTART:20250405T140000
END:STANDARD
BEGIN:DAYLIGHT
TZOFFSETFROM:+1200
TZOFFSETTO:+1300
TZNAME:NZDT
DTSTART:20250927T140000
END:DAYLIGHT
BEGIN:STANDARD
TZOFFSETFROM:+1300
TZOFFSETTO:+1200
TZNAME:NZST
DTSTART:20260404T140000
END:STANDARD
BEGIN:DAYLIGHT
TZOFFSETFROM:+1200
TZOFFSETTO:+1300
TZNAME:NZDT
DTSTART:20260926T140000
END:DAYLIGHT
BEGIN:STANDARD
TZOFFSETFROM:+1300
TZOFFSETTO:+1200
TZNAME:NZST
DTSTART:20270403T140000
END:STANDARD
BEGIN:DAYLIGHT
TZOFFSETFROM:+1200
TZOFFSETTO:+1300
TZNAME:NZDT
DTSTART:20270925T140000
END:DAYLIGHT
END:VTIMEZONE
BEGIN:VEVENT
DTSTART;TZID=Pacific/Auckland:20251006T084500
DTEND;TZID=Pacific/Auckland:20251006T120000
DTSTAMP:20260422T123417
CREATED:20250923T231402Z
LAST-MODIFIED:20250924T004929Z
UID:10033165-1759740300-1759752000@www.mouterehills.org.nz
SUMMARY:Resilience & Mental Health with Sir John Kirwan
DESCRIPTION:Monday 6th October\, 8:45am\nRegistrations are free and essential. Get your ticket today: https://events.humanitix.com/moutere-let-s-talk…\n\nWestpac NZ\, Top of the South Rural Support Trust and Fonterra are proud to bring Sir John Kirwan to Moutere for a free talk on mental health and resilience.\nAs a Westpac Ambassador of over 10 years\, Sir John Kirwan (JK) has a passion for mental health and sharing his own mental health journey with the aim of helping others with theirs.JK is an All Black legend\, but it’s his contributions outside of rugby that have made him one of our most treasured New Zealanders. As Westpac Ambassador\, JK is helping New Zealanders understand mental illness\, talk more openly with each other\, and build supportive networks.\nAbout the event:\nAt this free event\, hear JK speak openly about his own struggles with mental illness while being at the top of his game. He offers insight into the steps he took to manage and learn about his own mental health and the things he does in his daily life to take care of himself not only for him but his family too. \n• Doors open at 8:45am\, JK will begin speaking at 9:15am.• Please stay and join us for a kōrero from 10:15am.\nThis is an opportunity not to be missed and a chance to hear and learn from one of New Zealand’s most well-respected All Blacks!
URL:https://www.mouterehills.org.nz/event/resilience-mental-health-with-sir-john-kirwan/
LOCATION:Moutere Hills Community Centre
CATEGORIES:Event
END:VEVENT
BEGIN:VEVENT
DTSTART;TZID=Pacific/Auckland:20251006T180000
DTEND;TZID=Pacific/Auckland:20251006T203000
DTSTAMP:20260422T123417
CREATED:20250923T231828Z
LAST-MODIFIED:20250923T231828Z
UID:10033166-1759773600-1759782600@www.mouterehills.org.nz
SUMMARY:Community event for Farmers & Growers
DESCRIPTION:
URL:https://www.mouterehills.org.nz/event/community-event-for-farmers-growers/
LOCATION:Moutere Hills Community Centre
CATEGORIES:Event
END:VEVENT
BEGIN:VEVENT
DTSTART;TZID=Pacific/Auckland:20251013T060000
DTEND;TZID=Pacific/Auckland:20251013T064500
DTSTAMP:20260422T123417
CREATED:20251007T202942Z
LAST-MODIFIED:20251007T202942Z
UID:10033182-1760335200-1760337900@www.mouterehills.org.nz
SUMMARY:Strength & Fitness Circuit
DESCRIPTION:Circuit class designed to build strength\, fitness & \ncardio \n 
URL:https://www.mouterehills.org.nz/event/strength-fitness-circuit-3/2025-10-13/
LOCATION:Sports Hall
CATEGORIES:Exercise Class
END:VEVENT
BEGIN:VEVENT
DTSTART;TZID=Pacific/Auckland:20251128T163000
DTEND;TZID=Pacific/Auckland:20251128T193000
DTSTAMP:20260422T123417
CREATED:20251105T064652Z
LAST-MODIFIED:20251105T064652Z
UID:10033192-1764347400-1764358200@www.mouterehills.org.nz
SUMMARY:Community Social evening
DESCRIPTION:more to come
URL:https://www.mouterehills.org.nz/event/community-social-evening/
LOCATION:Moutere Hills Community Centre
CATEGORIES:Event
END:VEVENT
BEGIN:VEVENT
DTSTART;TZID=Pacific/Auckland:20251205T190000
DTEND;TZID=Pacific/Auckland:20251205T210000
DTSTAMP:20260422T123417
CREATED:20240415T025852Z
LAST-MODIFIED:20250310T211320Z
UID:10009121-1764961200-1764968400@www.mouterehills.org.nz
SUMMARY:Private Booking
DESCRIPTION:NPD Xmas function
URL:https://www.mouterehills.org.nz/event/private-booking-78/
LOCATION:Moutere Hills Community Centre
CATEGORIES:Event,Meeting
END:VEVENT
BEGIN:VEVENT
DTSTART;TZID=Pacific/Auckland:20251206T080000
DTEND;TZID=Pacific/Auckland:20251206T170000
DTSTAMP:20260422T123417
CREATED:20240415T025940Z
LAST-MODIFIED:20240415T025940Z
UID:10009122-1765008000-1765040400@www.mouterehills.org.nz
SUMMARY:Xmas Market
DESCRIPTION:
URL:https://www.mouterehills.org.nz/event/xmas-market/
CATEGORIES:Event
END:VEVENT
BEGIN:VEVENT
DTSTART;TZID=Pacific/Auckland:20251230T080000
DTEND;TZID=Pacific/Auckland:20260102T170000
DTSTAMP:20260422T123417
CREATED:20250310T210337Z
LAST-MODIFIED:20250310T210337Z
UID:10028016-1767081600-1767373200@www.mouterehills.org.nz
SUMMARY:NZMCA New Year Rally
DESCRIPTION:Whole Centre Booking \nContact MHCC for more details
URL:https://www.mouterehills.org.nz/event/nzmca-new-year-rally/
LOCATION:Moutere Hills Community Centre
CATEGORIES:Event
END:VEVENT
BEGIN:VEVENT
DTSTART;TZID=Pacific/Auckland:20260109T080000
DTEND;TZID=Pacific/Auckland:20260111T170000
DTSTAMP:20260422T123417
CREATED:20250310T210602Z
LAST-MODIFIED:20250310T210602Z
UID:10028017-1767945600-1768150800@www.mouterehills.org.nz
SUMMARY:Country Music Festival weekend
DESCRIPTION:Whole centre booking \nContact MHCC for more details
URL:https://www.mouterehills.org.nz/event/country-music-festival-weekend/
LOCATION:Moutere Hills Community Centre
CATEGORIES:Event
END:VEVENT
BEGIN:VEVENT
DTSTART;TZID=Pacific/Auckland:20260112T060000
DTEND;TZID=Pacific/Auckland:20260112T184500
DTSTAMP:20260422T123417
CREATED:20260104T215730Z
LAST-MODIFIED:20260104T215730Z
UID:10033354-1768197600-1768243500@www.mouterehills.org.nz
SUMMARY:Strength & Fitness Circuit - Mondays
DESCRIPTION:
URL:https://www.mouterehills.org.nz/event/strength-fitness-circuit-mondays/2026-01-12/
LOCATION:Sports Hall
CATEGORIES:Exercise Class
END:VEVENT
BEGIN:VEVENT
DTSTART;TZID=Pacific/Auckland:20260112T184500
DTEND;TZID=Pacific/Auckland:20260112T200000
DTSTAMP:20260422T123417
CREATED:20260104T222315Z
LAST-MODIFIED:20260104T222315Z
UID:10033665-1768243500-1768248000@www.mouterehills.org.nz
SUMMARY:Social Netball
DESCRIPTION:
URL:https://www.mouterehills.org.nz/event/social-netball-2/2026-01-12/
LOCATION:Sports Hall
CATEGORIES:Social Sport
END:VEVENT
BEGIN:VEVENT
DTSTART;TZID=Pacific/Auckland:20260113T101500
DTEND;TZID=Pacific/Auckland:20260113T113000
DTSTAMP:20260422T123417
CREATED:20260104T220833Z
LAST-MODIFIED:20260104T220833Z
UID:10033551-1768299300-1768303800@www.mouterehills.org.nz
SUMMARY:Pickleball
DESCRIPTION:
URL:https://www.mouterehills.org.nz/event/pickleball-3/2026-01-13/
LOCATION:Sports Hall
CATEGORIES:Exercise Class
END:VEVENT
BEGIN:VEVENT
DTSTART;TZID=Pacific/Auckland:20260113T173000
DTEND;TZID=Pacific/Auckland:20260113T200000
DTSTAMP:20260422T123417
CREATED:20260106T221736Z
LAST-MODIFIED:20260106T221736Z
UID:10034119-1768325400-1768334400@www.mouterehills.org.nz
SUMMARY:Ballroom/Latin Dance - Tuesday
DESCRIPTION:
URL:https://www.mouterehills.org.nz/event/ballroom-latin-dance-tuesday/2026-01-13/
LOCATION:Sports Hall
CATEGORIES:Community Recreation
END:VEVENT
BEGIN:VEVENT
DTSTART;TZID=Pacific/Auckland:20260113T180000
DTEND;TZID=Pacific/Auckland:20260113T190000
DTSTAMP:20260422T123417
CREATED:20260104T221132Z
LAST-MODIFIED:20260104T221132Z
UID:10033600-1768327200-1768330800@www.mouterehills.org.nz
SUMMARY:Social Touch
DESCRIPTION:Contact Mark 027 4229949
URL:https://www.mouterehills.org.nz/event/social-touch/2026-01-13/
LOCATION:Moutere Hills Community Centre
CATEGORIES:Social Sport
END:VEVENT
BEGIN:VEVENT
DTSTART;TZID=Pacific/Auckland:20260119T143000
DTEND;TZID=Pacific/Auckland:20260119T151500
DTSTAMP:20260422T123417
CREATED:20260104T215944Z
LAST-MODIFIED:20260104T215944Z
UID:10033403-1768833000-1768835700@www.mouterehills.org.nz
SUMMARY:Kids Ballroom/Latin Dance - Monday
DESCRIPTION:
URL:https://www.mouterehills.org.nz/event/kids-ballroom-latin-dance-monday/2026-01-19/
LOCATION:Sports Hall
CATEGORIES:Community Recreation
END:VEVENT
BEGIN:VEVENT
DTSTART;TZID=Pacific/Auckland:20260122T103000
DTEND;TZID=Pacific/Auckland:20260122T120000
DTSTAMP:20260422T123417
CREATED:20260104T215252Z
LAST-MODIFIED:20260104T215252Z
UID:10033257-1769077800-1769083200@www.mouterehills.org.nz
SUMMARY:Ballroom - Homeschool class
DESCRIPTION:
URL:https://www.mouterehills.org.nz/event/ballroom-homeschool-class/2026-01-22/
LOCATION:Moutere Hills Community Centre
CATEGORIES:Community Recreation
END:VEVENT
BEGIN:VEVENT
DTSTART;VALUE=DATE:20260202
DTEND;VALUE=DATE:20260203
DTSTAMP:20260422T123417
CREATED:20260115T000555Z
LAST-MODIFIED:20260115T000555Z
UID:10034346-1769990400-1770076799@www.mouterehills.org.nz
SUMMARY:Nelson anniversary day
DESCRIPTION:
URL:https://www.mouterehills.org.nz/event/nelson-anniversary-day/
CATEGORIES:Event
END:VEVENT
BEGIN:VEVENT
DTSTART;TZID=Pacific/Auckland:20260203T153000
DTEND;TZID=Pacific/Auckland:20260203T173000
DTSTAMP:20260422T123417
CREATED:20260104T222701Z
LAST-MODIFIED:20260406T211833Z
UID:10033714-1770132600-1770139800@www.mouterehills.org.nz
SUMMARY:Aerial Silks - Tuesday
DESCRIPTION:Contact Ilka for more info\n\n\n\nlka Ph: 022 085 5970                      
URL:https://www.mouterehills.org.nz/event/aerial-silks-tuesday/2026-02-03/
LOCATION:Sports Hall
CATEGORIES:Community Recreation
END:VEVENT
BEGIN:VEVENT
DTSTART;TZID=Pacific/Auckland:20260205T153000
DTEND;TZID=Pacific/Auckland:20260205T183000
DTSTAMP:20260422T123417
CREATED:20260104T223015Z
LAST-MODIFIED:20260406T211925Z
UID:10033760-1770305400-1770316200@www.mouterehills.org.nz
SUMMARY:Aerial Silks - Thursday
DESCRIPTION:Tasman Aerial Silks   \nIlka 022 085 5970                                    
URL:https://www.mouterehills.org.nz/event/aerial-silks-thursday/2026-02-05/
LOCATION:Sports Hall
CATEGORIES:Community Recreation
END:VEVENT
BEGIN:VEVENT
DTSTART;VALUE=DATE:20260206
DTEND;VALUE=DATE:20260207
DTSTAMP:20260422T123417
CREATED:20260115T000634Z
LAST-MODIFIED:20260115T000634Z
UID:10034347-1770336000-1770422399@www.mouterehills.org.nz
SUMMARY:Waitangi day
DESCRIPTION:
URL:https://www.mouterehills.org.nz/event/waitangi-day/
CATEGORIES:Event
END:VEVENT
BEGIN:VEVENT
DTSTART;TZID=Pacific/Auckland:20260318T084500
DTEND;TZID=Pacific/Auckland:20260318T094500
DTSTAMP:20260422T123417
CREATED:20260312T235445Z
LAST-MODIFIED:20260407T013946Z
UID:10034394-1773823500-1773827100@www.mouterehills.org.nz
SUMMARY:Powerhooping
DESCRIPTION:
URL:https://www.mouterehills.org.nz/event/powerhooping-4/2026-03-18/
LOCATION:Sports Hall
CATEGORIES:Exercise Class
END:VEVENT
BEGIN:VEVENT
DTSTART;TZID=Pacific/Auckland:20260319T093000
DTEND;TZID=Pacific/Auckland:20260319T113000
DTSTAMP:20260422T123417
CREATED:20260318T190432Z
LAST-MODIFIED:20260318T190432Z
UID:10034747-1773912600-1773919800@www.mouterehills.org.nz
SUMMARY:Dungeons n Dragons
DESCRIPTION:
URL:https://www.mouterehills.org.nz/event/dungeons-n-dragons/2026-03-19/
LOCATION:Community Room
CATEGORIES:Community Recreation
END:VEVENT
BEGIN:VEVENT
DTSTART;TZID=Pacific/Auckland:20260320T100000
DTEND;TZID=Pacific/Auckland:20260320T111500
DTSTAMP:20260422T123417
CREATED:20260318T185130Z
LAST-MODIFIED:20260318T185130Z
UID:10034553-1774000800-1774005300@www.mouterehills.org.nz
SUMMARY:Yoga with Kris
DESCRIPTION:
URL:https://www.mouterehills.org.nz/event/yoga-with-kris-4/2026-03-20/
LOCATION:Function room
CATEGORIES:Exercise Class
END:VEVENT
BEGIN:VEVENT
DTSTART;TZID=Pacific/Auckland:20260320T100000
DTEND;TZID=Pacific/Auckland:20260320T130000
DTSTAMP:20260422T123417
CREATED:20260318T184933Z
LAST-MODIFIED:20260406T211449Z
UID:10034474-1774000800-1774011600@www.mouterehills.org.nz
SUMMARY:Playgroup
DESCRIPTION:Join us for a friendly\, relaxed morning where tamariki can play and explore while caregivers connect over a cuppa \n\n\n Monday & Friday | 10am–1pm\n Moutere Hills Community Centre\n Ages 0–6\nFree entry\n if you’re able\, please bring something small to share for morning kai\n\n\nWe look forward to seeing you there!\n\n\nContact Kaitlin or Anna\, email moutereplaygroup@gmail.com\n\, or follow our Facebook page for updates.
URL:https://www.mouterehills.org.nz/event/playgroup-4/2026-03-20/
LOCATION:Sports Hall
CATEGORIES:Community Recreation
END:VEVENT
BEGIN:VEVENT
DTSTART;TZID=Pacific/Auckland:20260320T151500
DTEND;TZID=Pacific/Auckland:20260320T171500
DTSTAMP:20260422T123417
CREATED:20260318T185446Z
LAST-MODIFIED:20260407T014030Z
UID:10034593-1774019700-1774026900@www.mouterehills.org.nz
SUMMARY:Indoor Bowls
DESCRIPTION:We welcome anyone from 8yrs old and all abilities. \nAll gear provided\, just wear soft flat soled shoes.
URL:https://www.mouterehills.org.nz/event/indoor-bowls-3/2026-03-20/
LOCATION:Sports Hall
CATEGORIES:Exercise Class
END:VEVENT
BEGIN:VEVENT
DTSTART;TZID=Pacific/Auckland:20260321T080000
DTEND;TZID=Pacific/Auckland:20260321T084500
DTSTAMP:20260422T123417
CREATED:20260318T184246Z
LAST-MODIFIED:20260318T184424Z
UID:10034434-1774080000-1774082700@www.mouterehills.org.nz
SUMMARY:Strength & Fitness - Saturday
DESCRIPTION:A circuit class designed to build strength & Fitness \nAll abilities welcome
URL:https://www.mouterehills.org.nz/event/strength-fitness-saturday/2026-03-21/
LOCATION:Sports Hall
CATEGORIES:Exercise Class
END:VEVENT
BEGIN:VEVENT
DTSTART;TZID=Pacific/Auckland:20260323T153000
DTEND;TZID=Pacific/Auckland:20260323T181500
DTSTAMP:20260422T123417
CREATED:20260318T203052Z
LAST-MODIFIED:20260407T013850Z
UID:10034904-1774279800-1774289700@www.mouterehills.org.nz
SUMMARY:Creative Barefoot & Ballet Classes
DESCRIPTION:
URL:https://www.mouterehills.org.nz/event/creative-barefoot-ballet-classes/2026-03-23/
LOCATION:Sports Hall
CATEGORIES:Community Recreation
END:VEVENT
BEGIN:VEVENT
DTSTART;TZID=Pacific/Auckland:20260403T150000
DTEND;TZID=Pacific/Auckland:20260406T170000
DTSTAMP:20260422T123417
CREATED:20260402T044027Z
LAST-MODIFIED:20260402T044145Z
UID:10034992-1775228400-1775494800@www.mouterehills.org.nz
SUMMARY:Private Booking of whole Centre
DESCRIPTION:Private booking running three days
URL:https://www.mouterehills.org.nz/event/private-booking-94/
LOCATION:Moutere Hills Community Centre
CATEGORIES:Event
END:VEVENT
BEGIN:VEVENT
DTSTART;TZID=Pacific/Auckland:20260407T083000
DTEND;TZID=Pacific/Auckland:20260407T091500
DTSTAMP:20260422T123417
CREATED:20260318T202523Z
LAST-MODIFIED:20260318T202807Z
UID:10034790-1775550600-1775553300@www.mouterehills.org.nz
SUMMARY:Pilates with Bex
DESCRIPTION:uses small equipment \nCost: $12 casual\, $80 for 10 class concession or free for Fitness Centre Members 
URL:https://www.mouterehills.org.nz/event/pilates-with-bex/2026-04-07/
LOCATION:Sports Hall
CATEGORIES:Exercise Class
END:VEVENT
BEGIN:VEVENT
DTSTART;TZID=Pacific/Auckland:20260407T093000
DTEND;TZID=Pacific/Auckland:20260407T101500
DTSTAMP:20260422T123417
CREATED:20260318T202715Z
LAST-MODIFIED:20260318T202715Z
UID:10034827-1775554200-1775556900@www.mouterehills.org.nz
SUMMARY:Stretch & Flex with Bex
DESCRIPTION:Cost: $12 casual\, $80 for 10 class concession or free for Fitness Centre Members 
URL:https://www.mouterehills.org.nz/event/stretch-flex-with-bex/2026-04-07/
LOCATION:Sports Hall
CATEGORIES:Exercise Class
END:VEVENT
BEGIN:VEVENT
DTSTART;TZID=Pacific/Auckland:20260410T080000
DTEND;TZID=Pacific/Auckland:20260410T170000
DTSTAMP:20260422T123417
CREATED:20260318T191403Z
LAST-MODIFIED:20260318T191403Z
UID:10034787-1775808000-1775840400@www.mouterehills.org.nz
SUMMARY:Age Group Road National Championships
DESCRIPTION:The Age Group Road National Championships are on 10-12 of April 2026 at Moutere Hills Community Centre in the Nelson / Tasman region\, organised by Dynamo Events. This event is the premiere masters\, age group and para cycling road event where all competitors represent their chosen club.
URL:https://www.mouterehills.org.nz/event/age-group-road-national-championships/2026-04-10/
LOCATION:Moutere Hills Community Centre
CATEGORIES:Event
END:VEVENT
END:VCALENDAR