BEGIN:VCALENDAR
VERSION:2.0
PRODID:-//Moutere Hills Community Centre - ECPv6.15.19//NONSGML v1.0//EN
CALSCALE:GREGORIAN
METHOD:PUBLISH
X-WR-CALNAME:Moutere Hills Community Centre
X-ORIGINAL-URL:https://www.mouterehills.org.nz
X-WR-CALDESC:Events for Moutere Hills Community Centre
REFRESH-INTERVAL;VALUE=DURATION:PT1H
X-Robots-Tag:noindex
X-PUBLISHED-TTL:PT1H
BEGIN:VTIMEZONE
TZID:Pacific/Auckland
BEGIN:STANDARD
TZOFFSETFROM:+1300
TZOFFSETTO:+1200
TZNAME:NZST
DTSTART:20210403T140000
END:STANDARD
BEGIN:DAYLIGHT
TZOFFSETFROM:+1200
TZOFFSETTO:+1300
TZNAME:NZDT
DTSTART:20210925T140000
END:DAYLIGHT
BEGIN:STANDARD
TZOFFSETFROM:+1300
TZOFFSETTO:+1200
TZNAME:NZST
DTSTART:20220402T140000
END:STANDARD
BEGIN:DAYLIGHT
TZOFFSETFROM:+1200
TZOFFSETTO:+1300
TZNAME:NZDT
DTSTART:20220924T140000
END:DAYLIGHT
BEGIN:STANDARD
TZOFFSETFROM:+1300
TZOFFSETTO:+1200
TZNAME:NZST
DTSTART:20230401T140000
END:STANDARD
BEGIN:DAYLIGHT
TZOFFSETFROM:+1200
TZOFFSETTO:+1300
TZNAME:NZDT
DTSTART:20230923T140000
END:DAYLIGHT
END:VTIMEZONE
BEGIN:VEVENT
DTSTART;TZID=Pacific/Auckland:20221206T090000
DTEND;TZID=Pacific/Auckland:20221206T150000
DTSTAMP:20260423T213356
CREATED:20221124T033649Z
LAST-MODIFIED:20221124T033649Z
UID:10004135-1670317200-1670338800@www.mouterehills.org.nz
SUMMARY:Upper Moutere School Production - Dress Rehearsal
DESCRIPTION:PRIVATE BOOKING \nBooking in the Sports hall and Function Room
URL:https://www.mouterehills.org.nz/event/upper-moutere-school-production-dress-rehearsal/
LOCATION:Moutere Hills Community Centre
CATEGORIES:Meeting
END:VEVENT
BEGIN:VEVENT
DTSTART;TZID=Pacific/Auckland:20221204T110000
DTEND;TZID=Pacific/Auckland:20221204T150000
DTSTAMP:20260423T213356
CREATED:20221124T033212Z
LAST-MODIFIED:20221124T033212Z
UID:10004133-1670151600-1670166000@www.mouterehills.org.nz
SUMMARY:Private Booking
DESCRIPTION:Private Booking of the full facility including fields.
URL:https://www.mouterehills.org.nz/event/private-booking-4/
LOCATION:Moutere Hills Community Centre
CATEGORIES:Meeting
END:VEVENT
BEGIN:VEVENT
DTSTART;TZID=Pacific/Auckland:20221203T103000
DTEND;TZID=Pacific/Auckland:20221203T150000
DTSTAMP:20260423T213356
CREATED:20221124T033420Z
LAST-MODIFIED:20221124T033420Z
UID:10004134-1670063400-1670079600@www.mouterehills.org.nz
SUMMARY:Country Christmas Market
DESCRIPTION:
URL:https://www.mouterehills.org.nz/event/country-christmas-market-4/
LOCATION:Moutere Hills Community Centre
CATEGORIES:Event
END:VEVENT
BEGIN:VEVENT
DTSTART;TZID=Pacific/Auckland:20221124T080000
DTEND;TZID=Pacific/Auckland:20221124T170000
DTSTAMP:20260423T213356
CREATED:20221124T032440Z
LAST-MODIFIED:20221124T032440Z
UID:10004132-1669276800-1669309200@www.mouterehills.org.nz
SUMMARY:Country Christmas Market
DESCRIPTION:Our Country Christmas Market is on between 10:30am and 3:00pm.  With over 80 stalls\, food carts\, and entertainment it will be a great day out!  On wet or fine!
URL:https://www.mouterehills.org.nz/event/country-christmas-market-3/
CATEGORIES:Event
END:VEVENT
BEGIN:VEVENT
DTSTART;TZID=Pacific/Auckland:20221005T103000
DTEND;TZID=Pacific/Auckland:20221005T113000
DTSTAMP:20260423T213356
CREATED:20220329T234229Z
LAST-MODIFIED:20220329T234229Z
UID:10001225-1664965800-1664969400@www.mouterehills.org.nz
SUMMARY:Pickleball
DESCRIPTION:Come along and see why millions of people globally are playing Pickleball! \nPickleball is played on a badminton court\, using a tennis net\, paddles and a wiffleball to combine elements of badminton\, tennis and table tennis. \nAll welcome\, no bookings required. Paddles can be provided if required. \n$3 per person. \n  \n 
URL:https://www.mouterehills.org.nz/event/pickleball/2022-10-05/
CATEGORIES:Social Sport
END:VEVENT
BEGIN:VEVENT
DTSTART;TZID=Pacific/Auckland:20221005T060000
DTEND;TZID=Pacific/Auckland:20221005T070000
DTSTAMP:20260423T213356
CREATED:20190226T221928Z
LAST-MODIFIED:20190226T222008Z
UID:10001589-1664949600-1664953200@www.mouterehills.org.nz
SUMMARY:Stretch & Flex
DESCRIPTION:An early morning class designed to get your body moving using yoga based stretching exercises.
URL:https://www.mouterehills.org.nz/event/stretch-flex/2022-10-05/
LOCATION:Moutere Hills Community Centre
CATEGORIES:Community Recreation
END:VEVENT
BEGIN:VEVENT
DTSTART;TZID=Pacific/Auckland:20221004T103000
DTEND;TZID=Pacific/Auckland:20221004T103000
DTSTAMP:20260423T213356
CREATED:20200519T224349Z
LAST-MODIFIED:20200519T224349Z
UID:10002935-1664879400-1664879400@www.mouterehills.org.nz
SUMMARY:Craft Group
DESCRIPTION:A chance to get creative and share your creative talents with other members of the community. All welcome. Gold coin donation.
URL:https://www.mouterehills.org.nz/event/craft-group/2022-10-04/
CATEGORIES:Community Recreation
END:VEVENT
BEGIN:VEVENT
DTSTART;VALUE=DATE:20220927
DTEND;VALUE=DATE:20220929
DTSTAMP:20260423T213356
CREATED:20220720T035352Z
LAST-MODIFIED:20220720T035352Z
UID:10004131-1664236800-1664409599@www.mouterehills.org.nz
SUMMARY:NZ Cider Awards
DESCRIPTION:
URL:https://www.mouterehills.org.nz/event/nz-cider-awards/
CATEGORIES:Event
END:VEVENT
BEGIN:VEVENT
DTSTART;TZID=Pacific/Auckland:20220926T090000
DTEND;TZID=Pacific/Auckland:20220926T100000
DTSTAMP:20260423T213356
CREATED:20220720T025411Z
LAST-MODIFIED:20220720T025411Z
UID:10004019-1664182800-1664186400@www.mouterehills.org.nz
SUMMARY:Education Kinesiology
DESCRIPTION:Kick-start your week with an anxiety free hour! \nMonday’s from 9am – 10am \nCome along and join Alexandra and get your Mind and Body in Balance; \n“When mind and body work together the result is wholeness\, full self-expression\, creativity\, easeful choice making\, moving through challenges and being more authentically yourself.” \nStarting Monday 25th July for 10 weeks. \nCost will be $10 per session for an individual or family. \nTo book please contact Alexandra: 020 4192 7724 or mind.bodynbalance@gmail.com
URL:https://www.mouterehills.org.nz/event/education-kinesiology/2022-09-26/
CATEGORIES:Community Recreation
END:VEVENT
BEGIN:VEVENT
DTSTART;TZID=Pacific/Auckland:20220907T183000
DTEND;TZID=Pacific/Auckland:20220907T203000
DTSTAMP:20260423T213356
CREATED:20220720T035307Z
LAST-MODIFIED:20220720T035307Z
UID:10004130-1662575400-1662582600@www.mouterehills.org.nz
SUMMARY:Homeschool Group Meeting
DESCRIPTION:Booking of the Community Room
URL:https://www.mouterehills.org.nz/event/homeschool-group-meeting/
CATEGORIES:Meeting
END:VEVENT
BEGIN:VEVENT
DTSTART;TZID=Pacific/Auckland:20220907T120000
DTEND;TZID=Pacific/Auckland:20220907T170000
DTSTAMP:20260423T213356
CREATED:20220720T035208Z
LAST-MODIFIED:20220720T035208Z
UID:10004129-1662552000-1662570000@www.mouterehills.org.nz
SUMMARY:Business Meeting
DESCRIPTION:Business booking of the Function Room
URL:https://www.mouterehills.org.nz/event/business-meeting-18/
CATEGORIES:Meeting
END:VEVENT
BEGIN:VEVENT
DTSTART;TZID=Pacific/Auckland:20220831T120000
DTEND;TZID=Pacific/Auckland:20220831T170000
DTSTAMP:20260423T213356
CREATED:20220720T035110Z
LAST-MODIFIED:20220720T035110Z
UID:10004128-1661947200-1661965200@www.mouterehills.org.nz
SUMMARY:Business Meeting
DESCRIPTION:Business booking of the Function Room
URL:https://www.mouterehills.org.nz/event/business-meeting-17/
CATEGORIES:Meeting
END:VEVENT
BEGIN:VEVENT
DTSTART;VALUE=DATE:20220828
DTEND;VALUE=DATE:20220829
DTSTAMP:20260423T213356
CREATED:20220720T035009Z
LAST-MODIFIED:20220720T035009Z
UID:10004127-1661644800-1661731199@www.mouterehills.org.nz
SUMMARY:Moutere Hop
DESCRIPTION:
URL:https://www.mouterehills.org.nz/event/moutere-hop-6/
CATEGORIES:Event
END:VEVENT
BEGIN:VEVENT
DTSTART;TZID=Pacific/Auckland:20220826T190000
DTEND;TZID=Pacific/Auckland:20220826T220000
DTSTAMP:20260423T213356
CREATED:20220720T034909Z
LAST-MODIFIED:20220720T034909Z
UID:10004126-1661540400-1661551200@www.mouterehills.org.nz
SUMMARY:Community History Evening
DESCRIPTION:Join us for an evening of history with a talk about Jack Craig and displays from the Best Family and Colin Eggers \n  \nBar open from 7pm (nibbles provided)  \nTalk begins at 7:45pm \n  \nTea/ Coffee and supper provided \nGold Coin donation \nAll Welcome!
URL:https://www.mouterehills.org.nz/event/community-history-evening/
CATEGORIES:Event
END:VEVENT
BEGIN:VEVENT
DTSTART;VALUE=DATE:20220820
DTEND;VALUE=DATE:20220821
DTSTAMP:20260423T213356
CREATED:20220720T034603Z
LAST-MODIFIED:20220720T034603Z
UID:10004125-1660953600-1661039999@www.mouterehills.org.nz
SUMMARY:Private Party
DESCRIPTION:Private hire of Sports Hall and Community Room
URL:https://www.mouterehills.org.nz/event/private-party/
CATEGORIES:Event
END:VEVENT
BEGIN:VEVENT
DTSTART;TZID=Pacific/Auckland:20220819T163000
DTEND;TZID=Pacific/Auckland:20220819T203000
DTSTAMP:20260423T213356
CREATED:20220720T034424Z
LAST-MODIFIED:20220720T034424Z
UID:10004124-1660926600-1660941000@www.mouterehills.org.nz
SUMMARY:Rangers Rugby Club Junior Prizegiving
DESCRIPTION:
URL:https://www.mouterehills.org.nz/event/rangers-rugby-club-junior-prizegiving/
CATEGORIES:Event
END:VEVENT
BEGIN:VEVENT
DTSTART;TZID=Pacific/Auckland:20220817T130000
DTEND;TZID=Pacific/Auckland:20220817T163000
DTSTAMP:20260423T213356
CREATED:20220720T033847Z
LAST-MODIFIED:20220720T033847Z
UID:10004123-1660741200-1660753800@www.mouterehills.org.nz
SUMMARY:Business Meeting
DESCRIPTION:Booking of the Function Room
URL:https://www.mouterehills.org.nz/event/business-meeting-16/
CATEGORIES:Meeting
END:VEVENT
BEGIN:VEVENT
DTSTART;TZID=Pacific/Auckland:20220812T120000
DTEND;TZID=Pacific/Auckland:20220812T163000
DTSTAMP:20260423T213356
CREATED:20220720T033613Z
LAST-MODIFIED:20220720T033613Z
UID:10004122-1660305600-1660321800@www.mouterehills.org.nz
SUMMARY:Business Function
DESCRIPTION:Booking of the Function Room and Sports Hall
URL:https://www.mouterehills.org.nz/event/business-function/
CATEGORIES:Event
END:VEVENT
BEGIN:VEVENT
DTSTART;TZID=Pacific/Auckland:20220810T120000
DTEND;TZID=Pacific/Auckland:20220810T170000
DTSTAMP:20260423T213356
CREATED:20220720T033314Z
LAST-MODIFIED:20220720T033314Z
UID:10004121-1660132800-1660150800@www.mouterehills.org.nz
SUMMARY:Business Meeting
DESCRIPTION:Business booking of the Function Room
URL:https://www.mouterehills.org.nz/event/business-meeting-15/
CATEGORIES:Meeting
END:VEVENT
BEGIN:VEVENT
DTSTART;TZID=Pacific/Auckland:20220805T190000
DTEND;TZID=Pacific/Auckland:20220805T220000
DTSTAMP:20260423T213356
CREATED:20220720T032505Z
LAST-MODIFIED:20220720T032505Z
UID:10004120-1659726000-1659736800@www.mouterehills.org.nz
SUMMARY:Rangers Rugby Club Quiz Night
DESCRIPTION:Friday 5 August at 7pm \n$15 per person\, supper included \nBook your team by emailing secretary@rangersrugby.nz \n 
URL:https://www.mouterehills.org.nz/event/rangers-rugby-club-quiz-night/
CATEGORIES:Event
END:VEVENT
BEGIN:VEVENT
DTSTART;TZID=Pacific/Auckland:20220730T110000
DTEND;TZID=Pacific/Auckland:20220731T150000
DTSTAMP:20260423T213356
CREATED:20220526T051134Z
LAST-MODIFIED:20220526T051134Z
UID:10000988-1659178800-1659279600@www.mouterehills.org.nz
SUMMARY:Sarau Winter Sale
DESCRIPTION:Preloved Books\, Clothing and Cafe \nJuly 30 & 31 from 11am – 3pm \nA fundraiser for Sarau Community Trust
URL:https://www.mouterehills.org.nz/event/sarau-winter-sale-3/
LOCATION:Moutere Hills Community Centre
CATEGORIES:Event
END:VEVENT
BEGIN:VEVENT
DTSTART;TZID=Pacific/Auckland:20220727T173000
DTEND;TZID=Pacific/Auckland:20220727T213000
DTSTAMP:20260423T213356
CREATED:20220620T060502Z
LAST-MODIFIED:20220620T060502Z
UID:10004096-1658943000-1658957400@www.mouterehills.org.nz
SUMMARY:Business Meeting
DESCRIPTION:Business Meeting in Function Room.
URL:https://www.mouterehills.org.nz/event/business-meeting-14/
LOCATION:Moutere Hills Community Centre
CATEGORIES:Meeting
END:VEVENT
BEGIN:VEVENT
DTSTART;TZID=Pacific/Auckland:20220727T120000
DTEND;TZID=Pacific/Auckland:20220727T170000
DTSTAMP:20260423T213356
CREATED:20220620T060310Z
LAST-MODIFIED:20220620T060310Z
UID:10004095-1658923200-1658941200@www.mouterehills.org.nz
SUMMARY:Business Meeting
DESCRIPTION:Business Meeting in Function Room.
URL:https://www.mouterehills.org.nz/event/business-meeting-13/
LOCATION:Moutere Hills Community Centre
CATEGORIES:Meeting
END:VEVENT
BEGIN:VEVENT
DTSTART;TZID=Pacific/Auckland:20220720T183000
DTEND;TZID=Pacific/Auckland:20220720T183000
DTSTAMP:20260423T213356
CREATED:20200107T041857Z
LAST-MODIFIED:20220720T032716Z
UID:10002542-1658341800-1658341800@www.mouterehills.org.nz
SUMMARY:Core Foundations with Cindus
DESCRIPTION:Run by Cindus\, this class focuses on core\, pelvic\, hip and lower back strengthening\, using a functional approach. Exercises are mat based and includes stretching. Suitable for all abilities\, ages and fitness levels. $7 per person or free for Fitness Centre members. Concession cards also available ($50 for 10 classes). \nBookings are essential. Visit the Fitness Centre calendar page to register.  Bookings close 1 hour prior to the class start time.
URL:https://www.mouterehills.org.nz/event/core-foundations-3/2022-07-20/
CATEGORIES:Exercise Class
END:VEVENT
BEGIN:VEVENT
DTSTART;TZID=Pacific/Auckland:20220720T180000
DTEND;TZID=Pacific/Auckland:20220720T180000
DTSTAMP:20260423T213356
CREATED:20200107T041953Z
LAST-MODIFIED:20220720T030132Z
UID:10002618-1658340000-1658340000@www.mouterehills.org.nz
SUMMARY:Metafit
DESCRIPTION:Join Cindus for some high intensity interval training. This short-and-sweet class will leave your metabolic rate boosted for hours afterwards. All exercises are body-weight and time-based to allow individuals to work to their own pace. $7 per person or free for Fitness Centre members. \nBookings are essential. Visit the Fitness Centre calendar page to register.  Bookings close 2 hours prior to the class start time.
URL:https://www.mouterehills.org.nz/event/metafit-3/2022-07-20/
CATEGORIES:Exercise Class
END:VEVENT
BEGIN:VEVENT
DTSTART;TZID=Pacific/Auckland:20220720T120000
DTEND;TZID=Pacific/Auckland:20220720T170000
DTSTAMP:20260423T213356
CREATED:20220620T060145Z
LAST-MODIFIED:20220620T060145Z
UID:10004094-1658318400-1658336400@www.mouterehills.org.nz
SUMMARY:Business Meeting
DESCRIPTION:Business Meeting in Function Room.
URL:https://www.mouterehills.org.nz/event/business-meeting-12/
LOCATION:Moutere Hills Community Centre
CATEGORIES:Meeting
END:VEVENT
BEGIN:VEVENT
DTSTART;TZID=Pacific/Auckland:20220714T083000
DTEND;TZID=Pacific/Auckland:20220714T123000
DTSTAMP:20260423T213356
CREATED:20220620T055918Z
LAST-MODIFIED:20220620T055918Z
UID:10004093-1657787400-1657801800@www.mouterehills.org.nz
SUMMARY:Business Meeting
DESCRIPTION:Function Room booked for a business meeting with catering.
URL:https://www.mouterehills.org.nz/event/business-meeting-11/
LOCATION:Moutere Hills Community Centre
CATEGORIES:Meeting
END:VEVENT
BEGIN:VEVENT
DTSTART;TZID=Pacific/Auckland:20220712T120000
DTEND;TZID=Pacific/Auckland:20220712T173000
DTSTAMP:20260423T213356
CREATED:20220620T054551Z
LAST-MODIFIED:20220620T054551Z
UID:10003140-1657627200-1657647000@www.mouterehills.org.nz
SUMMARY:Business Meeting
DESCRIPTION:Booking of the Function Room for a business meeting.
URL:https://www.mouterehills.org.nz/event/business-meeting-10/
LOCATION:Moutere Hills Community Centre
CATEGORIES:Meeting
END:VEVENT
BEGIN:VEVENT
DTSTART;TZID=Pacific/Auckland:20220710T123000
DTEND;TZID=Pacific/Auckland:20220710T153000
DTSTAMP:20260423T213356
CREATED:20220620T054429Z
LAST-MODIFIED:20220620T054429Z
UID:10003139-1657456200-1657467000@www.mouterehills.org.nz
SUMMARY:Private Booking
DESCRIPTION:Booking for the Function Room for a private event.
URL:https://www.mouterehills.org.nz/event/private-booking-3/
LOCATION:Moutere Hills Community Centre
CATEGORIES:Meeting
END:VEVENT
BEGIN:VEVENT
DTSTART;TZID=Pacific/Auckland:20220708T170000
DTEND;TZID=Pacific/Auckland:20220708T210000
DTSTAMP:20260423T213356
CREATED:20220620T054303Z
LAST-MODIFIED:20220620T054303Z
UID:10003137-1657299600-1657314000@www.mouterehills.org.nz
SUMMARY:Home School Group Function
DESCRIPTION:Booking for the Function Room and Kitchen for the Home School Group.
URL:https://www.mouterehills.org.nz/event/home-school-group-function/
LOCATION:Moutere Hills Community Centre
CATEGORIES:Community Recreation
END:VEVENT
END:VCALENDAR