BEGIN:VCALENDAR
VERSION:2.0
PRODID:-//Moutere Hills Community Centre - ECPv6.15.19//NONSGML v1.0//EN
CALSCALE:GREGORIAN
METHOD:PUBLISH
X-WR-CALNAME:Moutere Hills Community Centre
X-ORIGINAL-URL:https://www.mouterehills.org.nz
X-WR-CALDESC:Events for Moutere Hills Community Centre
REFRESH-INTERVAL;VALUE=DURATION:PT1H
X-Robots-Tag:noindex
X-PUBLISHED-TTL:PT1H
BEGIN:VTIMEZONE
TZID:Pacific/Auckland
BEGIN:STANDARD
TZOFFSETFROM:+1300
TZOFFSETTO:+1200
TZNAME:NZST
DTSTART:20200404T140000
END:STANDARD
BEGIN:DAYLIGHT
TZOFFSETFROM:+1200
TZOFFSETTO:+1300
TZNAME:NZDT
DTSTART:20200926T140000
END:DAYLIGHT
BEGIN:STANDARD
TZOFFSETFROM:+1300
TZOFFSETTO:+1200
TZNAME:NZST
DTSTART:20210403T140000
END:STANDARD
BEGIN:DAYLIGHT
TZOFFSETFROM:+1200
TZOFFSETTO:+1300
TZNAME:NZDT
DTSTART:20210925T140000
END:DAYLIGHT
BEGIN:STANDARD
TZOFFSETFROM:+1300
TZOFFSETTO:+1200
TZNAME:NZST
DTSTART:20220402T140000
END:STANDARD
BEGIN:DAYLIGHT
TZOFFSETFROM:+1200
TZOFFSETTO:+1300
TZNAME:NZDT
DTSTART:20220924T140000
END:DAYLIGHT
BEGIN:STANDARD
TZOFFSETFROM:+1300
TZOFFSETTO:+1200
TZNAME:NZST
DTSTART:20230401T140000
END:STANDARD
BEGIN:DAYLIGHT
TZOFFSETFROM:+1200
TZOFFSETTO:+1300
TZNAME:NZDT
DTSTART:20230923T140000
END:DAYLIGHT
END:VTIMEZONE
BEGIN:VEVENT
DTSTART;TZID=Pacific/Auckland:20220608T163000
DTEND;TZID=Pacific/Auckland:20220608T193000
DTSTAMP:20260424T031530
CREATED:20220524T075132Z
LAST-MODIFIED:20220524T075132Z
UID:10004090-1654705800-1654716600@www.mouterehills.org.nz
SUMMARY:Business Workshop Booking of Function Room
DESCRIPTION:
URL:https://www.mouterehills.org.nz/event/business-workshop-booking-of-function-room-2/
CATEGORIES:Meeting
END:VEVENT
BEGIN:VEVENT
DTSTART;TZID=Pacific/Auckland:20220608T120000
DTEND;TZID=Pacific/Auckland:20220608T160000
DTSTAMP:20260424T031530
CREATED:20220524T075032Z
LAST-MODIFIED:20220524T075032Z
UID:10004089-1654689600-1654704000@www.mouterehills.org.nz
SUMMARY:Business Workshop Booking of Function Room
DESCRIPTION:
URL:https://www.mouterehills.org.nz/event/business-workshop-booking-of-function-room/
CATEGORIES:Meeting
END:VEVENT
BEGIN:VEVENT
DTSTART;TZID=Pacific/Auckland:20220607T150000
DTEND;TZID=Pacific/Auckland:20220607T190000
DTSTAMP:20260424T031530
CREATED:20220524T074934Z
LAST-MODIFIED:20220524T074934Z
UID:10004088-1654614000-1654628400@www.mouterehills.org.nz
SUMMARY:Kitchen Hire
DESCRIPTION:
URL:https://www.mouterehills.org.nz/event/kitchen-hire/
CATEGORIES:Event
END:VEVENT
BEGIN:VEVENT
DTSTART;TZID=Pacific/Auckland:20220531T070000
DTEND;TZID=Pacific/Auckland:20220531T100000
DTSTAMP:20260424T031530
CREATED:20220524T050746Z
LAST-MODIFIED:20220524T074847Z
UID:10004087-1653980400-1653991200@www.mouterehills.org.nz
SUMMARY:Business Booking of the Function Room + Catering
DESCRIPTION:
URL:https://www.mouterehills.org.nz/event/business-booking-of-the-function-room-catering/
CATEGORIES:Meeting
END:VEVENT
BEGIN:VEVENT
DTSTART;TZID=Pacific/Auckland:20220529T103000
DTEND;TZID=Pacific/Auckland:20220529T180000
DTSTAMP:20260424T031530
CREATED:20220524T050648Z
LAST-MODIFIED:20220524T050648Z
UID:10004086-1653820200-1653847200@www.mouterehills.org.nz
SUMMARY:Moutere Hop
DESCRIPTION:Car cruise and Poker Run \nSee the event on Facebook for more info https://www.facebook.com/events/3299464260337650?ref=newsfeed
URL:https://www.mouterehills.org.nz/event/moutere-hop-5/
CATEGORIES:Event
END:VEVENT
BEGIN:VEVENT
DTSTART;TZID=Pacific/Auckland:20220430T120000
DTEND;TZID=Pacific/Auckland:20220430T170000
DTSTAMP:20260424T031530
CREATED:20220310T054254Z
LAST-MODIFIED:20220310T054254Z
UID:10002801-1651320000-1651338000@www.mouterehills.org.nz
SUMMARY:Rangers Rugby Club Senior Home Game
DESCRIPTION:
URL:https://www.mouterehills.org.nz/event/rangers-rugby-club-senior-home-game/
CATEGORIES:Event
END:VEVENT
BEGIN:VEVENT
DTSTART;TZID=Pacific/Auckland:20220425T100000
DTEND;TZID=Pacific/Auckland:20220425T110000
DTSTAMP:20260424T031530
CREATED:20220413T024305Z
LAST-MODIFIED:20220413T024406Z
UID:10002802-1650880800-1650884400@www.mouterehills.org.nz
SUMMARY:ANZAC Day Service
DESCRIPTION:Monday 25 April at 10am. \nAll welcome and morning tea will follow the service.
URL:https://www.mouterehills.org.nz/event/anzac-day-service/
CATEGORIES:Event
END:VEVENT
BEGIN:VEVENT
DTSTART;TZID=Pacific/Auckland:20220424T100000
DTEND;TZID=Pacific/Auckland:20220424T140000
DTSTAMP:20260424T031530
CREATED:20220310T054202Z
LAST-MODIFIED:20220310T054202Z
UID:10002800-1650794400-1650808800@www.mouterehills.org.nz
SUMMARY:Moutere Artisans
DESCRIPTION:Drop into the centre on the day for more information and to collect your map.
URL:https://www.mouterehills.org.nz/event/moutere-artisans/
CATEGORIES:Event
END:VEVENT
BEGIN:VEVENT
DTSTART;TZID=Pacific/Auckland:20220423T190000
DTEND;TZID=Pacific/Auckland:20220423T233000
DTSTAMP:20260424T031530
CREATED:20220215T222327Z
LAST-MODIFIED:20220215T222327Z
UID:10003987-1650740400-1650756600@www.mouterehills.org.nz
SUMMARY:Booking of the Function Room
DESCRIPTION:
URL:https://www.mouterehills.org.nz/event/booking-of-the-function-room-4/
CATEGORIES:Event
END:VEVENT
BEGIN:VEVENT
DTSTART;TZID=Pacific/Auckland:20220413T090000
DTEND;TZID=Pacific/Auckland:20220413T120000
DTSTAMP:20260424T031530
CREATED:20220224T000631Z
LAST-MODIFIED:20220224T000631Z
UID:10001197-1649840400-1649851200@www.mouterehills.org.nz
SUMMARY:Business Booking of the Function Room
DESCRIPTION:
URL:https://www.mouterehills.org.nz/event/business-booking-of-the-function-room/
CATEGORIES:Meeting
END:VEVENT
BEGIN:VEVENT
DTSTART;TZID=Pacific/Auckland:20220407T150000
DTEND;TZID=Pacific/Auckland:20220407T150000
DTSTAMP:20260424T031530
CREATED:20190226T222728Z
LAST-MODIFIED:20220215T221139Z
UID:10001632-1649343600-1649343600@www.mouterehills.org.nz
SUMMARY:Junior Tennis Coaching
DESCRIPTION:All levels welcome 5yrs old + and upwards. \nContact Vanessa on 022 424 3564 or claybrookestate@xtra.co.nz for more info or to book.
URL:https://www.mouterehills.org.nz/event/junior-tennis-coaching/2022-04-07/
LOCATION:Moutere Hills Community Centre
CATEGORIES:Community Recreation
END:VEVENT
BEGIN:VEVENT
DTSTART;TZID=Pacific/Auckland:20220406T190000
DTEND;TZID=Pacific/Auckland:20220406T210000
DTSTAMP:20260424T031530
CREATED:20220310T054023Z
LAST-MODIFIED:20220310T054023Z
UID:10000987-1649271600-1649278800@www.mouterehills.org.nz
SUMMARY:Rangers Rugby Club AGM
DESCRIPTION:
URL:https://www.mouterehills.org.nz/event/rangers-rugby-club-agm-2/
CATEGORIES:Meeting
END:VEVENT
BEGIN:VEVENT
DTSTART;TZID=Pacific/Auckland:20220402T123000
DTEND;TZID=Pacific/Auckland:20220402T163000
DTSTAMP:20260424T031530
CREATED:20220215T222237Z
LAST-MODIFIED:20220215T222237Z
UID:10003986-1648902600-1648917000@www.mouterehills.org.nz
SUMMARY:Booking of the Function Room
DESCRIPTION:
URL:https://www.mouterehills.org.nz/event/booking-of-the-function-room-3/
CATEGORIES:Event
END:VEVENT
BEGIN:VEVENT
DTSTART;TZID=Pacific/Auckland:20220324T190000
DTEND;TZID=Pacific/Auckland:20220324T210000
DTSTAMP:20260424T031530
CREATED:20220310T053825Z
LAST-MODIFIED:20220310T053825Z
UID:10000986-1648148400-1648155600@www.mouterehills.org.nz
SUMMARY:Booking of the Function Room
DESCRIPTION:
URL:https://www.mouterehills.org.nz/event/booking-of-the-function-room-5/
CATEGORIES:Meeting
END:VEVENT
BEGIN:VEVENT
DTSTART;TZID=Pacific/Auckland:20220319T090000
DTEND;TZID=Pacific/Auckland:20220319T130000
DTSTAMP:20260424T031530
CREATED:20220215T222150Z
LAST-MODIFIED:20220215T222150Z
UID:10003985-1647680400-1647694800@www.mouterehills.org.nz
SUMMARY:Rangers Rugby Club Registration Day
DESCRIPTION:Use of Function Room. \nCheck out https://www.facebook.com/groups/rangersrugby for more info.
URL:https://www.mouterehills.org.nz/event/rangers-rugby-club-registration-day/
CATEGORIES:Event
END:VEVENT
BEGIN:VEVENT
DTSTART;TZID=Pacific/Auckland:20220317T190000
DTEND;TZID=Pacific/Auckland:20220317T210000
DTSTAMP:20260424T031530
CREATED:20220310T053745Z
LAST-MODIFIED:20220310T053745Z
UID:10002175-1647543600-1647550800@www.mouterehills.org.nz
SUMMARY:Booking of the Function Room and Kitchen
DESCRIPTION:
URL:https://www.mouterehills.org.nz/event/booking-of-the-function-room-and-kitchen-4/
CATEGORIES:Event
END:VEVENT
BEGIN:VEVENT
DTSTART;TZID=Pacific/Auckland:20220317T190000
DTEND;TZID=Pacific/Auckland:20220317T210000
DTSTAMP:20260424T031530
CREATED:20220215T221942Z
LAST-MODIFIED:20220215T221942Z
UID:10003984-1647543600-1647550800@www.mouterehills.org.nz
SUMMARY:Booking of the Function Room and Kitchen
DESCRIPTION:
URL:https://www.mouterehills.org.nz/event/booking-of-the-function-room-and-kitchen-3/
CATEGORIES:Event
END:VEVENT
BEGIN:VEVENT
DTSTART;TZID=Pacific/Auckland:20220317T080000
DTEND;TZID=Pacific/Auckland:20220317T170000
DTSTAMP:20260424T031530
CREATED:20220215T221801Z
LAST-MODIFIED:20220215T221801Z
UID:10003983-1647504000-1647536400@www.mouterehills.org.nz
SUMMARY:Booking of the Function Room and Kitchen
DESCRIPTION:
URL:https://www.mouterehills.org.nz/event/booking-of-the-function-room-and-kitchen-2/2022-03-17/
CATEGORIES:Meeting
END:VEVENT
BEGIN:VEVENT
DTSTART;TZID=Pacific/Auckland:20220313T090000
DTEND;TZID=Pacific/Auckland:20220313T130000
DTSTAMP:20260424T031530
CREATED:20220215T221630Z
LAST-MODIFIED:20220215T221630Z
UID:10003979-1647162000-1647176400@www.mouterehills.org.nz
SUMMARY:Booking of the Function Room
DESCRIPTION:
URL:https://www.mouterehills.org.nz/event/booking-of-the-function-room-2/
CATEGORIES:Meeting
END:VEVENT
BEGIN:VEVENT
DTSTART;TZID=Pacific/Auckland:20220306T160000
DTEND;TZID=Pacific/Auckland:20220306T190000
DTSTAMP:20260424T031530
CREATED:20220215T221502Z
LAST-MODIFIED:20220215T221502Z
UID:10003978-1646582400-1646593200@www.mouterehills.org.nz
SUMMARY:Booking of the Function Room and Kitchen
DESCRIPTION:
URL:https://www.mouterehills.org.nz/event/booking-of-the-function-room-and-kitchen/
CATEGORIES:Meeting
END:VEVENT
BEGIN:VEVENT
DTSTART;TZID=Pacific/Auckland:20220217T180000
DTEND;TZID=Pacific/Auckland:20220217T214500
DTSTAMP:20260424T031530
CREATED:20220215T221401Z
LAST-MODIFIED:20220215T221401Z
UID:10003977-1645120800-1645134300@www.mouterehills.org.nz
SUMMARY:Booking of the Function Room
DESCRIPTION:
URL:https://www.mouterehills.org.nz/event/booking-of-the-function-room/
CATEGORIES:Meeting
END:VEVENT
BEGIN:VEVENT
DTSTART;TZID=Pacific/Auckland:20220209T141500
DTEND;TZID=Pacific/Auckland:20220209T141500
DTSTAMP:20260424T031530
CREATED:20240729T022413Z
LAST-MODIFIED:20250107T233552Z
UID:10015933-1644416100-1644416100@www.mouterehills.org.nz
SUMMARY:Prodigy Kids Dance Classes
DESCRIPTION:Come along and join Amy-Rose to explore a wide variety of dance genres in a fun\, friendly and supportive class.  The classes will cater for a variety of ability levels. \n2:15pm – 2:55pm       Preschool \n3:15pm – 4:00pm       Ages 5/6 yrs \n4:05pm – 4:50pm       Ages 7 – 10 yrs \n4:55pm – 5:40pm       Senior (Ages 10 yrs+) \n$70 per child\, per term. \nNumbers strictly limited and term bookings are required. Contact Amy-Rose on 021 2207299 or prodigydanceconz@gmail.com.
URL:https://www.mouterehills.org.nz/event/prodigy-kids-dance-classes-2/
CATEGORIES:Community Recreation
END:VEVENT
BEGIN:VEVENT
DTSTART;TZID=Pacific/Auckland:20211223T090000
DTEND;TZID=Pacific/Auckland:20211223T160000
DTSTAMP:20260424T031530
CREATED:20211026T031548Z
LAST-MODIFIED:20211026T031548Z
UID:10003882-1640250000-1640275200@www.mouterehills.org.nz
SUMMARY:Christmas Function
DESCRIPTION:Booking of Full Facility
URL:https://www.mouterehills.org.nz/event/christmas-function/
CATEGORIES:Event
END:VEVENT
BEGIN:VEVENT
DTSTART;TZID=Pacific/Auckland:20211211T150000
DTEND;TZID=Pacific/Auckland:20211211T163000
DTSTAMP:20260424T031530
CREATED:20210203T013513Z
LAST-MODIFIED:20211216T222752Z
UID:10002232-1639234800-1639240200@www.mouterehills.org.nz
SUMMARY:Youth/ Adults Social Basketball
DESCRIPTION:All abilities welcome. No need to book\, just turn up. $3 per person.
URL:https://www.mouterehills.org.nz/event/youth-adults-social-basketball/2021-12-11/
CATEGORIES:Social Sport
END:VEVENT
BEGIN:VEVENT
DTSTART;TZID=Pacific/Auckland:20211211T090000
DTEND;TZID=Pacific/Auckland:20211211T160000
DTSTAMP:20260424T031530
CREATED:20211007T065210Z
LAST-MODIFIED:20211007T065210Z
UID:10002628-1639213200-1639238400@www.mouterehills.org.nz
SUMMARY:HKM Body Scans
DESCRIPTION:Scan times available between 9:00am-4:00pm. \n$35. \nContact Adele adele@mouterehills.org.nz to book.
URL:https://www.mouterehills.org.nz/event/hkm-body-scans/2021-12-11/
CATEGORIES:Event
END:VEVENT
BEGIN:VEVENT
DTSTART;TZID=Pacific/Auckland:20211209T190000
DTEND;TZID=Pacific/Auckland:20211209T200000
DTSTAMP:20260424T031530
CREATED:20211026T030813Z
LAST-MODIFIED:20211026T030813Z
UID:10002730-1639076400-1639080000@www.mouterehills.org.nz
SUMMARY:Shred for Summer
DESCRIPTION:8-week Fitness Programme.
URL:https://www.mouterehills.org.nz/event/shred-for-summer/2021-12-09/
CATEGORIES:Exercise Class
END:VEVENT
BEGIN:VEVENT
DTSTART;TZID=Pacific/Auckland:20211204T103000
DTEND;TZID=Pacific/Auckland:20211204T150000
DTSTAMP:20260424T031530
CREATED:20211007T065808Z
LAST-MODIFIED:20211007T065808Z
UID:10002631-1638613800-1638630000@www.mouterehills.org.nz
SUMMARY:Country Christmas Market
DESCRIPTION:Saturday 4 December\, 10:30am-3:00pm. \nLocal artisan/ craft products \nFood carts \nNBS Kids Craft Corner \nFree entry \nPlease bring cash!
URL:https://www.mouterehills.org.nz/event/country-christmas-market-2/
CATEGORIES:Event
END:VEVENT
BEGIN:VEVENT
DTSTART;TZID=Pacific/Auckland:20211128T090000
DTEND;TZID=Pacific/Auckland:20211128T120000
DTSTAMP:20260424T031530
CREATED:20211026T031413Z
LAST-MODIFIED:20211026T031413Z
UID:10003881-1638090000-1638100800@www.mouterehills.org.nz
SUMMARY:Moutere Hop
DESCRIPTION:Visit https://www.mouterehop.com/ for more info.
URL:https://www.mouterehills.org.nz/event/moutere-hop-4/
CATEGORIES:Event
END:VEVENT
BEGIN:VEVENT
DTSTART;TZID=Pacific/Auckland:20211127T080000
DTEND;TZID=Pacific/Auckland:20211128T170000
DTSTAMP:20260424T031530
CREATED:20211026T031250Z
LAST-MODIFIED:20211026T031250Z
UID:10003880-1638000000-1638118800@www.mouterehills.org.nz
SUMMARY:Wedding
DESCRIPTION:Booking of Full Facility
URL:https://www.mouterehills.org.nz/event/wedding-8/
CATEGORIES:Event
END:VEVENT
BEGIN:VEVENT
DTSTART;TZID=Pacific/Auckland:20211122T083000
DTEND;TZID=Pacific/Auckland:20211122T160000
DTSTAMP:20260424T031530
CREATED:20211026T031148Z
LAST-MODIFIED:20211026T031148Z
UID:10003879-1637569800-1637596800@www.mouterehills.org.nz
SUMMARY:Business Meeting
DESCRIPTION:Business Meeting in the Function Room
URL:https://www.mouterehills.org.nz/event/business-meeting-5/
CATEGORIES:Meeting
END:VEVENT
END:VCALENDAR