BEGIN:VCALENDAR
VERSION:2.0
PRODID:-//Moutere Hills Community Centre - ECPv6.15.19//NONSGML v1.0//EN
CALSCALE:GREGORIAN
METHOD:PUBLISH
X-ORIGINAL-URL:https://www.mouterehills.org.nz
X-WR-CALDESC:Events for Moutere Hills Community Centre
REFRESH-INTERVAL;VALUE=DURATION:PT1H
X-Robots-Tag:noindex
X-PUBLISHED-TTL:PT1H
BEGIN:VTIMEZONE
TZID:Pacific/Auckland
BEGIN:STANDARD
TZOFFSETFROM:+1300
TZOFFSETTO:+1200
TZNAME:NZST
DTSTART:20220402T140000
END:STANDARD
BEGIN:DAYLIGHT
TZOFFSETFROM:+1200
TZOFFSETTO:+1300
TZNAME:NZDT
DTSTART:20220924T140000
END:DAYLIGHT
BEGIN:STANDARD
TZOFFSETFROM:+1300
TZOFFSETTO:+1200
TZNAME:NZST
DTSTART:20230401T140000
END:STANDARD
BEGIN:DAYLIGHT
TZOFFSETFROM:+1200
TZOFFSETTO:+1300
TZNAME:NZDT
DTSTART:20230923T140000
END:DAYLIGHT
BEGIN:STANDARD
TZOFFSETFROM:+1300
TZOFFSETTO:+1200
TZNAME:NZST
DTSTART:20240406T140000
END:STANDARD
BEGIN:DAYLIGHT
TZOFFSETFROM:+1200
TZOFFSETTO:+1300
TZNAME:NZDT
DTSTART:20240928T140000
END:DAYLIGHT
BEGIN:STANDARD
TZOFFSETFROM:+1300
TZOFFSETTO:+1200
TZNAME:NZST
DTSTART:20250405T140000
END:STANDARD
BEGIN:DAYLIGHT
TZOFFSETFROM:+1200
TZOFFSETTO:+1300
TZNAME:NZDT
DTSTART:20250927T140000
END:DAYLIGHT
END:VTIMEZONE
BEGIN:VEVENT
DTSTART;TZID=Pacific/Auckland:20240117T183000
DTEND;TZID=Pacific/Auckland:20240117T191500
DTSTAMP:20260421T041113
CREATED:20231109T213732Z
LAST-MODIFIED:20231109T213846Z
UID:10008803-1705516200-1705518900@www.mouterehills.org.nz
SUMMARY:MetaPro Hybrid with Cindus
DESCRIPTION:Take your High Intensity Interval Training to the next level with new Speed\, Agility and Quickness drills and training movements in a small group! Round out the session with some core and pelvic strengthening to ensure you leave having worked your full body! \n$10 casual\, free for Fitness Centre members or concession cards available ($60 for 10 classes). \nRegistrations essential. Visit the Fitness Centre calendar page to book
URL:https://www.mouterehills.org.nz/event/metapro-hybrid-with-cindus-3-2/2024-01-17/
LOCATION:Moutere Hills Community Centre
CATEGORIES:Exercise Class
END:VEVENT
BEGIN:VEVENT
DTSTART;TZID=Pacific/Auckland:20240117T110000
DTEND;TZID=Pacific/Auckland:20240117T130000
DTSTAMP:20260421T041113
CREATED:20240729T032041Z
LAST-MODIFIED:20240729T032119Z
UID:10018173-1705489200-1705496400@www.mouterehills.org.nz
SUMMARY:Home Ed D&D
DESCRIPTION:In the Community Room.  Contact Bron on 027 5729781
URL:https://www.mouterehills.org.nz/event/home-ed-dd/2024-01-17/
LOCATION:Moutere Hills Community Centre
CATEGORIES:Community Recreation
ORGANIZER;CN="Moutere Hills Community Centre":MAILTO:enquiries@mouterehills.org.nz
END:VEVENT
BEGIN:VEVENT
DTSTART;TZID=Pacific/Auckland:20240117T100000
DTEND;TZID=Pacific/Auckland:20240117T111500
DTSTAMP:20260421T041113
CREATED:20230428T004558Z
LAST-MODIFIED:20250410T013240Z
UID:10007521-1705485600-1705490100@www.mouterehills.org.nz
SUMMARY:Yoga with Kris
DESCRIPTION:Contact Kris on 0275252814 for more information or to book your spot.
URL:https://www.mouterehills.org.nz/event/yoga-with-kris/2024-01-17/
LOCATION:Moutere Hills Community Centre
CATEGORIES:Community Recreation
END:VEVENT
BEGIN:VEVENT
DTSTART;TZID=Pacific/Auckland:20240117T090000
DTEND;TZID=Pacific/Auckland:20240117T094500
DTSTAMP:20260421T041113
CREATED:20230228T001633Z
LAST-MODIFIED:20230228T001633Z
UID:10006782-1705482000-1705484700@www.mouterehills.org.nz
SUMMARY:Pilates
DESCRIPTION:Join Kris in our new Pilates class.  Pilates is a low-impact workout which is great for strenthening your muscles though controlled\, repetitive movements\, building muscular endurance and stability. \n$10 casual\, $60 for a 10 class concession card or free for fitness centre members.
URL:https://www.mouterehills.org.nz/event/pilates-2/2024-01-17/
LOCATION:Moutere Hills Community Centre
CATEGORIES:Exercise Class
END:VEVENT
BEGIN:VEVENT
DTSTART;TZID=Pacific/Auckland:20240117T084500
DTEND;TZID=Pacific/Auckland:20240117T094500
DTSTAMP:20260421T041113
CREATED:20230117T021445Z
LAST-MODIFIED:20230428T003937Z
UID:10007408-1705481100-1705484700@www.mouterehills.org.nz
SUMMARY:Powerhooping
DESCRIPTION:A fun exercise class using specialised hoops to get you moving and stretching. Casual $12 (includes powerhoop). Concessions available. Powerhoops also available for purchase. \nContact Sara on 021 069 7522 or powerhoopnelson@gmail.com for more information or to book.
URL:https://www.mouterehills.org.nz/event/powerhooping-2/2024-01-17/
LOCATION:Moutere Hills Community Centre
CATEGORIES:Community Recreation
ORGANIZER;CN="Sara":MAILTO:powerhoopingnelson@gmail.com
END:VEVENT
BEGIN:VEVENT
DTSTART;TZID=Pacific/Auckland:20240117T073000
DTEND;TZID=Pacific/Auckland:20240117T170000
DTSTAMP:20260421T041113
CREATED:20240117T004013Z
LAST-MODIFIED:20240117T004013Z
UID:10009067-1705476600-1705510800@www.mouterehills.org.nz
SUMMARY:Private Booking
DESCRIPTION:Function Room booked for business meeting.
URL:https://www.mouterehills.org.nz/event/private-booking-52/
LOCATION:Moutere Hills Community Centre
CATEGORIES:Meeting
END:VEVENT
BEGIN:VEVENT
DTSTART;TZID=Pacific/Auckland:20240116T190000
DTEND;TZID=Pacific/Auckland:20240116T200000
DTSTAMP:20260421T041113
CREATED:20230427T022602Z
LAST-MODIFIED:20230427T022602Z
UID:10007004-1705431600-1705435200@www.mouterehills.org.nz
SUMMARY:Ballroom Dancing with Becks
DESCRIPTION:Come along to a fun adult beginners Ballroom dance class.  Cha cha\, samba\, foxtrot\, jive\, waltz\, rumba and more.  No partners necessary. \n$10 per class. \nContact Becks on dancingbecks@hotmail.com or cell 021482263
URL:https://www.mouterehills.org.nz/event/ballroom-dancing-with-becks/2024-01-16/
LOCATION:Moutere Hills Community Centre
CATEGORIES:Community Recreation,Social Sport
ORGANIZER;CN="Moutere Hills Community Centre":MAILTO:enquiries@mouterehills.org.nz
END:VEVENT
BEGIN:VEVENT
DTSTART;TZID=Pacific/Auckland:20240116T180000
DTEND;TZID=Pacific/Auckland:20240116T193000
DTSTAMP:20260421T041113
CREATED:20230105T231008Z
LAST-MODIFIED:20230105T231008Z
UID:10005347-1705428000-1705433400@www.mouterehills.org.nz
SUMMARY:Rangers Rugby Club Social Touch
DESCRIPTION:A fun social game of touch for all skill and fitness levels. All ages welcome! \nGold coin donation.
URL:https://www.mouterehills.org.nz/event/rangers-rugby-club-social-touch/2024-01-16/
LOCATION:Moutere Hills Community Centre
CATEGORIES:Social Sport
END:VEVENT
BEGIN:VEVENT
DTSTART;TZID=Pacific/Auckland:20240116T180000
DTEND;TZID=Pacific/Auckland:20240116T184500
DTSTAMP:20260421T041113
CREATED:20230227T234836Z
LAST-MODIFIED:20230227T234836Z
UID:10006677-1705428000-1705430700@www.mouterehills.org.nz
SUMMARY:Pilates
DESCRIPTION:Join Kris in our new Pilates class.  Pilates is a low-impact workout which is great for strenthening your muscles though controlled\, repetitive movements\, building muscular endurance and stability. \n$10 casual\, $60 for a 10 class concession card or free for fitness centre members.
URL:https://www.mouterehills.org.nz/event/pilates/2024-01-16/
CATEGORIES:Exercise Class
END:VEVENT
BEGIN:VEVENT
DTSTART;TZID=Pacific/Auckland:20240116T130000
DTEND;TZID=Pacific/Auckland:20240116T143000
DTSTAMP:20260421T041113
CREATED:20230428T001117Z
LAST-MODIFIED:20230428T001117Z
UID:10007234-1705410000-1705415400@www.mouterehills.org.nz
SUMMARY:Private Booking
DESCRIPTION:Sports hall booked for a fencing class.
URL:https://www.mouterehills.org.nz/event/private-booking-27/2024-01-16/
LOCATION:Moutere Hills Community Centre
CATEGORIES:Community Recreation
ORGANIZER;CN="Moutere Hills Community Centre":MAILTO:enquiries@mouterehills.org.nz
END:VEVENT
BEGIN:VEVENT
DTSTART;TZID=Pacific/Auckland:20240116T100000
DTEND;TZID=Pacific/Auckland:20240116T140000
DTSTAMP:20260421T041113
CREATED:20221223T115510Z
LAST-MODIFIED:20230105T225403Z
UID:10004252-1705399200-1705413600@www.mouterehills.org.nz
SUMMARY:Quirky Quilters
DESCRIPTION:Thursdays 10:00am-2:00pm. \nPlease contact the office on 03 5432516 for more details.
URL:https://www.mouterehills.org.nz/event/quirky-quilters-2-2/2024-01-16/
CATEGORIES:Community Recreation
END:VEVENT
BEGIN:VEVENT
DTSTART;TZID=Pacific/Auckland:20240116T070000
DTEND;TZID=Pacific/Auckland:20240116T153000
DTSTAMP:20260421T041113
CREATED:20240117T003859Z
LAST-MODIFIED:20240117T003859Z
UID:10009066-1705388400-1705419000@www.mouterehills.org.nz
SUMMARY:Private Booking
DESCRIPTION:Function Room booked for Business Meeting
URL:https://www.mouterehills.org.nz/event/private-booking-51/
LOCATION:Moutere Hills Community Centre
CATEGORIES:Meeting
END:VEVENT
BEGIN:VEVENT
DTSTART;TZID=Pacific/Auckland:20240115T173000
DTEND;TZID=Pacific/Auckland:20240115T190000
DTSTAMP:20260421T041113
CREATED:20230427T235950Z
LAST-MODIFIED:20230427T235950Z
UID:10007108-1705339800-1705345200@www.mouterehills.org.nz
SUMMARY:Adult / Youth Social Basketball
DESCRIPTION:Join in a fun session of Basketball.  For all ability levels.  Only $3 per session.
URL:https://www.mouterehills.org.nz/event/adult-youth-social-basketball/2024-01-15/
LOCATION:Moutere Hills Community Centre
CATEGORIES:Social Sport
ORGANIZER;CN="Moutere Hills Community Centre":MAILTO:enquiries@mouterehills.org.nz
END:VEVENT
BEGIN:VEVENT
DTSTART;TZID=Pacific/Auckland:20240115T170000
DTEND;TZID=Pacific/Auckland:20240115T174500
DTSTAMP:20260421T041113
CREATED:20231011T015041Z
LAST-MODIFIED:20231011T015041Z
UID:10008274-1705338000-1705340700@www.mouterehills.org.nz
SUMMARY:Pilates
DESCRIPTION:Join Kris in our new Pilates class.  Pilates is a low-impact workout which is great for strenthening your muscles though controlled\, repetitive movements\, building muscular endurance and stability. \n$10 casual\, $60 for a 10 class concession card or free for fitness centre members.
URL:https://www.mouterehills.org.nz/event/pilates-3/2024-01-15/
LOCATION:Moutere Hills Community Centre
CATEGORIES:Exercise Class
END:VEVENT
BEGIN:VEVENT
DTSTART;TZID=Pacific/Auckland:20240115T161500
DTEND;TZID=Pacific/Auckland:20240115T170000
DTSTAMP:20260421T041113
CREATED:20231011T020559Z
LAST-MODIFIED:20231011T020559Z
UID:10008536-1705335300-1705338000@www.mouterehills.org.nz
SUMMARY:Teen Bootcamp
DESCRIPTION:Join Josh for this fun class incorporating resistance training and cardio.  Suitable for teenagers of all abilities. \n$6 per class or free for Fitness Centre members.
URL:https://www.mouterehills.org.nz/event/teen-bootcamp/2024-01-15/
LOCATION:Moutere Hills Community Centre
CATEGORIES:Exercise Class
END:VEVENT
BEGIN:VEVENT
DTSTART;TZID=Pacific/Auckland:20240108T190000
DTEND;TZID=Pacific/Auckland:20240108T194500
DTSTAMP:20260421T041113
CREATED:20221223T113716Z
LAST-MODIFIED:20221223T113718Z
UID:10004195-1704740400-1704743100@www.mouterehills.org.nz
SUMMARY:Box' n Burn
DESCRIPTION:Join Adele for a strength and cardio workout. Includes skipping\, partner glove and pad work (non-contact)\, bag work and core/ cardio training. \n$7 casual or free for Fitness Centre members. Concession cards are also available ($50 for 10 classes). \nBookings essential. Visit the Fitness Centre calendar page to register.
URL:https://www.mouterehills.org.nz/event/box-n-burn-2/2024-01-08/
CATEGORIES:Exercise Class
END:VEVENT
BEGIN:VEVENT
DTSTART;TZID=Pacific/Auckland:20231221T190000
DTEND;TZID=Pacific/Auckland:20231221T220000
DTSTAMP:20260421T041113
CREATED:20231206T004621Z
LAST-MODIFIED:20231206T004621Z
UID:10009065-1703185200-1703196000@www.mouterehills.org.nz
SUMMARY:MHCC staff and volunteer christmas function
DESCRIPTION:Full facility
URL:https://www.mouterehills.org.nz/event/mhcc-staff-and-volunteer-christmas-function/
LOCATION:Moutere Hills Community Centre
CATEGORIES:Event
END:VEVENT
BEGIN:VEVENT
DTSTART;TZID=Pacific/Auckland:20231221T080000
DTEND;TZID=Pacific/Auckland:20231221T170000
DTSTAMP:20260421T041113
CREATED:20231206T004509Z
LAST-MODIFIED:20231206T004509Z
UID:10009064-1703145600-1703178000@www.mouterehills.org.nz
SUMMARY:Private Booking
DESCRIPTION:Full facility booked for business end of year function.
URL:https://www.mouterehills.org.nz/event/private-booking-50/
LOCATION:Moutere Hills Community Centre
END:VEVENT
BEGIN:VEVENT
DTSTART;TZID=Pacific/Auckland:20231219T100000
DTEND;TZID=Pacific/Auckland:20231219T190000
DTSTAMP:20260421T041113
CREATED:20231206T004401Z
LAST-MODIFIED:20231206T004401Z
UID:10009063-1702980000-1703012400@www.mouterehills.org.nz
SUMMARY:Private Booking
DESCRIPTION:Full facility hired for Business end of year function.
URL:https://www.mouterehills.org.nz/event/private-booking-49/
LOCATION:Moutere Hills Community Centre
END:VEVENT
BEGIN:VEVENT
DTSTART;TZID=Pacific/Auckland:20231215T100000
DTEND;TZID=Pacific/Auckland:20231215T120000
DTSTAMP:20260421T041113
CREATED:20231206T004135Z
LAST-MODIFIED:20231206T004135Z
UID:10009062-1702634400-1702641600@www.mouterehills.org.nz
SUMMARY:Playgroup Christmas Party
DESCRIPTION:Lots of fun toys and the bouncy castle.  $2 entry
URL:https://www.mouterehills.org.nz/event/playgroup-christmas-party/
CATEGORIES:Event
END:VEVENT
BEGIN:VEVENT
DTSTART;TZID=Pacific/Auckland:20231210T163000
DTEND;TZID=Pacific/Auckland:20231210T203000
DTSTAMP:20260421T041113
CREATED:20231206T003902Z
LAST-MODIFIED:20231206T003902Z
UID:10009061-1702225800-1702240200@www.mouterehills.org.nz
SUMMARY:Private Booking
DESCRIPTION:Function Room booked for a Church Service.
URL:https://www.mouterehills.org.nz/event/private-booking-48/
LOCATION:Moutere Hills Community Centre
CATEGORIES:Event
END:VEVENT
BEGIN:VEVENT
DTSTART;TZID=Pacific/Auckland:20231210T110000
DTEND;TZID=Pacific/Auckland:20231210T160000
DTSTAMP:20260421T041113
CREATED:20231206T003722Z
LAST-MODIFIED:20231206T003722Z
UID:10009060-1702206000-1702224000@www.mouterehills.org.nz
SUMMARY:private booking
DESCRIPTION:Community Room hired for Birthday Party.
URL:https://www.mouterehills.org.nz/event/private-booking-47/
LOCATION:Moutere Hills Community Centre
CATEGORIES:Event
END:VEVENT
BEGIN:VEVENT
DTSTART;TZID=Pacific/Auckland:20231209T120000
DTEND;TZID=Pacific/Auckland:20231209T190000
DTSTAMP:20260421T041113
CREATED:20231206T003619Z
LAST-MODIFIED:20231206T003619Z
UID:10009059-1702123200-1702148400@www.mouterehills.org.nz
SUMMARY:Private Booking
DESCRIPTION:Booking for a work Christmas function.  Function Room and Kitchen.
URL:https://www.mouterehills.org.nz/event/private-booking-46/
LOCATION:Moutere Hills Community Centre
CATEGORIES:Event
END:VEVENT
BEGIN:VEVENT
DTSTART;TZID=Pacific/Auckland:20231208T100000
DTEND;TZID=Pacific/Auckland:20231208T210000
DTSTAMP:20260421T041113
CREATED:20231206T002343Z
LAST-MODIFIED:20231206T002343Z
UID:10009058-1702029600-1702069200@www.mouterehills.org.nz
SUMMARY:Private Booking
DESCRIPTION:Booked for a private Christmas Function. Function Room\, Sports hall\, fields and kitchen.
URL:https://www.mouterehills.org.nz/event/private-booking-45/
LOCATION:Moutere Hills Community Centre
CATEGORIES:Event
END:VEVENT
BEGIN:VEVENT
DTSTART;TZID=Pacific/Auckland:20231206T160000
DTEND;TZID=Pacific/Auckland:20231206T210000
DTSTAMP:20260421T041113
CREATED:20231205T235944Z
LAST-MODIFIED:20231205T235944Z
UID:10009057-1701878400-1701896400@www.mouterehills.org.nz
SUMMARY:Private Booking
DESCRIPTION:Moutere Catchment group in Function Room
URL:https://www.mouterehills.org.nz/event/private-booking-44/
LOCATION:Moutere Hills Community Centre
CATEGORIES:Meeting
END:VEVENT
BEGIN:VEVENT
DTSTART;TZID=Pacific/Auckland:20231203T160000
DTEND;TZID=Pacific/Auckland:20231203T200000
DTSTAMP:20260421T041113
CREATED:20231205T235828Z
LAST-MODIFIED:20231205T235828Z
UID:10009056-1701619200-1701633600@www.mouterehills.org.nz
SUMMARY:Private Booking
DESCRIPTION:Booking of Function Room
URL:https://www.mouterehills.org.nz/event/private-booking-43/
LOCATION:Moutere Hills Community Centre
CATEGORIES:Meeting
END:VEVENT
BEGIN:VEVENT
DTSTART;TZID=Pacific/Auckland:20231202T103000
DTEND;TZID=Pacific/Auckland:20231202T150000
DTSTAMP:20260421T041113
CREATED:20231205T234044Z
LAST-MODIFIED:20231205T234044Z
UID:10009055-1701513000-1701529200@www.mouterehills.org.nz
SUMMARY:Country Christmas Market
DESCRIPTION:Come along and support this great Community Event.
URL:https://www.mouterehills.org.nz/event/country-christmas-market-5/
LOCATION:Moutere Hills Community Centre
CATEGORIES:Event
END:VEVENT
BEGIN:VEVENT
DTSTART;TZID=Pacific/Auckland:20231117T183000
DTEND;TZID=Pacific/Auckland:20231117T223000
DTSTAMP:20260421T041113
CREATED:20231109T050339Z
LAST-MODIFIED:20231109T050339Z
UID:10008794-1700245800-1700260200@www.mouterehills.org.nz
SUMMARY:Community Dance Party
DESCRIPTION:Join Rebecca for this great community social occasion. A fun evening of ballroom and Latin social dancing and a shared supper.  Crash course beginner class from 6:30 – 7:15 and some fun performances from the Dancing with Becks Youth Class.  Tickets only $15 by emailing dancingbecks@hotmail.com or phoning 021482263 \n \n 
URL:https://www.mouterehills.org.nz/event/community-dance-party/
LOCATION:Moutere Hills Community Centre
CATEGORIES:Event
END:VEVENT
BEGIN:VEVENT
DTSTART;TZID=Pacific/Auckland:20231116T190000
DTEND;TZID=Pacific/Auckland:20231116T210000
DTSTAMP:20260421T041113
CREATED:20231109T045334Z
LAST-MODIFIED:20231109T045334Z
UID:10008793-1700161200-1700168400@www.mouterehills.org.nz
SUMMARY:Private Booking
DESCRIPTION:Meeting in Community Room.
URL:https://www.mouterehills.org.nz/event/private-booking-42/
LOCATION:Moutere Hills Community Centre
CATEGORIES:Meeting
END:VEVENT
BEGIN:VEVENT
DTSTART;TZID=Pacific/Auckland:20231116T090000
DTEND;TZID=Pacific/Auckland:20231116T150000
DTSTAMP:20260421T041113
CREATED:20231109T045227Z
LAST-MODIFIED:20231109T045227Z
UID:10008792-1700125200-1700146800@www.mouterehills.org.nz
SUMMARY:Moutere Cluster Athletic Sports Day
DESCRIPTION:Come along and support students from Upper Moutere School\, Mahana School\, Mapua School\, Tasman School\, Tasman Bay Christian School and Dovedale School as they take part in the annual athletic sports day.
URL:https://www.mouterehills.org.nz/event/moutere-cluster-athletic-sports-day/
LOCATION:Moutere Hills Community Centre
CATEGORIES:Event
END:VEVENT
END:VCALENDAR