BEGIN:VCALENDAR
VERSION:2.0
PRODID:-//Moutere Hills Community Centre - ECPv6.15.19//NONSGML v1.0//EN
CALSCALE:GREGORIAN
METHOD:PUBLISH
X-WR-CALNAME:Moutere Hills Community Centre
X-ORIGINAL-URL:https://www.mouterehills.org.nz
X-WR-CALDESC:Events for Moutere Hills Community Centre
REFRESH-INTERVAL;VALUE=DURATION:PT1H
X-Robots-Tag:noindex
X-PUBLISHED-TTL:PT1H
BEGIN:VTIMEZONE
TZID:Pacific/Auckland
BEGIN:STANDARD
TZOFFSETFROM:+1300
TZOFFSETTO:+1200
TZNAME:NZST
DTSTART:20220402T140000
END:STANDARD
BEGIN:DAYLIGHT
TZOFFSETFROM:+1200
TZOFFSETTO:+1300
TZNAME:NZDT
DTSTART:20220924T140000
END:DAYLIGHT
BEGIN:STANDARD
TZOFFSETFROM:+1300
TZOFFSETTO:+1200
TZNAME:NZST
DTSTART:20230401T140000
END:STANDARD
BEGIN:DAYLIGHT
TZOFFSETFROM:+1200
TZOFFSETTO:+1300
TZNAME:NZDT
DTSTART:20230923T140000
END:DAYLIGHT
BEGIN:STANDARD
TZOFFSETFROM:+1300
TZOFFSETTO:+1200
TZNAME:NZST
DTSTART:20240406T140000
END:STANDARD
BEGIN:DAYLIGHT
TZOFFSETFROM:+1200
TZOFFSETTO:+1300
TZNAME:NZDT
DTSTART:20240928T140000
END:DAYLIGHT
END:VTIMEZONE
BEGIN:VEVENT
DTSTART;TZID=Pacific/Auckland:20231230T133000
DTEND;TZID=Pacific/Auckland:20231230T150000
DTSTAMP:20260420T211254
CREATED:20230106T024424Z
LAST-MODIFIED:20230117T025605Z
UID:10006035-1703943000-1703948400@www.mouterehills.org.nz
SUMMARY:Youth / Adults Social Basketball
DESCRIPTION:All abilities welcome. No need to book\, just turn up. \n$3 per person. \nContact Jayden on 027 5179488 for more info.
URL:https://www.mouterehills.org.nz/event/youth-adults-social-basketball-3/2023-12-30/
LOCATION:Moutere Hills Community Centre
CATEGORIES:Social Sport
END:VEVENT
BEGIN:VEVENT
DTSTART;TZID=Pacific/Auckland:20231229T100000
DTEND;TZID=Pacific/Auckland:20231229T113000
DTSTAMP:20260420T211254
CREATED:20230428T021040Z
LAST-MODIFIED:20250410T010125Z
UID:10008084-1703844000-1703849400@www.mouterehills.org.nz
SUMMARY:Yoga with Kris
DESCRIPTION:Contact Kris on 0275252814 for more information or to book your spot.
URL:https://www.mouterehills.org.nz/event/yoga-with-kris-2/2023-12-29/
LOCATION:Moutere Hills Community Centre
CATEGORIES:Community Recreation
ORGANIZER;CN="Moutere Hills Community Centre":MAILTO:enquiries@mouterehills.org.nz
END:VEVENT
BEGIN:VEVENT
DTSTART;TZID=Pacific/Auckland:20231229T093000
DTEND;TZID=Pacific/Auckland:20231229T120000
DTSTAMP:20260420T211254
CREATED:20230428T020518Z
LAST-MODIFIED:20230428T020557Z
UID:10007980-1703842200-1703851200@www.mouterehills.org.nz
SUMMARY:Playgroup
DESCRIPTION:A time for parents of preschoolers and their children to get together to share ideas or concerns and make new friends over a cuppa and some yummy baking. Preschoolers can play with the large variety of toys in a safe\, secure and child-centered environment. Just turn up and bring along your children! \nContact Karen on 021 252 2657 or uppermouterepg@gmail.com for more info.
URL:https://www.mouterehills.org.nz/event/playgroup-2-2/2023-12-29/
LOCATION:Moutere Hills Community Centre
CATEGORIES:Community Recreation
END:VEVENT
BEGIN:VEVENT
DTSTART;TZID=Pacific/Auckland:20231229T090000
DTEND;TZID=Pacific/Auckland:20231229T094500
DTSTAMP:20260420T211254
CREATED:20230106T024042Z
LAST-MODIFIED:20230106T024042Z
UID:10005677-1703840400-1703843100@www.mouterehills.org.nz
SUMMARY:MetaFit and Core with Cindus
DESCRIPTION:Join Cindus for some high intensity interval training. This short-and-sweet class will leave your metabolic rate boosted for hours afterwards. All exercises are body-weight and time-based to allow individuals to work to their own pace. Then finish the class with a core and pelvic muscle workout. \n$10 per person or free for Fitness Centre members. Concession cards available ($60 for 10 classes). \nBookings are essential. Visit the Fitness Centre calendar page to register.
URL:https://www.mouterehills.org.nz/event/metafit-and-core-with-cindus-2/2023-12-29/
LOCATION:Moutere Hills Community Centre
CATEGORIES:Exercise Class
END:VEVENT
BEGIN:VEVENT
DTSTART;TZID=Pacific/Auckland:20231228T190000
DTEND;TZID=Pacific/Auckland:20231228T213000
DTSTAMP:20260420T211254
CREATED:20230106T023813Z
LAST-MODIFIED:20230106T023813Z
UID:10005574-1703790000-1703799000@www.mouterehills.org.nz
SUMMARY:Adults Competitive Grade Volleyball
DESCRIPTION:This high energy session is a great workout for men and women. Do you have previous Volleyball experience and know the rules? Then come along and join in for a competitive game. Cost is just $3.
URL:https://www.mouterehills.org.nz/event/adults-competitive-grade-volleyball/2023-12-28/
LOCATION:Moutere Hills Community Centre
CATEGORIES:Social Sport
END:VEVENT
BEGIN:VEVENT
DTSTART;TZID=Pacific/Auckland:20231228T093000
DTEND;TZID=Pacific/Auckland:20231228T101500
DTSTAMP:20260420T211254
CREATED:20230105T224725Z
LAST-MODIFIED:20230105T224946Z
UID:10004825-1703755800-1703758500@www.mouterehills.org.nz
SUMMARY:Stretch & Flex with Vicki
DESCRIPTION:Increase flexibility and mobility with slow moving range of motion stretching. Suitable for all ages and abilities. $10 per class or free for Fitness Centre members. Concession cards are also available ($60 for 10 classes). \nBookings essential. Visit the Fitness Centre calendar page to book.
URL:https://www.mouterehills.org.nz/event/stretch-flex-with-vicki-2/2023-12-28/
LOCATION:Moutere Hills Community Centre
CATEGORIES:Exercise Class
END:VEVENT
BEGIN:VEVENT
DTSTART;TZID=Pacific/Auckland:20231228T053000
DTEND;TZID=Pacific/Auckland:20231228T063000
DTSTAMP:20260420T211254
CREATED:20230105T225941Z
LAST-MODIFIED:20230105T230703Z
UID:10005188-1703741400-1703745000@www.mouterehills.org.nz
SUMMARY:Energise Group Fitness
DESCRIPTION:Start the day by working out with a fun bunch of motivated people who like to work out for better health and wellbeing. \nBookings essential. Contact Cindus on 0273587233.
URL:https://www.mouterehills.org.nz/event/energise-group-fitness/2023-12-28/
LOCATION:Moutere Hills Community Centre
CATEGORIES:Community Recreation
END:VEVENT
BEGIN:VEVENT
DTSTART;TZID=Pacific/Auckland:20231227T183000
DTEND;TZID=Pacific/Auckland:20231227T200000
DTSTAMP:20260420T211254
CREATED:20230207T000925Z
LAST-MODIFIED:20230207T000925Z
UID:10006253-1703701800-1703707200@www.mouterehills.org.nz
SUMMARY:Youth Coding Club
DESCRIPTION:In the Community Room.  Contact Bron on 027 5729781
URL:https://www.mouterehills.org.nz/event/youth-coding-club/2023-12-27/
LOCATION:Moutere Hills Community Centre
CATEGORIES:Community Recreation
ORGANIZER;CN="Moutere Hills Community Centre":MAILTO:enquiries@mouterehills.org.nz
END:VEVENT
BEGIN:VEVENT
DTSTART;TZID=Pacific/Auckland:20231227T183000
DTEND;TZID=Pacific/Auckland:20231227T191500
DTSTAMP:20260420T211254
CREATED:20231109T213732Z
LAST-MODIFIED:20231109T213846Z
UID:10008800-1703701800-1703704500@www.mouterehills.org.nz
SUMMARY:MetaPro Hybrid with Cindus
DESCRIPTION:Take your High Intensity Interval Training to the next level with new Speed\, Agility and Quickness drills and training movements in a small group! Round out the session with some core and pelvic strengthening to ensure you leave having worked your full body! \n$10 casual\, free for Fitness Centre members or concession cards available ($60 for 10 classes). \nRegistrations essential. Visit the Fitness Centre calendar page to book
URL:https://www.mouterehills.org.nz/event/metapro-hybrid-with-cindus-3-2/2023-12-27/
LOCATION:Moutere Hills Community Centre
CATEGORIES:Exercise Class
END:VEVENT
BEGIN:VEVENT
DTSTART;TZID=Pacific/Auckland:20231227T110000
DTEND;TZID=Pacific/Auckland:20231227T130000
DTSTAMP:20260420T211254
CREATED:20240729T032041Z
LAST-MODIFIED:20240729T032119Z
UID:10018170-1703674800-1703682000@www.mouterehills.org.nz
SUMMARY:Home Ed D&D
DESCRIPTION:In the Community Room.  Contact Bron on 027 5729781
URL:https://www.mouterehills.org.nz/event/home-ed-dd/2023-12-27/
LOCATION:Moutere Hills Community Centre
CATEGORIES:Community Recreation
ORGANIZER;CN="Moutere Hills Community Centre":MAILTO:enquiries@mouterehills.org.nz
END:VEVENT
BEGIN:VEVENT
DTSTART;TZID=Pacific/Auckland:20231227T100000
DTEND;TZID=Pacific/Auckland:20231227T111500
DTSTAMP:20260420T211254
CREATED:20230428T004558Z
LAST-MODIFIED:20250410T013240Z
UID:10007518-1703671200-1703675700@www.mouterehills.org.nz
SUMMARY:Yoga with Kris
DESCRIPTION:Contact Kris on 0275252814 for more information or to book your spot.
URL:https://www.mouterehills.org.nz/event/yoga-with-kris/2023-12-27/
LOCATION:Moutere Hills Community Centre
CATEGORIES:Community Recreation
END:VEVENT
BEGIN:VEVENT
DTSTART;TZID=Pacific/Auckland:20231227T090000
DTEND;TZID=Pacific/Auckland:20231227T094500
DTSTAMP:20260420T211254
CREATED:20230228T001633Z
LAST-MODIFIED:20230228T001633Z
UID:10006779-1703667600-1703670300@www.mouterehills.org.nz
SUMMARY:Pilates
DESCRIPTION:Join Kris in our new Pilates class.  Pilates is a low-impact workout which is great for strenthening your muscles though controlled\, repetitive movements\, building muscular endurance and stability. \n$10 casual\, $60 for a 10 class concession card or free for fitness centre members.
URL:https://www.mouterehills.org.nz/event/pilates-2/2023-12-27/
LOCATION:Moutere Hills Community Centre
CATEGORIES:Exercise Class
END:VEVENT
BEGIN:VEVENT
DTSTART;TZID=Pacific/Auckland:20231227T084500
DTEND;TZID=Pacific/Auckland:20231227T094500
DTSTAMP:20260420T211254
CREATED:20230117T021445Z
LAST-MODIFIED:20230428T003937Z
UID:10007405-1703666700-1703670300@www.mouterehills.org.nz
SUMMARY:Powerhooping
DESCRIPTION:A fun exercise class using specialised hoops to get you moving and stretching. Casual $12 (includes powerhoop). Concessions available. Powerhoops also available for purchase. \nContact Sara on 021 069 7522 or powerhoopnelson@gmail.com for more information or to book.
URL:https://www.mouterehills.org.nz/event/powerhooping-2/2023-12-27/
LOCATION:Moutere Hills Community Centre
CATEGORIES:Community Recreation
ORGANIZER;CN="Sara":MAILTO:powerhoopingnelson@gmail.com
END:VEVENT
BEGIN:VEVENT
DTSTART;TZID=Pacific/Auckland:20231226T190000
DTEND;TZID=Pacific/Auckland:20231226T200000
DTSTAMP:20260420T211254
CREATED:20230427T022602Z
LAST-MODIFIED:20230427T022602Z
UID:10007001-1703617200-1703620800@www.mouterehills.org.nz
SUMMARY:Ballroom Dancing with Becks
DESCRIPTION:Come along to a fun adult beginners Ballroom dance class.  Cha cha\, samba\, foxtrot\, jive\, waltz\, rumba and more.  No partners necessary. \n$10 per class. \nContact Becks on dancingbecks@hotmail.com or cell 021482263
URL:https://www.mouterehills.org.nz/event/ballroom-dancing-with-becks/2023-12-26/
LOCATION:Moutere Hills Community Centre
CATEGORIES:Community Recreation,Social Sport
ORGANIZER;CN="Moutere Hills Community Centre":MAILTO:enquiries@mouterehills.org.nz
END:VEVENT
BEGIN:VEVENT
DTSTART;TZID=Pacific/Auckland:20231226T180000
DTEND;TZID=Pacific/Auckland:20231226T193000
DTSTAMP:20260420T211254
CREATED:20230105T231008Z
LAST-MODIFIED:20230105T231008Z
UID:10005344-1703613600-1703619000@www.mouterehills.org.nz
SUMMARY:Rangers Rugby Club Social Touch
DESCRIPTION:A fun social game of touch for all skill and fitness levels. All ages welcome! \nGold coin donation.
URL:https://www.mouterehills.org.nz/event/rangers-rugby-club-social-touch/2023-12-26/
LOCATION:Moutere Hills Community Centre
CATEGORIES:Social Sport
END:VEVENT
BEGIN:VEVENT
DTSTART;TZID=Pacific/Auckland:20231226T180000
DTEND;TZID=Pacific/Auckland:20231226T184500
DTSTAMP:20260420T211254
CREATED:20230227T234836Z
LAST-MODIFIED:20230227T234836Z
UID:10006674-1703613600-1703616300@www.mouterehills.org.nz
SUMMARY:Pilates
DESCRIPTION:Join Kris in our new Pilates class.  Pilates is a low-impact workout which is great for strenthening your muscles though controlled\, repetitive movements\, building muscular endurance and stability. \n$10 casual\, $60 for a 10 class concession card or free for fitness centre members.
URL:https://www.mouterehills.org.nz/event/pilates/2023-12-26/
CATEGORIES:Exercise Class
END:VEVENT
BEGIN:VEVENT
DTSTART;TZID=Pacific/Auckland:20231226T130000
DTEND;TZID=Pacific/Auckland:20231226T143000
DTSTAMP:20260420T211254
CREATED:20230428T001117Z
LAST-MODIFIED:20230428T001117Z
UID:10007231-1703595600-1703601000@www.mouterehills.org.nz
SUMMARY:Private Booking
DESCRIPTION:Sports hall booked for a fencing class.
URL:https://www.mouterehills.org.nz/event/private-booking-27/2023-12-26/
LOCATION:Moutere Hills Community Centre
CATEGORIES:Community Recreation
ORGANIZER;CN="Moutere Hills Community Centre":MAILTO:enquiries@mouterehills.org.nz
END:VEVENT
BEGIN:VEVENT
DTSTART;TZID=Pacific/Auckland:20231226T100000
DTEND;TZID=Pacific/Auckland:20231226T140000
DTSTAMP:20260420T211254
CREATED:20221223T115510Z
LAST-MODIFIED:20230105T225403Z
UID:10004249-1703584800-1703599200@www.mouterehills.org.nz
SUMMARY:Quirky Quilters
DESCRIPTION:Thursdays 10:00am-2:00pm. \nPlease contact the office on 03 5432516 for more details.
URL:https://www.mouterehills.org.nz/event/quirky-quilters-2-2/2023-12-26/
CATEGORIES:Community Recreation
END:VEVENT
BEGIN:VEVENT
DTSTART;TZID=Pacific/Auckland:20231225T190000
DTEND;TZID=Pacific/Auckland:20231225T194500
DTSTAMP:20260420T211254
CREATED:20221223T113716Z
LAST-MODIFIED:20221223T113718Z
UID:10004193-1703530800-1703533500@www.mouterehills.org.nz
SUMMARY:Box' n Burn
DESCRIPTION:Join Adele for a strength and cardio workout. Includes skipping\, partner glove and pad work (non-contact)\, bag work and core/ cardio training. \n$7 casual or free for Fitness Centre members. Concession cards are also available ($50 for 10 classes). \nBookings essential. Visit the Fitness Centre calendar page to register.
URL:https://www.mouterehills.org.nz/event/box-n-burn-2/2023-12-25/
CATEGORIES:Exercise Class
END:VEVENT
BEGIN:VEVENT
DTSTART;TZID=Pacific/Auckland:20231225T173000
DTEND;TZID=Pacific/Auckland:20231225T190000
DTSTAMP:20260420T211254
CREATED:20230427T235950Z
LAST-MODIFIED:20230427T235950Z
UID:10007105-1703525400-1703530800@www.mouterehills.org.nz
SUMMARY:Adult / Youth Social Basketball
DESCRIPTION:Join in a fun session of Basketball.  For all ability levels.  Only $3 per session.
URL:https://www.mouterehills.org.nz/event/adult-youth-social-basketball/2023-12-25/
LOCATION:Moutere Hills Community Centre
CATEGORIES:Social Sport
ORGANIZER;CN="Moutere Hills Community Centre":MAILTO:enquiries@mouterehills.org.nz
END:VEVENT
BEGIN:VEVENT
DTSTART;TZID=Pacific/Auckland:20231225T170000
DTEND;TZID=Pacific/Auckland:20231225T174500
DTSTAMP:20260420T211254
CREATED:20231011T015041Z
LAST-MODIFIED:20231011T015041Z
UID:10008271-1703523600-1703526300@www.mouterehills.org.nz
SUMMARY:Pilates
DESCRIPTION:Join Kris in our new Pilates class.  Pilates is a low-impact workout which is great for strenthening your muscles though controlled\, repetitive movements\, building muscular endurance and stability. \n$10 casual\, $60 for a 10 class concession card or free for fitness centre members.
URL:https://www.mouterehills.org.nz/event/pilates-3/2023-12-25/
LOCATION:Moutere Hills Community Centre
CATEGORIES:Exercise Class
END:VEVENT
BEGIN:VEVENT
DTSTART;TZID=Pacific/Auckland:20231225T161500
DTEND;TZID=Pacific/Auckland:20231225T170000
DTSTAMP:20260420T211254
CREATED:20231011T020559Z
LAST-MODIFIED:20231011T020559Z
UID:10008533-1703520900-1703523600@www.mouterehills.org.nz
SUMMARY:Teen Bootcamp
DESCRIPTION:Join Josh for this fun class incorporating resistance training and cardio.  Suitable for teenagers of all abilities. \n$6 per class or free for Fitness Centre members.
URL:https://www.mouterehills.org.nz/event/teen-bootcamp/2023-12-25/
LOCATION:Moutere Hills Community Centre
CATEGORIES:Exercise Class
END:VEVENT
BEGIN:VEVENT
DTSTART;TZID=Pacific/Auckland:20231221T190000
DTEND;TZID=Pacific/Auckland:20231221T220000
DTSTAMP:20260420T211254
CREATED:20231206T004621Z
LAST-MODIFIED:20231206T004621Z
UID:10009065-1703185200-1703196000@www.mouterehills.org.nz
SUMMARY:MHCC staff and volunteer christmas function
DESCRIPTION:Full facility
URL:https://www.mouterehills.org.nz/event/mhcc-staff-and-volunteer-christmas-function/
LOCATION:Moutere Hills Community Centre
CATEGORIES:Event
END:VEVENT
BEGIN:VEVENT
DTSTART;TZID=Pacific/Auckland:20231221T080000
DTEND;TZID=Pacific/Auckland:20231221T170000
DTSTAMP:20260420T211254
CREATED:20231206T004509Z
LAST-MODIFIED:20231206T004509Z
UID:10009064-1703145600-1703178000@www.mouterehills.org.nz
SUMMARY:Private Booking
DESCRIPTION:Full facility booked for business end of year function.
URL:https://www.mouterehills.org.nz/event/private-booking-50/
LOCATION:Moutere Hills Community Centre
END:VEVENT
BEGIN:VEVENT
DTSTART;TZID=Pacific/Auckland:20231219T100000
DTEND;TZID=Pacific/Auckland:20231219T190000
DTSTAMP:20260420T211254
CREATED:20231206T004401Z
LAST-MODIFIED:20231206T004401Z
UID:10009063-1702980000-1703012400@www.mouterehills.org.nz
SUMMARY:Private Booking
DESCRIPTION:Full facility hired for Business end of year function.
URL:https://www.mouterehills.org.nz/event/private-booking-49/
LOCATION:Moutere Hills Community Centre
END:VEVENT
BEGIN:VEVENT
DTSTART;TZID=Pacific/Auckland:20231215T100000
DTEND;TZID=Pacific/Auckland:20231215T120000
DTSTAMP:20260420T211254
CREATED:20231206T004135Z
LAST-MODIFIED:20231206T004135Z
UID:10009062-1702634400-1702641600@www.mouterehills.org.nz
SUMMARY:Playgroup Christmas Party
DESCRIPTION:Lots of fun toys and the bouncy castle.  $2 entry
URL:https://www.mouterehills.org.nz/event/playgroup-christmas-party/
CATEGORIES:Event
END:VEVENT
BEGIN:VEVENT
DTSTART;TZID=Pacific/Auckland:20231210T163000
DTEND;TZID=Pacific/Auckland:20231210T203000
DTSTAMP:20260420T211254
CREATED:20231206T003902Z
LAST-MODIFIED:20231206T003902Z
UID:10009061-1702225800-1702240200@www.mouterehills.org.nz
SUMMARY:Private Booking
DESCRIPTION:Function Room booked for a Church Service.
URL:https://www.mouterehills.org.nz/event/private-booking-48/
LOCATION:Moutere Hills Community Centre
CATEGORIES:Event
END:VEVENT
BEGIN:VEVENT
DTSTART;TZID=Pacific/Auckland:20231210T110000
DTEND;TZID=Pacific/Auckland:20231210T160000
DTSTAMP:20260420T211254
CREATED:20231206T003722Z
LAST-MODIFIED:20231206T003722Z
UID:10009060-1702206000-1702224000@www.mouterehills.org.nz
SUMMARY:private booking
DESCRIPTION:Community Room hired for Birthday Party.
URL:https://www.mouterehills.org.nz/event/private-booking-47/
LOCATION:Moutere Hills Community Centre
CATEGORIES:Event
END:VEVENT
BEGIN:VEVENT
DTSTART;TZID=Pacific/Auckland:20231209T120000
DTEND;TZID=Pacific/Auckland:20231209T190000
DTSTAMP:20260420T211254
CREATED:20231206T003619Z
LAST-MODIFIED:20231206T003619Z
UID:10009059-1702123200-1702148400@www.mouterehills.org.nz
SUMMARY:Private Booking
DESCRIPTION:Booking for a work Christmas function.  Function Room and Kitchen.
URL:https://www.mouterehills.org.nz/event/private-booking-46/
LOCATION:Moutere Hills Community Centre
CATEGORIES:Event
END:VEVENT
BEGIN:VEVENT
DTSTART;TZID=Pacific/Auckland:20231208T100000
DTEND;TZID=Pacific/Auckland:20231208T210000
DTSTAMP:20260420T211254
CREATED:20231206T002343Z
LAST-MODIFIED:20231206T002343Z
UID:10009058-1702029600-1702069200@www.mouterehills.org.nz
SUMMARY:Private Booking
DESCRIPTION:Booked for a private Christmas Function. Function Room\, Sports hall\, fields and kitchen.
URL:https://www.mouterehills.org.nz/event/private-booking-45/
LOCATION:Moutere Hills Community Centre
CATEGORIES:Event
END:VEVENT
END:VCALENDAR