BEGIN:VCALENDAR
VERSION:2.0
PRODID:-//Moutere Hills Community Centre - ECPv6.15.19//NONSGML v1.0//EN
CALSCALE:GREGORIAN
METHOD:PUBLISH
X-ORIGINAL-URL:https://www.mouterehills.org.nz
X-WR-CALDESC:Events for Moutere Hills Community Centre
REFRESH-INTERVAL;VALUE=DURATION:PT1H
X-Robots-Tag:noindex
X-PUBLISHED-TTL:PT1H
BEGIN:VTIMEZONE
TZID:Pacific/Auckland
BEGIN:STANDARD
TZOFFSETFROM:+1300
TZOFFSETTO:+1200
TZNAME:NZST
DTSTART:20230401T140000
END:STANDARD
BEGIN:DAYLIGHT
TZOFFSETFROM:+1200
TZOFFSETTO:+1300
TZNAME:NZDT
DTSTART:20230923T140000
END:DAYLIGHT
BEGIN:STANDARD
TZOFFSETFROM:+1300
TZOFFSETTO:+1200
TZNAME:NZST
DTSTART:20240406T140000
END:STANDARD
BEGIN:DAYLIGHT
TZOFFSETFROM:+1200
TZOFFSETTO:+1300
TZNAME:NZDT
DTSTART:20240928T140000
END:DAYLIGHT
BEGIN:STANDARD
TZOFFSETFROM:+1300
TZOFFSETTO:+1200
TZNAME:NZST
DTSTART:20250405T140000
END:STANDARD
BEGIN:DAYLIGHT
TZOFFSETFROM:+1200
TZOFFSETTO:+1300
TZNAME:NZDT
DTSTART:20250927T140000
END:DAYLIGHT
BEGIN:STANDARD
TZOFFSETFROM:+1300
TZOFFSETTO:+1200
TZNAME:NZST
DTSTART:20260404T140000
END:STANDARD
BEGIN:DAYLIGHT
TZOFFSETFROM:+1200
TZOFFSETTO:+1300
TZNAME:NZDT
DTSTART:20260926T140000
END:DAYLIGHT
END:VTIMEZONE
BEGIN:VEVENT
DTSTART;TZID=Pacific/Auckland:20241214T190000
DTEND;TZID=Pacific/Auckland:20241214T210000
DTSTAMP:20260420T144652
CREATED:20240415T025028Z
LAST-MODIFIED:20240415T025028Z
UID:10009118-1734202800-1734210000@www.mouterehills.org.nz
SUMMARY:Private Booking
DESCRIPTION:South Fresh Function
URL:https://www.mouterehills.org.nz/event/private-booking-77/
LOCATION:Moutere Hills Community Centre
CATEGORIES:Meeting
END:VEVENT
BEGIN:VEVENT
DTSTART;TZID=Pacific/Auckland:20250128T053000
DTEND;TZID=Pacific/Auckland:20250128T063000
DTSTAMP:20260420T144652
CREATED:20250128T075538Z
LAST-MODIFIED:20250410T023713Z
UID:10024931-1738042200-1738045800@www.mouterehills.org.nz
SUMMARY:Energise Group Fitness
DESCRIPTION:Start the day by working out with a fun bunch of motivated people who like to work out for better health and wellbeing. \nBookings essential. Contact Cindus on 0273587233.
URL:https://www.mouterehills.org.nz/event/energise-group-fitness-2/2025-01-28/
LOCATION:Moutere Hills Community Centre
CATEGORIES:Exercise Class
ORGANIZER;CN="Cindus Colonna":MAILTO:energiseme19@gmail.com
END:VEVENT
BEGIN:VEVENT
DTSTART;TZID=Pacific/Auckland:20250129T191500
DTEND;TZID=Pacific/Auckland:20250129T210000
DTSTAMP:20260420T144652
CREATED:20250107T233201Z
LAST-MODIFIED:20250107T233201Z
UID:10007793-1738178100-1738184400@www.mouterehills.org.nz
SUMMARY:Social Table Tennis
DESCRIPTION:Enjoy an evening of singles and doubles play on one of our four high quality tables. Bats can be provided and all levels of players are welcome. No need to book just turn up and join in! \n$3 per person\, per session. \nContact Peter on 03 929 8256 for more information.
URL:https://www.mouterehills.org.nz/event/social-table-tennis-2-3-2/2025-01-29/
LOCATION:Moutere Hills Community Centre
CATEGORIES:Social Sport
END:VEVENT
BEGIN:VEVENT
DTSTART;TZID=Pacific/Auckland:20250130T093000
DTEND;TZID=Pacific/Auckland:20250130T101500
DTSTAMP:20260420T144652
CREATED:20250129T074207Z
LAST-MODIFIED:20250129T074207Z
UID:10026520-1738229400-1738232100@www.mouterehills.org.nz
SUMMARY:Stretch & Flex with Vicki
DESCRIPTION:Increase flexibility and mobility with slow moving range of motion stretching. Suitable for all ages and abilities. $12 per class or free for Fitness Centre members. Concession cards are also available ($80 for 10 classes). \nBookings essential. Visit the members portal to book.
URL:https://www.mouterehills.org.nz/event/stretch-flex-with-vicki-3/2025-01-30/
LOCATION:Moutere Hills Community Centre
CATEGORIES:Exercise Class
END:VEVENT
BEGIN:VEVENT
DTSTART;TZID=Pacific/Auckland:20250130T190000
DTEND;TZID=Pacific/Auckland:20250130T213000
DTSTAMP:20260420T144652
CREATED:20250129T072538Z
LAST-MODIFIED:20250129T072538Z
UID:10026197-1738263600-1738272600@www.mouterehills.org.nz
SUMMARY:Adults Volleyball
DESCRIPTION:Competitive grade \ncost $3.00 \nContact Gordon 021 246 7366
URL:https://www.mouterehills.org.nz/event/adults-volleyball/2025-01-30/
LOCATION:Moutere Hills Community Centre
CATEGORIES:Social Sport
END:VEVENT
BEGIN:VEVENT
DTSTART;TZID=Pacific/Auckland:20250201T080000
DTEND;TZID=Pacific/Auckland:20250201T170000
DTSTAMP:20260420T144652
CREATED:20240415T025542Z
LAST-MODIFIED:20240415T025542Z
UID:10009119-1738396800-1738429200@www.mouterehills.org.nz
SUMMARY:Wedding of Kate and Liam
DESCRIPTION:
URL:https://www.mouterehills.org.nz/event/wedding-of-kate-and-liam/
LOCATION:Moutere Hills Community Centre
CATEGORIES:Event
END:VEVENT
BEGIN:VEVENT
DTSTART;TZID=Pacific/Auckland:20250204T180000
DTEND;TZID=Pacific/Auckland:20250204T200000
DTSTAMP:20260420T144652
CREATED:20250130T080924Z
LAST-MODIFIED:20250130T080924Z
UID:10027335-1738692000-1738699200@www.mouterehills.org.nz
SUMMARY:Valley Stags Rugby Training
DESCRIPTION:A combined team made up of Tapawera and Rangers players \nNew players and prospective players welcome
URL:https://www.mouterehills.org.nz/event/valley-stags-rugby-training/2025-02-04/
LOCATION:Moutere Hills Community Centre
CATEGORIES:Community Recreation
END:VEVENT
BEGIN:VEVENT
DTSTART;TZID=Pacific/Auckland:20250206T130000
DTEND;TZID=Pacific/Auckland:20250206T170000
DTSTAMP:20260420T144652
CREATED:20250127T220544Z
LAST-MODIFIED:20250127T220544Z
UID:10023805-1738846800-1738861200@www.mouterehills.org.nz
SUMMARY:Private Booking
DESCRIPTION:Hire of function room and Kitchen
URL:https://www.mouterehills.org.nz/event/private-booking-79/
LOCATION:Moutere Hills Community Centre
CATEGORIES:Event
END:VEVENT
BEGIN:VEVENT
DTSTART;TZID=Pacific/Auckland:20250210T060000
DTEND;TZID=Pacific/Auckland:20250210T064500
DTSTAMP:20260420T144652
CREATED:20250127T233813Z
LAST-MODIFIED:20250411T002938Z
UID:10024620-1739167200-1739169900@www.mouterehills.org.nz
SUMMARY:Full Body Fitness
DESCRIPTION:Jump start your week with this energizing group class that combines strength training and cardio for a full-body workout
URL:https://www.mouterehills.org.nz/event/full-body-fitness/2025-02-10/
CATEGORIES:Exercise Class
END:VEVENT
BEGIN:VEVENT
DTSTART;TZID=Pacific/Auckland:20250210T090000
DTEND;TZID=Pacific/Auckland:20250210T094500
DTSTAMP:20260420T144652
CREATED:20250128T195500Z
LAST-MODIFIED:20250410T025234Z
UID:10025222-1739178000-1739180700@www.mouterehills.org.nz
SUMMARY:Re-Activate
DESCRIPTION:A social workout\, designed to improve overall mobility and fitness through a functional fitness approach. This class is suitable for those just getting back into exercise\, those with a lower level of fitness or those who simply want to enjoy social interaction. All exercises can be tailored to suit individual needs and will be set to a level in which individuals determine their own exercise intensity. $12 per person or free for Fitness Centre members. Concession cards also available\, $80 for 10 classes. \nBookings are essential.
URL:https://www.mouterehills.org.nz/event/re-activate-3/2025-02-10/
LOCATION:Moutere Hills Community Centre
CATEGORIES:Exercise Class
END:VEVENT
BEGIN:VEVENT
DTSTART;TZID=Pacific/Auckland:20250210T153000
DTEND;TZID=Pacific/Auckland:20250210T183000
DTSTAMP:20260420T144652
CREATED:20250127T222027Z
LAST-MODIFIED:20250210T204434Z
UID:10024343-1739201400-1739212200@www.mouterehills.org.nz
SUMMARY:Aerial Silks
DESCRIPTION:Class times as follows: \n4:30pm – 5:30pm   Children’s class \n5:30pm – 6:30pm   Teens and Adults \nContact Ilka for more information – 022 085 5970 \n 
URL:https://www.mouterehills.org.nz/event/aerial-silks-ages-6-12-2/
LOCATION:Moutere Hills Community Centre
CATEGORIES:Community Recreation
END:VEVENT
BEGIN:VEVENT
DTSTART;TZID=Pacific/Auckland:20250211T130000
DTEND;TZID=Pacific/Auckland:20250211T170000
DTSTAMP:20260420T144652
CREATED:20250203T195422Z
LAST-MODIFIED:20250203T200031Z
UID:10027364-1739278800-1739293200@www.mouterehills.org.nz
SUMMARY:Private booking
DESCRIPTION:Business meeting in Community room
URL:https://www.mouterehills.org.nz/event/private-booking-80/
LOCATION:Moutere Hills Community Centre
CATEGORIES:Event
END:VEVENT
BEGIN:VEVENT
DTSTART;TZID=Pacific/Auckland:20250212T130000
DTEND;TZID=Pacific/Auckland:20250212T183000
DTSTAMP:20260420T144652
CREATED:20250211T231034Z
LAST-MODIFIED:20250319T010621Z
UID:10027519-1739365200-1739385000@www.mouterehills.org.nz
SUMMARY:Legacy Dance
DESCRIPTION:Classes from 1pm to 6:30pm \nContact Annie for more info \nemail: legacydancenz@gmail.com
URL:https://www.mouterehills.org.nz/event/legacy-dance/2025-02-12/
LOCATION:Moutere Hills Community Centre
CATEGORIES:Community Recreation
END:VEVENT
BEGIN:VEVENT
DTSTART;TZID=Pacific/Auckland:20250212T180000
DTEND;TZID=Pacific/Auckland:20250212T220000
DTSTAMP:20260420T144652
CREATED:20250203T195543Z
LAST-MODIFIED:20250203T200107Z
UID:10027365-1739383200-1739397600@www.mouterehills.org.nz
SUMMARY:Community meeting
DESCRIPTION:Function room
URL:https://www.mouterehills.org.nz/event/community-meeting/
LOCATION:Moutere Hills Community Centre
CATEGORIES:Event
END:VEVENT
BEGIN:VEVENT
DTSTART;TZID=Pacific/Auckland:20250213T103000
DTEND;TZID=Pacific/Auckland:20250213T233000
DTSTAMP:20260420T144652
CREATED:20250128T203618Z
LAST-MODIFIED:20250213T014117Z
UID:10025987-1739442600-1739489400@www.mouterehills.org.nz
SUMMARY:Sit & Be Fit
DESCRIPTION:A chair based exercise class designed to improve mobility and build strength. \nAfter the session enjoy a relaxing cup of tea\, a friendly catch-up with others\, and once a month an inspiring guest speaker to support you stay active and able! \nCost $5 per session \nor free for Fitness Centre members.
URL:https://www.mouterehills.org.nz/event/sit-be-fit/2025-02-13/
LOCATION:Moutere Hills Community Centre
CATEGORIES:Exercise Class
END:VEVENT
BEGIN:VEVENT
DTSTART;TZID=Pacific/Auckland:20250213T180000
DTEND;TZID=Pacific/Auckland:20250213T190000
DTSTAMP:20260420T144652
CREATED:20250129T071542Z
LAST-MODIFIED:20250129T071542Z
UID:10026136-1739469600-1739473200@www.mouterehills.org.nz
SUMMARY:Walking Football
DESCRIPTION:Open to males and females aged 50+ \nGold coin donation \nTo Register contact Steve \nemail: clarky.walkingfootball@gmail.com \nStay Active – Stay Social – Stay in the Game
URL:https://www.mouterehills.org.nz/event/walking-football/2025-02-13/
LOCATION:Moutere Hills Community Centre
CATEGORIES:Social Sport
END:VEVENT
BEGIN:VEVENT
DTSTART;TZID=Pacific/Auckland:20250214T080000
DTEND;TZID=Pacific/Auckland:20250214T223000
DTSTAMP:20260420T144652
CREATED:20250130T071655Z
LAST-MODIFIED:20250203T025901Z
UID:10026968-1739520000-1739572200@www.mouterehills.org.nz
SUMMARY:Moutere Hop
DESCRIPTION:Moutere Hop is a fun filled weekend consisting of the Car show\, Entertaiment\, Auctions alongside Trade and Food stalls. \nOpen to the public for the drive in movie at 8:30pm on Friday and from 10am Saturday
URL:https://www.mouterehills.org.nz/event/moutere-hop-10/2025-02-14/
LOCATION:Moutere Hills Community Centre
CATEGORIES:Event
END:VEVENT
BEGIN:VEVENT
DTSTART;TZID=Pacific/Auckland:20250217T103000
DTEND;TZID=Pacific/Auckland:20250217T113000
DTSTAMP:20260420T144652
CREATED:20250128T200713Z
LAST-MODIFIED:20251127T025844Z
UID:10033212-1739788200-1739791800@www.mouterehills.org.nz
SUMMARY:Pickleball
DESCRIPTION:Come along and give this new sport a go. \nSuitable for all ability levels \nCost $3 per session
URL:https://www.mouterehills.org.nz/event/pickleball-2/2025-02-17/
CATEGORIES:Exercise Class
END:VEVENT
BEGIN:VEVENT
DTSTART;TZID=Pacific/Auckland:20250220T130000
DTEND;TZID=Pacific/Auckland:20250220T160000
DTSTAMP:20260420T144652
CREATED:20250203T195704Z
LAST-MODIFIED:20250205T005951Z
UID:10027366-1740056400-1740067200@www.mouterehills.org.nz
SUMMARY:Business meeting
DESCRIPTION:Function room
URL:https://www.mouterehills.org.nz/event/business-meeting-22/
LOCATION:Moutere Hills Community Centre
CATEGORIES:Meeting
END:VEVENT
BEGIN:VEVENT
DTSTART;TZID=Pacific/Auckland:20250223T160000
DTEND;TZID=Pacific/Auckland:20250223T190000
DTSTAMP:20260420T144652
CREATED:20250223T011959Z
LAST-MODIFIED:20250223T011959Z
UID:10027582-1740326400-1740337200@www.mouterehills.org.nz
SUMMARY:Private Booking
DESCRIPTION:
URL:https://www.mouterehills.org.nz/event/private-booking-81/
LOCATION:Moutere Hills Community Centre
CATEGORIES:Meeting
END:VEVENT
BEGIN:VEVENT
DTSTART;TZID=Pacific/Auckland:20250226T130000
DTEND;TZID=Pacific/Auckland:20250226T194500
DTSTAMP:20260420T144652
CREATED:20250224T203908Z
LAST-MODIFIED:20250410T031809Z
UID:10027586-1740574800-1740599100@www.mouterehills.org.nz
SUMMARY:Legacy Dance
DESCRIPTION:Classes from 1pm to 7:45pm \nContact Annie for more info \nemail: legacydancenz@gmail.com
URL:https://www.mouterehills.org.nz/event/legacy-dance-2/2025-02-26/
LOCATION:Moutere Hills Community Centre
CATEGORIES:Community Recreation
END:VEVENT
BEGIN:VEVENT
DTSTART;TZID=Pacific/Auckland:20250302T160000
DTEND;TZID=Pacific/Auckland:20250302T190000
DTSTAMP:20260420T144652
CREATED:20250223T024939Z
LAST-MODIFIED:20250223T024939Z
UID:10027583-1740931200-1740942000@www.mouterehills.org.nz
SUMMARY:Private booking
DESCRIPTION:Function room
URL:https://www.mouterehills.org.nz/event/private-booking-82/
LOCATION:Moutere Hills Community Centre
CATEGORIES:Meeting
END:VEVENT
BEGIN:VEVENT
DTSTART;TZID=Pacific/Auckland:20250308T090000
DTEND;TZID=Pacific/Auckland:20250308T160000
DTSTAMP:20260420T144652
CREATED:20250211T205440Z
LAST-MODIFIED:20250211T205440Z
UID:10027451-1741424400-1741449600@www.mouterehills.org.nz
SUMMARY:Tasman Wheelers
DESCRIPTION:Cycle race starting/finishing at MHCC\nFunction room if wet weather booking.
URL:https://www.mouterehills.org.nz/event/tasman-wheelers/
LOCATION:Moutere Hills Community Centre
CATEGORIES:Event
END:VEVENT
BEGIN:VEVENT
DTSTART;TZID=Pacific/Auckland:20250309T090000
DTEND;TZID=Pacific/Auckland:20250309T130000
DTSTAMP:20260420T144652
CREATED:20250211T205608Z
LAST-MODIFIED:20250211T205608Z
UID:10027452-1741510800-1741525200@www.mouterehills.org.nz
SUMMARY:Private event
DESCRIPTION:Private booking\n9am to 1pm function room
URL:https://www.mouterehills.org.nz/event/private-event-2/
LOCATION:Moutere Hills Community Centre
CATEGORIES:Meeting
END:VEVENT
BEGIN:VEVENT
DTSTART;TZID=Pacific/Auckland:20250309T090000
DTEND;TZID=Pacific/Auckland:20250309T130000
DTSTAMP:20260420T144652
CREATED:20250306T200435Z
LAST-MODIFIED:20250306T200435Z
UID:10028013-1741510800-1741525200@www.mouterehills.org.nz
SUMMARY:Private Booking
DESCRIPTION:Function room
URL:https://www.mouterehills.org.nz/event/private-booking-84/
LOCATION:Moutere Hills Community Centre
CATEGORIES:Event
END:VEVENT
BEGIN:VEVENT
DTSTART;TZID=Pacific/Auckland:20250309T170000
DTEND;TZID=Pacific/Auckland:20250309T190000
DTSTAMP:20260420T144652
CREATED:20250223T025309Z
LAST-MODIFIED:20250306T201036Z
UID:10027584-1741539600-1741546800@www.mouterehills.org.nz
SUMMARY:Private booking
DESCRIPTION:Function room
URL:https://www.mouterehills.org.nz/event/private-booking-83/
LOCATION:Moutere Hills Community Centre
CATEGORIES:Event,Meeting
END:VEVENT
BEGIN:VEVENT
DTSTART;TZID=Pacific/Auckland:20250311T160000
DTEND;TZID=Pacific/Auckland:20250311T180000
DTSTAMP:20260420T144652
CREATED:20250211T205741Z
LAST-MODIFIED:20250211T205741Z
UID:10027453-1741708800-1741716000@www.mouterehills.org.nz
SUMMARY:Meeting
DESCRIPTION:4pm to 6pm Community room
URL:https://www.mouterehills.org.nz/event/meeting-6/
LOCATION:Moutere Hills Community Centre
CATEGORIES:Meeting
END:VEVENT
BEGIN:VEVENT
DTSTART;TZID=Pacific/Auckland:20250312T173000
DTEND;TZID=Pacific/Auckland:20250312T181500
DTSTAMP:20260420T144652
CREATED:20250311T035808Z
LAST-MODIFIED:20250311T035808Z
UID:10028631-1741800600-1741803300@www.mouterehills.org.nz
SUMMARY:Core Focus
DESCRIPTION:Incorporates core stabilisation\, muscular endurance\, strength\, balance and coordination. \nBookings are essential. Visit the Fitness Centre calendar page to register.
URL:https://www.mouterehills.org.nz/event/core-focus-3/2025-03-12/
LOCATION:Moutere Hills Community Centre
CATEGORIES:Exercise Class
END:VEVENT
BEGIN:VEVENT
DTSTART;TZID=Pacific/Auckland:20250312T181500
DTEND;TZID=Pacific/Auckland:20250312T190000
DTSTAMP:20260420T144652
CREATED:20250311T035506Z
LAST-MODIFIED:20250311T035506Z
UID:10028538-1741803300-1741806000@www.mouterehills.org.nz
SUMMARY:MetaPro Hybrid
DESCRIPTION:Take your High Intensity Interval Training to the next level with new Speed\, Agility and Quickness drills and training movements in a small group! Round out the session with some core and pelvic strengthening to ensure you leave having worked your full body! \n$12 casual\, free for Fitness Centre members or concession cards available ($80 for 10 classes). \nRegistrations essential. Visit the Fitness Centre calendar page to book
URL:https://www.mouterehills.org.nz/event/metapro-hybrid/2025-03-12/
LOCATION:Moutere Hills Community Centre
CATEGORIES:Exercise Class
END:VEVENT
BEGIN:VEVENT
DTSTART;TZID=Pacific/Auckland:20250315T090000
DTEND;TZID=Pacific/Auckland:20250315T123000
DTSTAMP:20260420T144652
CREATED:20250211T231803Z
LAST-MODIFIED:20250213T185603Z
UID:10027581-1742029200-1742041800@www.mouterehills.org.nz
SUMMARY:Rangers Rugby registration day
DESCRIPTION:Register for age grade rugby with Rangers rugby
URL:https://www.mouterehills.org.nz/event/rangers-rugby-registration-day-2/
LOCATION:Moutere Hills Community Centre
CATEGORIES:Event,Meeting
END:VEVENT
END:VCALENDAR