BEGIN:VCALENDAR
VERSION:2.0
PRODID:-//Moutere Hills Community Centre - ECPv6.15.19//NONSGML v1.0//EN
CALSCALE:GREGORIAN
METHOD:PUBLISH
X-WR-CALNAME:Moutere Hills Community Centre
X-ORIGINAL-URL:https://www.mouterehills.org.nz
X-WR-CALDESC:Events for Moutere Hills Community Centre
REFRESH-INTERVAL;VALUE=DURATION:PT1H
X-Robots-Tag:noindex
X-PUBLISHED-TTL:PT1H
BEGIN:VTIMEZONE
TZID:Pacific/Auckland
BEGIN:STANDARD
TZOFFSETFROM:+1300
TZOFFSETTO:+1200
TZNAME:NZST
DTSTART:20250405T140000
END:STANDARD
BEGIN:DAYLIGHT
TZOFFSETFROM:+1200
TZOFFSETTO:+1300
TZNAME:NZDT
DTSTART:20250927T140000
END:DAYLIGHT
BEGIN:STANDARD
TZOFFSETFROM:+1300
TZOFFSETTO:+1200
TZNAME:NZST
DTSTART:20260404T140000
END:STANDARD
BEGIN:DAYLIGHT
TZOFFSETFROM:+1200
TZOFFSETTO:+1300
TZNAME:NZDT
DTSTART:20260926T140000
END:DAYLIGHT
BEGIN:STANDARD
TZOFFSETFROM:+1300
TZOFFSETTO:+1200
TZNAME:NZST
DTSTART:20270403T140000
END:STANDARD
BEGIN:DAYLIGHT
TZOFFSETFROM:+1200
TZOFFSETTO:+1300
TZNAME:NZDT
DTSTART:20270925T140000
END:DAYLIGHT
END:VTIMEZONE
BEGIN:VEVENT
DTSTART;TZID=Pacific/Auckland:20260511T153000
DTEND;TZID=Pacific/Auckland:20260511T181500
DTSTAMP:20260424T075127
CREATED:20260318T203052Z
LAST-MODIFIED:20260407T013850Z
UID:10034911-1778513400-1778523300@www.mouterehills.org.nz
SUMMARY:Creative Barefoot & Ballet Classes
DESCRIPTION:
URL:https://www.mouterehills.org.nz/event/creative-barefoot-ballet-classes/2026-05-11/
LOCATION:Sports Hall
CATEGORIES:Community Recreation
END:VEVENT
BEGIN:VEVENT
DTSTART;TZID=Pacific/Auckland:20260512T083000
DTEND;TZID=Pacific/Auckland:20260512T091500
DTSTAMP:20260424T075127
CREATED:20260318T202523Z
LAST-MODIFIED:20260318T202807Z
UID:10034795-1778574600-1778577300@www.mouterehills.org.nz
SUMMARY:Pilates with Bex
DESCRIPTION:uses small equipment \nCost: $12 casual\, $80 for 10 class concession or free for Fitness Centre Members 
URL:https://www.mouterehills.org.nz/event/pilates-with-bex/2026-05-12/
LOCATION:Sports Hall
CATEGORIES:Exercise Class
END:VEVENT
BEGIN:VEVENT
DTSTART;TZID=Pacific/Auckland:20260512T090000
DTEND;TZID=Pacific/Auckland:20260512T150000
DTSTAMP:20260424T075127
CREATED:20240418T235342Z
LAST-MODIFIED:20240418T235342Z
UID:10010021-1778576400-1778598000@www.mouterehills.org.nz
SUMMARY:Quirky Quilters
DESCRIPTION:Thursdays 10:00am-2:00pm. \nPlease contact the office on 03 5432516 for more details.
URL:https://www.mouterehills.org.nz/event/quirky-quilters-2-2-2/2026-05-12/
CATEGORIES:Community Recreation
END:VEVENT
BEGIN:VEVENT
DTSTART;TZID=Pacific/Auckland:20260512T093000
DTEND;TZID=Pacific/Auckland:20260512T101500
DTSTAMP:20260424T075127
CREATED:20260318T202715Z
LAST-MODIFIED:20260318T202715Z
UID:10034832-1778578200-1778580900@www.mouterehills.org.nz
SUMMARY:Stretch & Flex with Bex
DESCRIPTION:Cost: $12 casual\, $80 for 10 class concession or free for Fitness Centre Members 
URL:https://www.mouterehills.org.nz/event/stretch-flex-with-bex/2026-05-12/
LOCATION:Sports Hall
CATEGORIES:Exercise Class
END:VEVENT
BEGIN:VEVENT
DTSTART;TZID=Pacific/Auckland:20260512T103000
DTEND;TZID=Pacific/Auckland:20260512T123000
DTSTAMP:20260424T075127
CREATED:20260318T190813Z
LAST-MODIFIED:20260318T190813Z
UID:10034362-1778581800-1778589000@www.mouterehills.org.nz
SUMMARY:Pickleball
DESCRIPTION:Cost $3 per person – for all ages and abilities
URL:https://www.mouterehills.org.nz/event/pickleball-3-2-2/2026-05-12/
LOCATION:Sports Hall
CATEGORIES:Exercise Class
END:VEVENT
BEGIN:VEVENT
DTSTART;TZID=Pacific/Auckland:20260512T153000
DTEND;TZID=Pacific/Auckland:20260512T173000
DTSTAMP:20260424T075127
CREATED:20260104T222701Z
LAST-MODIFIED:20260406T211833Z
UID:10033728-1778599800-1778607000@www.mouterehills.org.nz
SUMMARY:Aerial Silks - Tuesday
DESCRIPTION:Contact Ilka for more info\n\n\n\nlka Ph: 022 085 5970                      
URL:https://www.mouterehills.org.nz/event/aerial-silks-tuesday/2026-05-12/
LOCATION:Sports Hall
CATEGORIES:Community Recreation
END:VEVENT
BEGIN:VEVENT
DTSTART;TZID=Pacific/Auckland:20260512T173000
DTEND;TZID=Pacific/Auckland:20260512T200000
DTSTAMP:20260424T075127
CREATED:20260106T221736Z
LAST-MODIFIED:20260106T221736Z
UID:10034136-1778607000-1778616000@www.mouterehills.org.nz
SUMMARY:Ballroom/Latin Dance - Tuesday
DESCRIPTION:
URL:https://www.mouterehills.org.nz/event/ballroom-latin-dance-tuesday/2026-05-12/
LOCATION:Sports Hall
CATEGORIES:Community Recreation
END:VEVENT
END:VCALENDAR