BEGIN:VCALENDAR
VERSION:2.0
PRODID:-//Moutere Hills Community Centre - ECPv6.15.19//NONSGML v1.0//EN
CALSCALE:GREGORIAN
METHOD:PUBLISH
X-ORIGINAL-URL:https://www.mouterehills.org.nz
X-WR-CALDESC:Events for Moutere Hills Community Centre
REFRESH-INTERVAL;VALUE=DURATION:PT1H
X-Robots-Tag:noindex
X-PUBLISHED-TTL:PT1H
BEGIN:VTIMEZONE
TZID:Pacific/Auckland
BEGIN:STANDARD
TZOFFSETFROM:+1300
TZOFFSETTO:+1200
TZNAME:NZST
DTSTART:20250405T140000
END:STANDARD
BEGIN:DAYLIGHT
TZOFFSETFROM:+1200
TZOFFSETTO:+1300
TZNAME:NZDT
DTSTART:20250927T140000
END:DAYLIGHT
BEGIN:STANDARD
TZOFFSETFROM:+1300
TZOFFSETTO:+1200
TZNAME:NZST
DTSTART:20260404T140000
END:STANDARD
BEGIN:DAYLIGHT
TZOFFSETFROM:+1200
TZOFFSETTO:+1300
TZNAME:NZDT
DTSTART:20260926T140000
END:DAYLIGHT
BEGIN:STANDARD
TZOFFSETFROM:+1300
TZOFFSETTO:+1200
TZNAME:NZST
DTSTART:20270403T140000
END:STANDARD
BEGIN:DAYLIGHT
TZOFFSETFROM:+1200
TZOFFSETTO:+1300
TZNAME:NZDT
DTSTART:20270925T140000
END:DAYLIGHT
END:VTIMEZONE
BEGIN:VEVENT
DTSTART;TZID=Pacific/Auckland:20260528T153000
DTEND;TZID=Pacific/Auckland:20260528T180000
DTSTAMP:20260424T062118
CREATED:20240729T031539Z
LAST-MODIFIED:20240729T031539Z
UID:10017560-1779982200-1779991200@www.mouterehills.org.nz
SUMMARY:Junior Tennis Coaching
DESCRIPTION:All levels welcome 5yrs old + and upwards. \nContact Vanessa on 022 424 3564 or claybrookestate@xtra.co.nz for more info or to book.
URL:https://www.mouterehills.org.nz/event/junior-tennis-coaching-3/2026-05-28/
LOCATION:Moutere Hills Community Centre
CATEGORIES:Community Recreation
END:VEVENT
BEGIN:VEVENT
DTSTART;TZID=Pacific/Auckland:20260528T153000
DTEND;TZID=Pacific/Auckland:20260528T183000
DTSTAMP:20260424T062118
CREATED:20260104T223015Z
LAST-MODIFIED:20260406T211925Z
UID:10033776-1779982200-1779993000@www.mouterehills.org.nz
SUMMARY:Aerial Silks - Thursday
DESCRIPTION:Tasman Aerial Silks   \nIlka 022 085 5970                                    
URL:https://www.mouterehills.org.nz/event/aerial-silks-thursday/2026-05-28/
LOCATION:Sports Hall
CATEGORIES:Community Recreation
END:VEVENT
BEGIN:VEVENT
DTSTART;TZID=Pacific/Auckland:20260528T190000
DTEND;TZID=Pacific/Auckland:20260528T213000
DTSTAMP:20260424T062118
CREATED:20250129T072538Z
LAST-MODIFIED:20250129T072538Z
UID:10026266-1779994800-1780003800@www.mouterehills.org.nz
SUMMARY:Adults Volleyball
DESCRIPTION:Competitive grade \ncost $3.00 \nContact Gordon 021 246 7366
URL:https://www.mouterehills.org.nz/event/adults-volleyball/2026-05-28/
LOCATION:Moutere Hills Community Centre
CATEGORIES:Social Sport
END:VEVENT
BEGIN:VEVENT
DTSTART;TZID=Pacific/Auckland:20260529T081500
DTEND;TZID=Pacific/Auckland:20260529T090000
DTSTAMP:20260424T062118
CREATED:20260106T223323Z
LAST-MODIFIED:20260416T220611Z
UID:10012612-1780042500-1780045200@www.mouterehills.org.nz
SUMMARY:MetaFit and Core
DESCRIPTION:Join Fiona for some high intensity interval training. This short-and-sweet class will leave your metabolic rate boosted for hours afterwards. All exercises are body-weight and time-based to allow individuals to work to their own pace. Then finish the class with a core and pelvic muscle workout. \n$12 per person or free for Fitness Centre members. Concession cards available ($80 for 10 classes). \nBookings are essential. Visit the Fitness Centre calendar page to register.
URL:https://www.mouterehills.org.nz/event/metafit-and-core-with-fiona-2-2-2/2026-05-29/
LOCATION:Moutere Hills Community Centre
CATEGORIES:Exercise Class
END:VEVENT
BEGIN:VEVENT
DTSTART;TZID=Pacific/Auckland:20260529T090000
DTEND;TZID=Pacific/Auckland:20260529T094500
DTSTAMP:20260424T062118
CREATED:20240419T011921Z
LAST-MODIFIED:20250410T014732Z
UID:10012873-1780045200-1780047900@www.mouterehills.org.nz
SUMMARY:Pilates with Kris
DESCRIPTION:Join Kris for this great pilates class.  $12 for casual\, $80 for 10 class concession card or free for fitness centre members.
URL:https://www.mouterehills.org.nz/event/pilates-with-kris/2026-05-29/
LOCATION:Moutere Hills Community Centre
CATEGORIES:Exercise Class
END:VEVENT
BEGIN:VEVENT
DTSTART;TZID=Pacific/Auckland:20260529T100000
DTEND;TZID=Pacific/Auckland:20260529T111500
DTSTAMP:20260424T062118
CREATED:20260318T185130Z
LAST-MODIFIED:20260318T185130Z
UID:10034563-1780048800-1780053300@www.mouterehills.org.nz
SUMMARY:Yoga with Kris
DESCRIPTION:
URL:https://www.mouterehills.org.nz/event/yoga-with-kris-4/2026-05-29/
LOCATION:Function room
CATEGORIES:Exercise Class
END:VEVENT
BEGIN:VEVENT
DTSTART;TZID=Pacific/Auckland:20260529T100000
DTEND;TZID=Pacific/Auckland:20260529T130000
DTSTAMP:20260424T062118
CREATED:20260318T184933Z
LAST-MODIFIED:20260406T211449Z
UID:10034494-1780048800-1780059600@www.mouterehills.org.nz
SUMMARY:Playgroup
DESCRIPTION:Join us for a friendly\, relaxed morning where tamariki can play and explore while caregivers connect over a cuppa \n\n\n Monday & Friday | 10am–1pm\n Moutere Hills Community Centre\n Ages 0–6\nFree entry\n if you’re able\, please bring something small to share for morning kai\n\n\nWe look forward to seeing you there!\n\n\nContact Kaitlin or Anna\, email moutereplaygroup@gmail.com\n\, or follow our Facebook page for updates.
URL:https://www.mouterehills.org.nz/event/playgroup-4/2026-05-29/
LOCATION:Sports Hall
CATEGORIES:Community Recreation
END:VEVENT
BEGIN:VEVENT
DTSTART;TZID=Pacific/Auckland:20260529T151500
DTEND;TZID=Pacific/Auckland:20260529T171500
DTSTAMP:20260424T062118
CREATED:20260318T185446Z
LAST-MODIFIED:20260407T014030Z
UID:10034603-1780067700-1780074900@www.mouterehills.org.nz
SUMMARY:Indoor Bowls
DESCRIPTION:We welcome anyone from 8yrs old and all abilities. \nAll gear provided\, just wear soft flat soled shoes.
URL:https://www.mouterehills.org.nz/event/indoor-bowls-3/2026-05-29/
LOCATION:Sports Hall
CATEGORIES:Exercise Class
END:VEVENT
BEGIN:VEVENT
DTSTART;TZID=Pacific/Auckland:20260530T080000
DTEND;TZID=Pacific/Auckland:20260530T084500
DTSTAMP:20260424T062118
CREATED:20260318T184246Z
LAST-MODIFIED:20260318T184424Z
UID:10034444-1780128000-1780130700@www.mouterehills.org.nz
SUMMARY:Strength & Fitness - Saturday
DESCRIPTION:A circuit class designed to build strength & Fitness \nAll abilities welcome
URL:https://www.mouterehills.org.nz/event/strength-fitness-saturday/2026-05-30/
LOCATION:Sports Hall
CATEGORIES:Exercise Class
END:VEVENT
BEGIN:VEVENT
DTSTART;TZID=Pacific/Auckland:20260530T133000
DTEND;TZID=Pacific/Auckland:20260530T150000
DTSTAMP:20260424T062118
CREATED:20250320T221821Z
LAST-MODIFIED:20250530T032422Z
UID:10029202-1780147800-1780153200@www.mouterehills.org.nz
SUMMARY:Youth/ Adults Social Basketball
DESCRIPTION:Join in a fun session of Basketball. For all ability levels. Only $3.00/session
URL:https://www.mouterehills.org.nz/event/youth-adults-social-basketball-4/2026-05-30/
LOCATION:Moutere Hills Community Centre
CATEGORIES:Community Recreation
END:VEVENT
BEGIN:VEVENT
DTSTART;TZID=Pacific/Auckland:20260531T093000
DTEND;TZID=Pacific/Auckland:20260531T110000
DTSTAMP:20260424T062118
CREATED:20240729T034031Z
LAST-MODIFIED:20240729T034237Z
UID:10019161-1780219800-1780225200@www.mouterehills.org.nz
SUMMARY:Club Tennis Session
DESCRIPTION:Run by Upper Moutere Tennis Club. \nAll welcome.
URL:https://www.mouterehills.org.nz/event/club-tennis-session-2/2026-05-31/
CATEGORIES:Community Recreation
END:VEVENT
BEGIN:VEVENT
DTSTART;TZID=Pacific/Auckland:20260531T160000
DTEND;TZID=Pacific/Auckland:20260531T180000
DTSTAMP:20260424T062118
CREATED:20250731T020646Z
LAST-MODIFIED:20250731T020646Z
UID:10032598-1780243200-1780250400@www.mouterehills.org.nz
SUMMARY:Private Ballroom Lessons
DESCRIPTION:
URL:https://www.mouterehills.org.nz/event/private-ballroom-lessons/2026-05-31/
LOCATION:Sports Hall
CATEGORIES:Event
END:VEVENT
BEGIN:VEVENT
DTSTART;TZID=Pacific/Auckland:20260601T060000
DTEND;TZID=Pacific/Auckland:20260601T184500
DTSTAMP:20260424T062118
CREATED:20260104T215730Z
LAST-MODIFIED:20260104T215730Z
UID:10033374-1780293600-1780339500@www.mouterehills.org.nz
SUMMARY:Strength & Fitness Circuit - Mondays
DESCRIPTION:
URL:https://www.mouterehills.org.nz/event/strength-fitness-circuit-mondays/2026-06-01/
LOCATION:Sports Hall
CATEGORIES:Exercise Class
END:VEVENT
BEGIN:VEVENT
DTSTART;TZID=Pacific/Auckland:20260601T133000
DTEND;TZID=Pacific/Auckland:20260601T151500
DTSTAMP:20260424T062118
CREATED:20260318T190227Z
LAST-MODIFIED:20260318T190227Z
UID:10034717-1780320600-1780326900@www.mouterehills.org.nz
SUMMARY:Kids Ballroom/Latin Dance - Monday
DESCRIPTION:Classes For 6 to 9 year olds  1:30 to 2:30pm \nPrivate lessons till 3:15pm
URL:https://www.mouterehills.org.nz/event/kids-ballroom-latin-dance-monday-2/2026-06-01/
LOCATION:Sports Hall
CATEGORIES:Community Recreation
END:VEVENT
BEGIN:VEVENT
DTSTART;TZID=Pacific/Auckland:20260601T153000
DTEND;TZID=Pacific/Auckland:20260601T181500
DTSTAMP:20260424T062118
CREATED:20260318T203052Z
LAST-MODIFIED:20260407T013850Z
UID:10034914-1780327800-1780337700@www.mouterehills.org.nz
SUMMARY:Creative Barefoot & Ballet Classes
DESCRIPTION:
URL:https://www.mouterehills.org.nz/event/creative-barefoot-ballet-classes/2026-06-01/
LOCATION:Sports Hall
CATEGORIES:Community Recreation
END:VEVENT
BEGIN:VEVENT
DTSTART;TZID=Pacific/Auckland:20260612T183000
DTEND;TZID=Pacific/Auckland:20260612T203000
DTSTAMP:20260424T062118
CREATED:20240729T032733Z
LAST-MODIFIED:20240729T033053Z
UID:10018747-1781289000-1781296200@www.mouterehills.org.nz
SUMMARY:Ballroom / Latin Dance Class
DESCRIPTION:Join Becks for on the monthly practice Night.  Practice session runs from 6:30pm – 8:30pm. 2nd Friday of each month \n$10 per session.  For more details contact Becks on 021482263
URL:https://www.mouterehills.org.nz/event/ballroom-latin-dance-class-2/2026-06-12/
LOCATION:Moutere Hills Community Centre
CATEGORIES:Social Sport
END:VEVENT
BEGIN:VEVENT
DTSTART;TZID=Pacific/Auckland:20260614T180000
DTEND;TZID=Pacific/Auckland:20260614T200000
DTSTAMP:20260424T062118
CREATED:20250721T224103Z
LAST-MODIFIED:20250721T224103Z
UID:10032422-1781460000-1781467200@www.mouterehills.org.nz
SUMMARY:Dance Classes - Ballroom/Latin
DESCRIPTION:Come along to a fun adult beginners Ballroom dance class \nContact Becks on dancingbecks@hotmail.com or cell 021482263
URL:https://www.mouterehills.org.nz/event/dance-classes-ballroom-latin/2026-06-14/
LOCATION:Moutere Hills Community Centre
CATEGORIES:Community Recreation
END:VEVENT
END:VCALENDAR