BEGIN:VCALENDAR
VERSION:2.0
PRODID:-//Moutere Hills Community Centre - ECPv6.15.19//NONSGML v1.0//EN
CALSCALE:GREGORIAN
METHOD:PUBLISH
X-ORIGINAL-URL:https://www.mouterehills.org.nz
X-WR-CALDESC:Events for Moutere Hills Community Centre
REFRESH-INTERVAL;VALUE=DURATION:PT1H
X-Robots-Tag:noindex
X-PUBLISHED-TTL:PT1H
BEGIN:VTIMEZONE
TZID:Pacific/Auckland
BEGIN:STANDARD
TZOFFSETFROM:+1300
TZOFFSETTO:+1200
TZNAME:NZST
DTSTART:20250405T140000
END:STANDARD
BEGIN:DAYLIGHT
TZOFFSETFROM:+1200
TZOFFSETTO:+1300
TZNAME:NZDT
DTSTART:20250927T140000
END:DAYLIGHT
BEGIN:STANDARD
TZOFFSETFROM:+1300
TZOFFSETTO:+1200
TZNAME:NZST
DTSTART:20260404T140000
END:STANDARD
BEGIN:DAYLIGHT
TZOFFSETFROM:+1200
TZOFFSETTO:+1300
TZNAME:NZDT
DTSTART:20260926T140000
END:DAYLIGHT
BEGIN:STANDARD
TZOFFSETFROM:+1300
TZOFFSETTO:+1200
TZNAME:NZST
DTSTART:20270403T140000
END:STANDARD
BEGIN:DAYLIGHT
TZOFFSETFROM:+1200
TZOFFSETTO:+1300
TZNAME:NZDT
DTSTART:20270925T140000
END:DAYLIGHT
END:VTIMEZONE
BEGIN:VEVENT
DTSTART;TZID=Pacific/Auckland:20260424T090000
DTEND;TZID=Pacific/Auckland:20260424T094500
DTSTAMP:20260422T032334
CREATED:20240419T011921Z
LAST-MODIFIED:20250410T014732Z
UID:10012868-1777021200-1777023900@www.mouterehills.org.nz
SUMMARY:Pilates with Kris
DESCRIPTION:Join Kris for this great pilates class.  $12 for casual\, $80 for 10 class concession card or free for fitness centre members.
URL:https://www.mouterehills.org.nz/event/pilates-with-kris/2026-04-24/
LOCATION:Moutere Hills Community Centre
CATEGORIES:Exercise Class
END:VEVENT
BEGIN:VEVENT
DTSTART;TZID=Pacific/Auckland:20260424T100000
DTEND;TZID=Pacific/Auckland:20260424T111500
DTSTAMP:20260422T032334
CREATED:20260318T185130Z
LAST-MODIFIED:20260318T185130Z
UID:10034558-1777024800-1777029300@www.mouterehills.org.nz
SUMMARY:Yoga with Kris
DESCRIPTION:
URL:https://www.mouterehills.org.nz/event/yoga-with-kris-4/2026-04-24/
LOCATION:Function room
CATEGORIES:Exercise Class
END:VEVENT
BEGIN:VEVENT
DTSTART;TZID=Pacific/Auckland:20260424T100000
DTEND;TZID=Pacific/Auckland:20260424T130000
DTSTAMP:20260422T032334
CREATED:20260318T184933Z
LAST-MODIFIED:20260406T211449Z
UID:10034484-1777024800-1777035600@www.mouterehills.org.nz
SUMMARY:Playgroup
DESCRIPTION:Join us for a friendly\, relaxed morning where tamariki can play and explore while caregivers connect over a cuppa \n\n\n Monday & Friday | 10am–1pm\n Moutere Hills Community Centre\n Ages 0–6\nFree entry\n if you’re able\, please bring something small to share for morning kai\n\n\nWe look forward to seeing you there!\n\n\nContact Kaitlin or Anna\, email moutereplaygroup@gmail.com\n\, or follow our Facebook page for updates.
URL:https://www.mouterehills.org.nz/event/playgroup-4/2026-04-24/
LOCATION:Sports Hall
CATEGORIES:Community Recreation
END:VEVENT
BEGIN:VEVENT
DTSTART;TZID=Pacific/Auckland:20260424T151500
DTEND;TZID=Pacific/Auckland:20260424T171500
DTSTAMP:20260422T032334
CREATED:20260318T185446Z
LAST-MODIFIED:20260407T014030Z
UID:10034598-1777043700-1777050900@www.mouterehills.org.nz
SUMMARY:Indoor Bowls
DESCRIPTION:We welcome anyone from 8yrs old and all abilities. \nAll gear provided\, just wear soft flat soled shoes.
URL:https://www.mouterehills.org.nz/event/indoor-bowls-3/2026-04-24/
LOCATION:Sports Hall
CATEGORIES:Exercise Class
END:VEVENT
BEGIN:VEVENT
DTSTART;TZID=Pacific/Auckland:20260425T080000
DTEND;TZID=Pacific/Auckland:20260425T084500
DTSTAMP:20260422T032334
CREATED:20260318T184246Z
LAST-MODIFIED:20260318T184424Z
UID:10034439-1777104000-1777106700@www.mouterehills.org.nz
SUMMARY:Strength & Fitness - Saturday
DESCRIPTION:A circuit class designed to build strength & Fitness \nAll abilities welcome
URL:https://www.mouterehills.org.nz/event/strength-fitness-saturday/2026-04-25/
LOCATION:Sports Hall
CATEGORIES:Exercise Class
END:VEVENT
BEGIN:VEVENT
DTSTART;TZID=Pacific/Auckland:20260425T133000
DTEND;TZID=Pacific/Auckland:20260425T150000
DTSTAMP:20260422T032334
CREATED:20250320T221821Z
LAST-MODIFIED:20250530T032422Z
UID:10029197-1777123800-1777129200@www.mouterehills.org.nz
SUMMARY:Youth/ Adults Social Basketball
DESCRIPTION:Join in a fun session of Basketball. For all ability levels. Only $3.00/session
URL:https://www.mouterehills.org.nz/event/youth-adults-social-basketball-4/2026-04-25/
LOCATION:Moutere Hills Community Centre
CATEGORIES:Community Recreation
END:VEVENT
BEGIN:VEVENT
DTSTART;TZID=Pacific/Auckland:20260426T093000
DTEND;TZID=Pacific/Auckland:20260426T110000
DTSTAMP:20260422T032334
CREATED:20240729T034031Z
LAST-MODIFIED:20240729T034237Z
UID:10019156-1777195800-1777201200@www.mouterehills.org.nz
SUMMARY:Club Tennis Session
DESCRIPTION:Run by Upper Moutere Tennis Club. \nAll welcome.
URL:https://www.mouterehills.org.nz/event/club-tennis-session-2/2026-04-26/
CATEGORIES:Community Recreation
END:VEVENT
BEGIN:VEVENT
DTSTART;TZID=Pacific/Auckland:20260426T160000
DTEND;TZID=Pacific/Auckland:20260426T180000
DTSTAMP:20260422T032334
CREATED:20250731T020646Z
LAST-MODIFIED:20250731T020646Z
UID:10032593-1777219200-1777226400@www.mouterehills.org.nz
SUMMARY:Private Ballroom Lessons
DESCRIPTION:
URL:https://www.mouterehills.org.nz/event/private-ballroom-lessons/2026-04-26/
LOCATION:Sports Hall
CATEGORIES:Event
END:VEVENT
BEGIN:VEVENT
DTSTART;TZID=Pacific/Auckland:20260427T060000
DTEND;TZID=Pacific/Auckland:20260427T184500
DTSTAMP:20260422T032334
CREATED:20260407T074441Z
LAST-MODIFIED:20260407T074441Z
UID:10033369-1777269600-1777315500@www.mouterehills.org.nz
SUMMARY:Strength & Fitness Circuit - Mondays
DESCRIPTION:
URL:https://www.mouterehills.org.nz/event/strength-fitness-circuit-mondays-3/
LOCATION:Sports Hall
CATEGORIES:Exercise Class
END:VEVENT
BEGIN:VEVENT
DTSTART;TZID=Pacific/Auckland:20260427T133000
DTEND;TZID=Pacific/Auckland:20260427T151500
DTSTAMP:20260422T032334
CREATED:20260407T074633Z
LAST-MODIFIED:20260407T074633Z
UID:10034712-1777296600-1777302900@www.mouterehills.org.nz
SUMMARY:Kids Ballroom/Latin Dance - Monday
DESCRIPTION:Classes For 6 to 9 year olds  1:30 to 2:30pm \nPrivate lessons till 3:15pm
URL:https://www.mouterehills.org.nz/event/kids-ballroom-latin-dance-monday-2-3/
LOCATION:Sports Hall
CATEGORIES:Community Recreation
END:VEVENT
BEGIN:VEVENT
DTSTART;TZID=Pacific/Auckland:20260427T153000
DTEND;TZID=Pacific/Auckland:20260427T181500
DTSTAMP:20260422T032334
CREATED:20260407T074655Z
LAST-MODIFIED:20260407T074655Z
UID:10034909-1777303800-1777313700@www.mouterehills.org.nz
SUMMARY:Creative Barefoot & Ballet Classes
DESCRIPTION:
URL:https://www.mouterehills.org.nz/event/creative-barefoot-ballet-classes-3/
LOCATION:Sports Hall
CATEGORIES:Community Recreation
END:VEVENT
BEGIN:VEVENT
DTSTART;TZID=Pacific/Auckland:20260427T170000
DTEND;TZID=Pacific/Auckland:20260427T174500
DTSTAMP:20260422T032334
CREATED:20260407T074723Z
LAST-MODIFIED:20260407T074723Z
UID:10030366-1777309200-1777311900@www.mouterehills.org.nz
SUMMARY:Pilates
DESCRIPTION:Join Kris in our new Pilates class.  Pilates is a low-impact workout which is great for strenthening your muscles though controlled\, repetitive movements\, building muscular endurance and stability. \n$12 casual\, $80 for a 10 class concession card or free for fitness centre members.
URL:https://www.mouterehills.org.nz/event/pilates-5-3/
LOCATION:Moutere Hills Community Centre
CATEGORIES:Exercise Class
END:VEVENT
BEGIN:VEVENT
DTSTART;TZID=Pacific/Auckland:20260427T190000
DTEND;TZID=Pacific/Auckland:20260427T201500
DTSTAMP:20260422T032334
CREATED:20260407T074811Z
LAST-MODIFIED:20260407T074812Z
UID:10009493-1777316400-1777320900@www.mouterehills.org.nz
SUMMARY:Yoga with Kris
DESCRIPTION:Contact Kris on 0275252814 for more information or to book your spot.
URL:https://www.mouterehills.org.nz/event/dru-yoga-with-kris-2-3-2-2-3/
LOCATION:Moutere Hills Community Centre
CATEGORIES:Community Recreation
END:VEVENT
BEGIN:VEVENT
DTSTART;TZID=Pacific/Auckland:20260428T083000
DTEND;TZID=Pacific/Auckland:20260428T091500
DTSTAMP:20260422T032334
CREATED:20260318T202523Z
LAST-MODIFIED:20260318T202807Z
UID:10034793-1777365000-1777367700@www.mouterehills.org.nz
SUMMARY:Pilates with Bex
DESCRIPTION:uses small equipment \nCost: $12 casual\, $80 for 10 class concession or free for Fitness Centre Members 
URL:https://www.mouterehills.org.nz/event/pilates-with-bex/2026-04-28/
LOCATION:Sports Hall
CATEGORIES:Exercise Class
END:VEVENT
BEGIN:VEVENT
DTSTART;TZID=Pacific/Auckland:20260428T090000
DTEND;TZID=Pacific/Auckland:20260428T150000
DTSTAMP:20260422T032334
CREATED:20240418T235342Z
LAST-MODIFIED:20240418T235342Z
UID:10010019-1777366800-1777388400@www.mouterehills.org.nz
SUMMARY:Quirky Quilters
DESCRIPTION:Thursdays 10:00am-2:00pm. \nPlease contact the office on 03 5432516 for more details.
URL:https://www.mouterehills.org.nz/event/quirky-quilters-2-2-2/2026-04-28/
CATEGORIES:Community Recreation
END:VEVENT
BEGIN:VEVENT
DTSTART;TZID=Pacific/Auckland:20260428T093000
DTEND;TZID=Pacific/Auckland:20260428T101500
DTSTAMP:20260422T032334
CREATED:20260318T202715Z
LAST-MODIFIED:20260318T202715Z
UID:10034830-1777368600-1777371300@www.mouterehills.org.nz
SUMMARY:Stretch & Flex with Bex
DESCRIPTION:Cost: $12 casual\, $80 for 10 class concession or free for Fitness Centre Members 
URL:https://www.mouterehills.org.nz/event/stretch-flex-with-bex/2026-04-28/
LOCATION:Sports Hall
CATEGORIES:Exercise Class
END:VEVENT
BEGIN:VEVENT
DTSTART;TZID=Pacific/Auckland:20260428T103000
DTEND;TZID=Pacific/Auckland:20260428T123000
DTSTAMP:20260422T032334
CREATED:20260318T190813Z
LAST-MODIFIED:20260318T190813Z
UID:10034360-1777372200-1777379400@www.mouterehills.org.nz
SUMMARY:Pickleball
DESCRIPTION:Cost $3 per person – for all ages and abilities
URL:https://www.mouterehills.org.nz/event/pickleball-3-2-2/2026-04-28/
LOCATION:Sports Hall
CATEGORIES:Exercise Class
END:VEVENT
BEGIN:VEVENT
DTSTART;TZID=Pacific/Auckland:20260428T153000
DTEND;TZID=Pacific/Auckland:20260428T173000
DTSTAMP:20260422T032334
CREATED:20260104T222701Z
LAST-MODIFIED:20260406T211833Z
UID:10033726-1777390200-1777397400@www.mouterehills.org.nz
SUMMARY:Aerial Silks - Tuesday
DESCRIPTION:Contact Ilka for more info\n\n\n\nlka Ph: 022 085 5970                      
URL:https://www.mouterehills.org.nz/event/aerial-silks-tuesday/2026-04-28/
LOCATION:Sports Hall
CATEGORIES:Community Recreation
END:VEVENT
BEGIN:VEVENT
DTSTART;TZID=Pacific/Auckland:20260428T173000
DTEND;TZID=Pacific/Auckland:20260428T200000
DTSTAMP:20260422T032334
CREATED:20260106T221736Z
LAST-MODIFIED:20260106T221736Z
UID:10034134-1777397400-1777406400@www.mouterehills.org.nz
SUMMARY:Ballroom/Latin Dance - Tuesday
DESCRIPTION:
URL:https://www.mouterehills.org.nz/event/ballroom-latin-dance-tuesday/2026-04-28/
LOCATION:Sports Hall
CATEGORIES:Community Recreation
END:VEVENT
BEGIN:VEVENT
DTSTART;TZID=Pacific/Auckland:20260429T080000
DTEND;TZID=Pacific/Auckland:20260429T084500
DTSTAMP:20260422T032334
CREATED:20240419T010735Z
LAST-MODIFIED:20260106T214122Z
UID:10012081-1777449600-1777452300@www.mouterehills.org.nz
SUMMARY:Pilates
DESCRIPTION:Join Kris in our Pilates class.  Pilates is a low-impact workout which is great for strengthening your muscles though controlled\, repetitive movements\, building muscular endurance and stability. Suitable for Beginners.  $12 casual\, $80 for a 10 class concession card or free for fitness centre members.
URL:https://www.mouterehills.org.nz/event/pilates-4/2026-04-29/
LOCATION:Moutere Hills Community Centre
CATEGORIES:Exercise Class
END:VEVENT
BEGIN:VEVENT
DTSTART;TZID=Pacific/Auckland:20260429T084500
DTEND;TZID=Pacific/Auckland:20260429T094500
DTSTAMP:20260422T032334
CREATED:20260407T075525Z
LAST-MODIFIED:20260407T075526Z
UID:10034400-1777452300-1777455900@www.mouterehills.org.nz
SUMMARY:Powerhooping
DESCRIPTION:
URL:https://www.mouterehills.org.nz/event/powerhooping-4-2/2026-04-29/
LOCATION:Sports Hall
CATEGORIES:Exercise Class
END:VEVENT
BEGIN:VEVENT
DTSTART;TZID=Pacific/Auckland:20260429T154500
DTEND;TZID=Pacific/Auckland:20260429T190000
DTSTAMP:20260422T032334
CREATED:20260105T054759Z
LAST-MODIFIED:20260406T211640Z
UID:10033812-1777477500-1777489200@www.mouterehills.org.nz
SUMMARY:Legacy Dance
DESCRIPTION:Classes from 3:45pm to 7:00pm \nContact Annie for more info \nemail: legacydancenz@gmail.com
URL:https://www.mouterehills.org.nz/event/legacy-dance-term-three-2/2026-04-29/
LOCATION:Moutere Hills Community Centre
CATEGORIES:Community Recreation
END:VEVENT
BEGIN:VEVENT
DTSTART;TZID=Pacific/Auckland:20260429T173000
DTEND;TZID=Pacific/Auckland:20260429T181500
DTSTAMP:20260422T032334
CREATED:20250311T035808Z
LAST-MODIFIED:20250311T035808Z
UID:10028690-1777483800-1777486500@www.mouterehills.org.nz
SUMMARY:Core Focus
DESCRIPTION:Incorporates core stabilisation\, muscular endurance\, strength\, balance and coordination. \nBookings are essential. Visit the Fitness Centre calendar page to register.
URL:https://www.mouterehills.org.nz/event/core-focus-3/2026-04-29/
LOCATION:Moutere Hills Community Centre
CATEGORIES:Exercise Class
END:VEVENT
BEGIN:VEVENT
DTSTART;TZID=Pacific/Auckland:20260429T180000
DTEND;TZID=Pacific/Auckland:20260429T190000
DTSTAMP:20260422T032334
CREATED:20260106T222007Z
LAST-MODIFIED:20260106T222007Z
UID:10029727-1777485600-1777489200@www.mouterehills.org.nz
SUMMARY:Walking Football
DESCRIPTION:Open to males and females aged 50+ \nGold coin donation \nTo Register contact Steve \nemail: clarky.walkingfootball@gmail.com \nStay Active – Stay Social – Stay in the Game
URL:https://www.mouterehills.org.nz/event/walking-football-2-2/2026-04-29/
LOCATION:Moutere Hills Community Centre
CATEGORIES:Social Sport
END:VEVENT
BEGIN:VEVENT
DTSTART;TZID=Pacific/Auckland:20260429T191500
DTEND;TZID=Pacific/Auckland:20260429T210000
DTSTAMP:20260422T032334
CREATED:20250107T233201Z
LAST-MODIFIED:20250107T233201Z
UID:10023612-1777490100-1777496400@www.mouterehills.org.nz
SUMMARY:Social Table Tennis
DESCRIPTION:Enjoy an evening of singles and doubles play on one of our four high quality tables. Bats can be provided and all levels of players are welcome. No need to book just turn up and join in! \n$3 per person\, per session. \nContact Peter on 03 929 8256 for more information.
URL:https://www.mouterehills.org.nz/event/social-table-tennis-2-3-2/2026-04-29/
LOCATION:Moutere Hills Community Centre
CATEGORIES:Social Sport
END:VEVENT
BEGIN:VEVENT
DTSTART;TZID=Pacific/Auckland:20260504T191500
DTEND;TZID=Pacific/Auckland:20260504T203000
DTSTAMP:20260422T032334
CREATED:20260407T014715Z
LAST-MODIFIED:20260407T014715Z
UID:10035007-1777922100-1777926600@www.mouterehills.org.nz
SUMMARY:Social Netball
DESCRIPTION:
URL:https://www.mouterehills.org.nz/event/social-netball-3/
LOCATION:Sports Hall
CATEGORIES:Social Sport
END:VEVENT
BEGIN:VEVENT
DTSTART;TZID=Pacific/Auckland:20260508T183000
DTEND;TZID=Pacific/Auckland:20260508T203000
DTSTAMP:20260422T032334
CREATED:20240729T032733Z
LAST-MODIFIED:20240729T033053Z
UID:10018746-1778265000-1778272200@www.mouterehills.org.nz
SUMMARY:Ballroom / Latin Dance Class
DESCRIPTION:Join Becks for on the monthly practice Night.  Practice session runs from 6:30pm – 8:30pm. 2nd Friday of each month \n$10 per session.  For more details contact Becks on 021482263
URL:https://www.mouterehills.org.nz/event/ballroom-latin-dance-class-2/2026-05-08/
LOCATION:Moutere Hills Community Centre
CATEGORIES:Social Sport
END:VEVENT
BEGIN:VEVENT
DTSTART;TZID=Pacific/Auckland:20260510T180000
DTEND;TZID=Pacific/Auckland:20260510T200000
DTSTAMP:20260422T032334
CREATED:20250721T224103Z
LAST-MODIFIED:20250721T224103Z
UID:10032421-1778436000-1778443200@www.mouterehills.org.nz
SUMMARY:Dance Classes - Ballroom/Latin
DESCRIPTION:Come along to a fun adult beginners Ballroom dance class \nContact Becks on dancingbecks@hotmail.com or cell 021482263
URL:https://www.mouterehills.org.nz/event/dance-classes-ballroom-latin/2026-05-10/
LOCATION:Moutere Hills Community Centre
CATEGORIES:Community Recreation
END:VEVENT
END:VCALENDAR