BEGIN:VCALENDAR
VERSION:2.0
PRODID:-//Moutere Hills Community Centre - ECPv6.15.19//NONSGML v1.0//EN
CALSCALE:GREGORIAN
METHOD:PUBLISH
X-WR-CALNAME:Moutere Hills Community Centre
X-ORIGINAL-URL:https://www.mouterehills.org.nz
X-WR-CALDESC:Events for Moutere Hills Community Centre
REFRESH-INTERVAL;VALUE=DURATION:PT1H
X-Robots-Tag:noindex
X-PUBLISHED-TTL:PT1H
BEGIN:VTIMEZONE
TZID:Pacific/Auckland
BEGIN:STANDARD
TZOFFSETFROM:+1300
TZOFFSETTO:+1200
TZNAME:NZST
DTSTART:20250405T140000
END:STANDARD
BEGIN:DAYLIGHT
TZOFFSETFROM:+1200
TZOFFSETTO:+1300
TZNAME:NZDT
DTSTART:20250927T140000
END:DAYLIGHT
BEGIN:STANDARD
TZOFFSETFROM:+1300
TZOFFSETTO:+1200
TZNAME:NZST
DTSTART:20260404T140000
END:STANDARD
BEGIN:DAYLIGHT
TZOFFSETFROM:+1200
TZOFFSETTO:+1300
TZNAME:NZDT
DTSTART:20260926T140000
END:DAYLIGHT
BEGIN:STANDARD
TZOFFSETFROM:+1300
TZOFFSETTO:+1200
TZNAME:NZST
DTSTART:20270403T140000
END:STANDARD
BEGIN:DAYLIGHT
TZOFFSETFROM:+1200
TZOFFSETTO:+1300
TZNAME:NZDT
DTSTART:20270925T140000
END:DAYLIGHT
END:VTIMEZONE
BEGIN:VEVENT
DTSTART;TZID=Pacific/Auckland:20260401T080000
DTEND;TZID=Pacific/Auckland:20260401T084500
DTSTAMP:20260422T032125
CREATED:20240419T010735Z
LAST-MODIFIED:20260106T214122Z
UID:10012077-1775030400-1775033100@www.mouterehills.org.nz
SUMMARY:Pilates
DESCRIPTION:Join Kris in our Pilates class.  Pilates is a low-impact workout which is great for strengthening your muscles though controlled\, repetitive movements\, building muscular endurance and stability. Suitable for Beginners.  $12 casual\, $80 for a 10 class concession card or free for fitness centre members.
URL:https://www.mouterehills.org.nz/event/pilates-4/2026-04-01/
LOCATION:Moutere Hills Community Centre
CATEGORIES:Exercise Class
END:VEVENT
BEGIN:VEVENT
DTSTART;TZID=Pacific/Auckland:20260401T084500
DTEND;TZID=Pacific/Auckland:20260401T094500
DTSTAMP:20260422T032125
CREATED:20260312T235445Z
LAST-MODIFIED:20260407T013946Z
UID:10034396-1775033100-1775036700@www.mouterehills.org.nz
SUMMARY:Powerhooping
DESCRIPTION:
URL:https://www.mouterehills.org.nz/event/powerhooping-4/2026-04-01/
LOCATION:Sports Hall
CATEGORIES:Exercise Class
END:VEVENT
BEGIN:VEVENT
DTSTART;TZID=Pacific/Auckland:20260401T090000
DTEND;TZID=Pacific/Auckland:20260401T214500
DTSTAMP:20260422T032125
CREATED:20240729T010107Z
LAST-MODIFIED:20250410T014347Z
UID:10015100-1775034000-1775079900@www.mouterehills.org.nz
SUMMARY:Pilates
DESCRIPTION:Join Kris in our new Pilates class.  Pilates is a low-impact workout which is great for strenthening your muscles though controlled\, repetitive movements\, building muscular endurance and stability. \n$12 casual\, $80 for a 10 class concession card or free for fitness centre members.
URL:https://www.mouterehills.org.nz/event/pilates-3-3/2026-04-01/
LOCATION:Moutere Hills Community Centre
CATEGORIES:Exercise Class
END:VEVENT
BEGIN:VEVENT
DTSTART;TZID=Pacific/Auckland:20260401T100000
DTEND;TZID=Pacific/Auckland:20260401T111500
DTSTAMP:20260422T032125
CREATED:20260106T212720Z
LAST-MODIFIED:20260106T212721Z
UID:10029862-1775037600-1775042100@www.mouterehills.org.nz
SUMMARY:Yoga with Kris
DESCRIPTION:Contact Kris on 0275252814 for more information or to book your spot.
URL:https://www.mouterehills.org.nz/event/yoga-with-kris-3/2026-04-01/
LOCATION:Moutere Hills Community Centre
CATEGORIES:Community Recreation
END:VEVENT
BEGIN:VEVENT
DTSTART;TZID=Pacific/Auckland:20260401T154500
DTEND;TZID=Pacific/Auckland:20260401T190000
DTSTAMP:20260422T032125
CREATED:20260105T054759Z
LAST-MODIFIED:20260406T211640Z
UID:10033809-1775058300-1775070000@www.mouterehills.org.nz
SUMMARY:Legacy Dance
DESCRIPTION:Classes from 3:45pm to 7:00pm \nContact Annie for more info \nemail: legacydancenz@gmail.com
URL:https://www.mouterehills.org.nz/event/legacy-dance-term-three-2/2026-04-01/
LOCATION:Moutere Hills Community Centre
CATEGORIES:Community Recreation
END:VEVENT
BEGIN:VEVENT
DTSTART;TZID=Pacific/Auckland:20260401T173000
DTEND;TZID=Pacific/Auckland:20260401T181500
DTSTAMP:20260422T032125
CREATED:20250311T035808Z
LAST-MODIFIED:20250311T035808Z
UID:10028686-1775064600-1775067300@www.mouterehills.org.nz
SUMMARY:Core Focus
DESCRIPTION:Incorporates core stabilisation\, muscular endurance\, strength\, balance and coordination. \nBookings are essential. Visit the Fitness Centre calendar page to register.
URL:https://www.mouterehills.org.nz/event/core-focus-3/2026-04-01/
LOCATION:Moutere Hills Community Centre
CATEGORIES:Exercise Class
END:VEVENT
BEGIN:VEVENT
DTSTART;TZID=Pacific/Auckland:20260401T180000
DTEND;TZID=Pacific/Auckland:20260401T190000
DTSTAMP:20260422T032125
CREATED:20260106T222007Z
LAST-MODIFIED:20260106T222007Z
UID:10029723-1775066400-1775070000@www.mouterehills.org.nz
SUMMARY:Walking Football
DESCRIPTION:Open to males and females aged 50+ \nGold coin donation \nTo Register contact Steve \nemail: clarky.walkingfootball@gmail.com \nStay Active – Stay Social – Stay in the Game
URL:https://www.mouterehills.org.nz/event/walking-football-2-2/2026-04-01/
LOCATION:Moutere Hills Community Centre
CATEGORIES:Social Sport
END:VEVENT
BEGIN:VEVENT
DTSTART;TZID=Pacific/Auckland:20260401T191500
DTEND;TZID=Pacific/Auckland:20260401T210000
DTSTAMP:20260422T032125
CREATED:20250107T233201Z
LAST-MODIFIED:20250107T233201Z
UID:10023608-1775070900-1775077200@www.mouterehills.org.nz
SUMMARY:Social Table Tennis
DESCRIPTION:Enjoy an evening of singles and doubles play on one of our four high quality tables. Bats can be provided and all levels of players are welcome. No need to book just turn up and join in! \n$3 per person\, per session. \nContact Peter on 03 929 8256 for more information.
URL:https://www.mouterehills.org.nz/event/social-table-tennis-2-3-2/2026-04-01/
LOCATION:Moutere Hills Community Centre
CATEGORIES:Social Sport
END:VEVENT
BEGIN:VEVENT
DTSTART;TZID=Pacific/Auckland:20260402T053000
DTEND;TZID=Pacific/Auckland:20260402T063000
DTSTAMP:20260422T032125
CREATED:20260104T220342Z
LAST-MODIFIED:20260104T220558Z
UID:10033477-1775107800-1775111400@www.mouterehills.org.nz
SUMMARY:Energise Group Fitness
DESCRIPTION:Start the day by working out with a fun bunch of motivated people who like to work out for better health and wellbeing. \nBookings essential. Contact Cindus on 0273587233.
URL:https://www.mouterehills.org.nz/event/energise-group-fitness-2-2-2/2026-04-02/
LOCATION:Moutere Hills Community Centre
CATEGORIES:Exercise Class
ORGANIZER;CN="Cindus Colonna":MAILTO:energiseme19@gmail.com
END:VEVENT
BEGIN:VEVENT
DTSTART;TZID=Pacific/Auckland:20260402T083000
DTEND;TZID=Pacific/Auckland:20260402T091500
DTSTAMP:20260422T032125
CREATED:20260106T213329Z
LAST-MODIFIED:20260106T213329Z
UID:10016767-1775118600-1775121300@www.mouterehills.org.nz
SUMMARY:Re-Activate
DESCRIPTION:A social workout\, designed to improve overall mobility and fitness through a functional fitness approach. This class is suitable for those just getting back into exercise\, those with a lower level of fitness or those who simply want to enjoy social interaction. All exercises can be tailored to suit individual needs and will be set to a level in which individuals determine their own exercise intensity. $12 per person or free for Fitness Centre members. Concession cards also available\, $80 for 10 classes. \nBookings are essential. Visit the Fitness Centre calendar page to register.
URL:https://www.mouterehills.org.nz/event/re-activate-2-3/2026-04-02/
CATEGORIES:Exercise Class
END:VEVENT
BEGIN:VEVENT
DTSTART;TZID=Pacific/Auckland:20260402T090000
DTEND;TZID=Pacific/Auckland:20260402T103000
DTSTAMP:20260422T032125
CREATED:20240729T030950Z
LAST-MODIFIED:20240729T030950Z
UID:10017290-1775120400-1775125800@www.mouterehills.org.nz
SUMMARY:Tennis Coaching
DESCRIPTION:Group and individual lessons.  Contact Vanessa on 022 460 0320 for info.
URL:https://www.mouterehills.org.nz/event/tennis-coaching-2/2026-04-02/
LOCATION:Moutere Hills Community Centre
CATEGORIES:Social Sport
END:VEVENT
BEGIN:VEVENT
DTSTART;TZID=Pacific/Auckland:20260402T093000
DTEND;TZID=Pacific/Auckland:20260402T113000
DTSTAMP:20260422T032125
CREATED:20260318T190432Z
LAST-MODIFIED:20260318T190432Z
UID:10034749-1775122200-1775129400@www.mouterehills.org.nz
SUMMARY:Dungeons n Dragons
DESCRIPTION:
URL:https://www.mouterehills.org.nz/event/dungeons-n-dragons/2026-04-02/
LOCATION:Community Room
CATEGORIES:Community Recreation
END:VEVENT
BEGIN:VEVENT
DTSTART;TZID=Pacific/Auckland:20260402T103000
DTEND;TZID=Pacific/Auckland:20260402T113000
DTSTAMP:20260422T032125
CREATED:20260318T185915Z
LAST-MODIFIED:20260318T185916Z
UID:10033209-1775125800-1775129400@www.mouterehills.org.nz
SUMMARY:Sit & Be Fit
DESCRIPTION:A chair based exercise class designed to improve mobility and build strength. \nAfter the session enjoy a relaxing cup of tea\, a friendly catch-up with others\, and once a month an inspiring guest speaker to support you stay active and able! \nCost $5 per session \nor free for Fitness Centre members.
URL:https://www.mouterehills.org.nz/event/sit-be-fit-2-2-2-2/2026-04-02/
LOCATION:Moutere Hills Community Centre
CATEGORIES:Exercise Class
END:VEVENT
BEGIN:VEVENT
DTSTART;TZID=Pacific/Auckland:20260402T103000
DTEND;TZID=Pacific/Auckland:20260402T120000
DTSTAMP:20260422T032125
CREATED:20260104T215252Z
LAST-MODIFIED:20260104T215252Z
UID:10033267-1775125800-1775131200@www.mouterehills.org.nz
SUMMARY:Ballroom - Homeschool class
DESCRIPTION:
URL:https://www.mouterehills.org.nz/event/ballroom-homeschool-class/2026-04-02/
LOCATION:Moutere Hills Community Centre
CATEGORIES:Community Recreation
END:VEVENT
BEGIN:VEVENT
DTSTART;TZID=Pacific/Auckland:20260402T153000
DTEND;TZID=Pacific/Auckland:20260402T180000
DTSTAMP:20260422T032125
CREATED:20240729T031539Z
LAST-MODIFIED:20240729T031539Z
UID:10017552-1775143800-1775152800@www.mouterehills.org.nz
SUMMARY:Junior Tennis Coaching
DESCRIPTION:All levels welcome 5yrs old + and upwards. \nContact Vanessa on 022 424 3564 or claybrookestate@xtra.co.nz for more info or to book.
URL:https://www.mouterehills.org.nz/event/junior-tennis-coaching-3/2026-04-02/
LOCATION:Moutere Hills Community Centre
CATEGORIES:Community Recreation
END:VEVENT
BEGIN:VEVENT
DTSTART;TZID=Pacific/Auckland:20260402T153000
DTEND;TZID=Pacific/Auckland:20260402T183000
DTSTAMP:20260422T032125
CREATED:20260104T223015Z
LAST-MODIFIED:20260406T211925Z
UID:10033768-1775143800-1775154600@www.mouterehills.org.nz
SUMMARY:Aerial Silks - Thursday
DESCRIPTION:Tasman Aerial Silks   \nIlka 022 085 5970                                    
URL:https://www.mouterehills.org.nz/event/aerial-silks-thursday/2026-04-02/
LOCATION:Sports Hall
CATEGORIES:Community Recreation
END:VEVENT
BEGIN:VEVENT
DTSTART;TZID=Pacific/Auckland:20260402T190000
DTEND;TZID=Pacific/Auckland:20260402T213000
DTSTAMP:20260422T032125
CREATED:20250129T072538Z
LAST-MODIFIED:20250129T072538Z
UID:10026258-1775156400-1775165400@www.mouterehills.org.nz
SUMMARY:Adults Volleyball
DESCRIPTION:Competitive grade \ncost $3.00 \nContact Gordon 021 246 7366
URL:https://www.mouterehills.org.nz/event/adults-volleyball/2026-04-02/
LOCATION:Moutere Hills Community Centre
CATEGORIES:Social Sport
END:VEVENT
BEGIN:VEVENT
DTSTART;TZID=Pacific/Auckland:20260403T081500
DTEND;TZID=Pacific/Auckland:20260403T090000
DTSTAMP:20260422T032125
CREATED:20260106T223323Z
LAST-MODIFIED:20260416T220611Z
UID:10035013-1775204100-1775206800@www.mouterehills.org.nz
SUMMARY:MetaFit and Core
DESCRIPTION:Join Fiona for some high intensity interval training. This short-and-sweet class will leave your metabolic rate boosted for hours afterwards. All exercises are body-weight and time-based to allow individuals to work to their own pace. Then finish the class with a core and pelvic muscle workout. \n$12 per person or free for Fitness Centre members. Concession cards available ($80 for 10 classes). \nBookings are essential. Visit the Fitness Centre calendar page to register.
URL:https://www.mouterehills.org.nz/event/metafit-and-core-with-fiona-2-2-2/2026-04-03/
LOCATION:Moutere Hills Community Centre
CATEGORIES:Exercise Class
END:VEVENT
BEGIN:VEVENT
DTSTART;TZID=Pacific/Auckland:20260403T081500
DTEND;TZID=Pacific/Auckland:20260403T090000
DTSTAMP:20260422T032125
CREATED:20260401T211013Z
LAST-MODIFIED:20260401T211013Z
UID:10012604-1775204100-1775206800@www.mouterehills.org.nz
SUMMARY:MetaFit and Core
DESCRIPTION:Join Cindus for some high intensity interval training. This short-and-sweet class will leave your metabolic rate boosted for hours afterwards. All exercises are body-weight and time-based to allow individuals to work to their own pace. Then finish the class with a core and pelvic muscle workout. \n$12 per person or free for Fitness Centre members. Concession cards available ($80 for 10 classes). \nBookings are essential. Visit the Fitness Centre calendar page to register.
URL:https://www.mouterehills.org.nz/event/metafit-and-core-with-cindus-2-2-2-2/
LOCATION:Moutere Hills Community Centre
CATEGORIES:Exercise Class
END:VEVENT
BEGIN:VEVENT
DTSTART;TZID=Pacific/Auckland:20260403T090000
DTEND;TZID=Pacific/Auckland:20260403T094500
DTSTAMP:20260422T032125
CREATED:20260401T211205Z
LAST-MODIFIED:20260401T211206Z
UID:10012865-1775206800-1775209500@www.mouterehills.org.nz
SUMMARY:Pilates with Kris
DESCRIPTION:Join Kris for this great pilates class.  $12 for casual\, $80 for 10 class concession card or free for fitness centre members.
URL:https://www.mouterehills.org.nz/event/pilates-with-kris-2/
LOCATION:Moutere Hills Community Centre
CATEGORIES:Exercise Class
END:VEVENT
BEGIN:VEVENT
DTSTART;TZID=Pacific/Auckland:20260403T100000
DTEND;TZID=Pacific/Auckland:20260403T111500
DTSTAMP:20260422T032125
CREATED:20260402T043810Z
LAST-MODIFIED:20260402T043810Z
UID:10034555-1775210400-1775214900@www.mouterehills.org.nz
SUMMARY:Yoga with Kris
DESCRIPTION:
URL:https://www.mouterehills.org.nz/event/yoga-with-kris-4-2/
LOCATION:Function room
CATEGORIES:Exercise Class
END:VEVENT
BEGIN:VEVENT
DTSTART;TZID=Pacific/Auckland:20260403T100000
DTEND;TZID=Pacific/Auckland:20260403T130000
DTSTAMP:20260422T032125
CREATED:20260318T184933Z
LAST-MODIFIED:20260406T211449Z
UID:10034994-1775210400-1775221200@www.mouterehills.org.nz
SUMMARY:Playgroup
DESCRIPTION:Join us for a friendly\, relaxed morning where tamariki can play and explore while caregivers connect over a cuppa \n\n\n Monday & Friday | 10am–1pm\n Moutere Hills Community Centre\n Ages 0–6\nFree entry\n if you’re able\, please bring something small to share for morning kai\n\n\nWe look forward to seeing you there!\n\n\nContact Kaitlin or Anna\, email moutereplaygroup@gmail.com\n\, or follow our Facebook page for updates.
URL:https://www.mouterehills.org.nz/event/playgroup-4/2026-04-03/
LOCATION:Sports Hall
CATEGORIES:Community Recreation
END:VEVENT
BEGIN:VEVENT
DTSTART;TZID=Pacific/Auckland:20260403T100000
DTEND;TZID=Pacific/Auckland:20260403T130000
DTSTAMP:20260422T032125
CREATED:20260401T211421Z
LAST-MODIFIED:20260401T211421Z
UID:10034478-1775210400-1775221200@www.mouterehills.org.nz
SUMMARY:Playgroup
DESCRIPTION:Join us for a friendly\, relaxed morning where tamariki can play and explore while caregivers connect over a cuppa \n\n\n Monday & Friday | 10am–1pm\n Moutere Hills Community Centre\n Ages 0–6\nFree entry\n if you’re able\, please bring something small to share for morning kai\n\n\nWe look forward to seeing you there!\n\n\nContact Kaitlin or Anna\, email moutereplaygroup@gmail.com\n\, or follow our Facebook page for updates.
URL:https://www.mouterehills.org.nz/event/playgroup-4-2/
LOCATION:Sports Hall
CATEGORIES:Community Recreation
END:VEVENT
BEGIN:VEVENT
DTSTART;TZID=Pacific/Auckland:20260403T150000
DTEND;TZID=Pacific/Auckland:20260406T170000
DTSTAMP:20260422T032125
CREATED:20260402T044027Z
LAST-MODIFIED:20260402T044145Z
UID:10034992-1775228400-1775494800@www.mouterehills.org.nz
SUMMARY:Private Booking of whole Centre
DESCRIPTION:Private booking running three days
URL:https://www.mouterehills.org.nz/event/private-booking-94/
LOCATION:Moutere Hills Community Centre
CATEGORIES:Event
END:VEVENT
BEGIN:VEVENT
DTSTART;TZID=Pacific/Auckland:20260403T151500
DTEND;TZID=Pacific/Auckland:20260403T171500
DTSTAMP:20260422T032125
CREATED:20260401T211328Z
LAST-MODIFIED:20260401T211328Z
UID:10034595-1775229300-1775236500@www.mouterehills.org.nz
SUMMARY:Indoor Bowls
DESCRIPTION:We welcome anyone from 8yrs old and all abilities. \nAll gear provided\, just wear soft flat soled shoes.
URL:https://www.mouterehills.org.nz/event/indoor-bowls-3-2/
LOCATION:Sports Hall
CATEGORIES:Exercise Class
END:VEVENT
BEGIN:VEVENT
DTSTART;TZID=Pacific/Auckland:20260404T080000
DTEND;TZID=Pacific/Auckland:20260404T084500
DTSTAMP:20260422T032125
CREATED:20260402T043714Z
LAST-MODIFIED:20260402T043715Z
UID:10034436-1775289600-1775292300@www.mouterehills.org.nz
SUMMARY:Strength & Fitness - Saturday
DESCRIPTION:A circuit class designed to build strength & Fitness \nAll abilities welcome
URL:https://www.mouterehills.org.nz/event/strength-fitness-saturday-2/
LOCATION:Sports Hall
CATEGORIES:Exercise Class
END:VEVENT
BEGIN:VEVENT
DTSTART;TZID=Pacific/Auckland:20260404T133000
DTEND;TZID=Pacific/Auckland:20260404T150000
DTSTAMP:20260422T032125
CREATED:20260402T043731Z
LAST-MODIFIED:20260402T043732Z
UID:10029194-1775309400-1775314800@www.mouterehills.org.nz
SUMMARY:Youth/ Adults Social Basketball
DESCRIPTION:Join in a fun session of Basketball. For all ability levels. Only $3.00/session
URL:https://www.mouterehills.org.nz/event/youth-adults-social-basketball-4-3/
LOCATION:Moutere Hills Community Centre
CATEGORIES:Community Recreation
END:VEVENT
BEGIN:VEVENT
DTSTART;TZID=Pacific/Auckland:20260405T093000
DTEND;TZID=Pacific/Auckland:20260405T110000
DTSTAMP:20260422T032125
CREATED:20240729T034031Z
LAST-MODIFIED:20240729T034237Z
UID:10019153-1775381400-1775386800@www.mouterehills.org.nz
SUMMARY:Club Tennis Session
DESCRIPTION:Run by Upper Moutere Tennis Club. \nAll welcome.
URL:https://www.mouterehills.org.nz/event/club-tennis-session-2/2026-04-05/
CATEGORIES:Community Recreation
END:VEVENT
BEGIN:VEVENT
DTSTART;TZID=Pacific/Auckland:20260405T160000
DTEND;TZID=Pacific/Auckland:20260405T180000
DTSTAMP:20260422T032125
CREATED:20250731T020646Z
LAST-MODIFIED:20250731T020646Z
UID:10032590-1775404800-1775412000@www.mouterehills.org.nz
SUMMARY:Private Ballroom Lessons
DESCRIPTION:
URL:https://www.mouterehills.org.nz/event/private-ballroom-lessons/2026-04-05/
LOCATION:Sports Hall
CATEGORIES:Event
END:VEVENT
BEGIN:VEVENT
DTSTART;TZID=Pacific/Auckland:20260406T060000
DTEND;TZID=Pacific/Auckland:20260406T184500
DTSTAMP:20260422T032125
CREATED:20260401T211841Z
LAST-MODIFIED:20260401T211842Z
UID:10033366-1775455200-1775501100@www.mouterehills.org.nz
SUMMARY:Strength & Fitness Circuit - Mondays
DESCRIPTION:
URL:https://www.mouterehills.org.nz/event/strength-fitness-circuit-mondays-2/
LOCATION:Sports Hall
CATEGORIES:Exercise Class
END:VEVENT
END:VCALENDAR