BEGIN:VCALENDAR
VERSION:2.0
PRODID:-//Moutere Hills Community Centre - ECPv6.15.19//NONSGML v1.0//EN
CALSCALE:GREGORIAN
METHOD:PUBLISH
X-WR-CALNAME:Moutere Hills Community Centre
X-ORIGINAL-URL:https://www.mouterehills.org.nz
X-WR-CALDESC:Events for Moutere Hills Community Centre
REFRESH-INTERVAL;VALUE=DURATION:PT1H
X-Robots-Tag:noindex
X-PUBLISHED-TTL:PT1H
BEGIN:VTIMEZONE
TZID:Pacific/Auckland
BEGIN:STANDARD
TZOFFSETFROM:+1300
TZOFFSETTO:+1200
TZNAME:NZST
DTSTART:20230401T140000
END:STANDARD
BEGIN:DAYLIGHT
TZOFFSETFROM:+1200
TZOFFSETTO:+1300
TZNAME:NZDT
DTSTART:20230923T140000
END:DAYLIGHT
BEGIN:STANDARD
TZOFFSETFROM:+1300
TZOFFSETTO:+1200
TZNAME:NZST
DTSTART:20240406T140000
END:STANDARD
BEGIN:DAYLIGHT
TZOFFSETFROM:+1200
TZOFFSETTO:+1300
TZNAME:NZDT
DTSTART:20240928T140000
END:DAYLIGHT
BEGIN:STANDARD
TZOFFSETFROM:+1300
TZOFFSETTO:+1200
TZNAME:NZST
DTSTART:20250405T140000
END:STANDARD
BEGIN:DAYLIGHT
TZOFFSETFROM:+1200
TZOFFSETTO:+1300
TZNAME:NZDT
DTSTART:20250927T140000
END:DAYLIGHT
END:VTIMEZONE
BEGIN:VEVENT
DTSTART;TZID=Pacific/Auckland:20240101T161500
DTEND;TZID=Pacific/Auckland:20240101T170000
DTSTAMP:20260420T192357
CREATED:20231011T020559Z
LAST-MODIFIED:20231011T020559Z
UID:10008534-1704125700-1704128400@www.mouterehills.org.nz
SUMMARY:Teen Bootcamp
DESCRIPTION:Join Josh for this fun class incorporating resistance training and cardio.  Suitable for teenagers of all abilities. \n$6 per class or free for Fitness Centre members.
URL:https://www.mouterehills.org.nz/event/teen-bootcamp/2024-01-01/
LOCATION:Moutere Hills Community Centre
CATEGORIES:Exercise Class
END:VEVENT
BEGIN:VEVENT
DTSTART;TZID=Pacific/Auckland:20240101T170000
DTEND;TZID=Pacific/Auckland:20240101T174500
DTSTAMP:20260420T192357
CREATED:20231011T015041Z
LAST-MODIFIED:20231011T015041Z
UID:10008272-1704128400-1704131100@www.mouterehills.org.nz
SUMMARY:Pilates
DESCRIPTION:Join Kris in our new Pilates class.  Pilates is a low-impact workout which is great for strenthening your muscles though controlled\, repetitive movements\, building muscular endurance and stability. \n$10 casual\, $60 for a 10 class concession card or free for fitness centre members.
URL:https://www.mouterehills.org.nz/event/pilates-3/2024-01-01/
LOCATION:Moutere Hills Community Centre
CATEGORIES:Exercise Class
END:VEVENT
BEGIN:VEVENT
DTSTART;TZID=Pacific/Auckland:20240101T173000
DTEND;TZID=Pacific/Auckland:20240101T190000
DTSTAMP:20260420T192357
CREATED:20230427T235950Z
LAST-MODIFIED:20230427T235950Z
UID:10007106-1704130200-1704135600@www.mouterehills.org.nz
SUMMARY:Adult / Youth Social Basketball
DESCRIPTION:Join in a fun session of Basketball.  For all ability levels.  Only $3 per session.
URL:https://www.mouterehills.org.nz/event/adult-youth-social-basketball/2024-01-01/
LOCATION:Moutere Hills Community Centre
CATEGORIES:Social Sport
ORGANIZER;CN="Moutere Hills Community Centre":MAILTO:enquiries@mouterehills.org.nz
END:VEVENT
BEGIN:VEVENT
DTSTART;TZID=Pacific/Auckland:20240101T180000
DTEND;TZID=Pacific/Auckland:20240101T191500
DTSTAMP:20260420T192357
CREATED:20230117T015503Z
LAST-MODIFIED:20230428T003629Z
UID:10007296-1704132000-1704136500@www.mouterehills.org.nz
SUMMARY:Yoga with Kris
DESCRIPTION:Contact Kris on 0275252814 for more information or to book your spot.
URL:https://www.mouterehills.org.nz/event/dru-yoga-with-kris-2/2024-01-01/
LOCATION:Moutere Hills Community Centre
CATEGORIES:Community Recreation
END:VEVENT
BEGIN:VEVENT
DTSTART;TZID=Pacific/Auckland:20240101T190000
DTEND;TZID=Pacific/Auckland:20240101T194500
DTSTAMP:20260420T192357
CREATED:20221223T113716Z
LAST-MODIFIED:20221223T113718Z
UID:10004194-1704135600-1704138300@www.mouterehills.org.nz
SUMMARY:Box' n Burn
DESCRIPTION:Join Adele for a strength and cardio workout. Includes skipping\, partner glove and pad work (non-contact)\, bag work and core/ cardio training. \n$7 casual or free for Fitness Centre members. Concession cards are also available ($50 for 10 classes). \nBookings essential. Visit the Fitness Centre calendar page to register.
URL:https://www.mouterehills.org.nz/event/box-n-burn-2/2024-01-01/
CATEGORIES:Exercise Class
END:VEVENT
BEGIN:VEVENT
DTSTART;TZID=Pacific/Auckland:20240102T053000
DTEND;TZID=Pacific/Auckland:20240102T063000
DTSTAMP:20260420T192357
CREATED:20230105T225941Z
LAST-MODIFIED:20230105T230703Z
UID:10005189-1704173400-1704177000@www.mouterehills.org.nz
SUMMARY:Energise Group Fitness
DESCRIPTION:Start the day by working out with a fun bunch of motivated people who like to work out for better health and wellbeing. \nBookings essential. Contact Cindus on 0273587233.
URL:https://www.mouterehills.org.nz/event/energise-group-fitness/2024-01-02/
LOCATION:Moutere Hills Community Centre
CATEGORIES:Community Recreation
END:VEVENT
BEGIN:VEVENT
DTSTART;TZID=Pacific/Auckland:20240102T093000
DTEND;TZID=Pacific/Auckland:20240102T101500
DTSTAMP:20260420T192357
CREATED:20221223T123041Z
LAST-MODIFIED:20221223T124025Z
UID:10004611-1704187800-1704190500@www.mouterehills.org.nz
SUMMARY:Stretch & Flex with Vicki
DESCRIPTION:Increase flexibility and mobility with slow moving range of motion stretching. Suitable for all ages and abilities. $10 per class or free for Fitness Centre members. Concession cards are also available ($60 for 10 classes). \nBookings essential. Visit the Fitness Centre calendar page to book.
URL:https://www.mouterehills.org.nz/event/stretch-flex-with-vicki-2-2/2024-01-02/
LOCATION:Moutere Hills Community Centre
CATEGORIES:Exercise Class
END:VEVENT
BEGIN:VEVENT
DTSTART;TZID=Pacific/Auckland:20240102T100000
DTEND;TZID=Pacific/Auckland:20240102T140000
DTSTAMP:20260420T192357
CREATED:20221223T115510Z
LAST-MODIFIED:20230105T225403Z
UID:10004250-1704189600-1704204000@www.mouterehills.org.nz
SUMMARY:Quirky Quilters
DESCRIPTION:Thursdays 10:00am-2:00pm. \nPlease contact the office on 03 5432516 for more details.
URL:https://www.mouterehills.org.nz/event/quirky-quilters-2-2/2024-01-02/
CATEGORIES:Community Recreation
END:VEVENT
BEGIN:VEVENT
DTSTART;TZID=Pacific/Auckland:20240102T130000
DTEND;TZID=Pacific/Auckland:20240102T143000
DTSTAMP:20260420T192357
CREATED:20230428T001117Z
LAST-MODIFIED:20230428T001117Z
UID:10007232-1704200400-1704205800@www.mouterehills.org.nz
SUMMARY:Private Booking
DESCRIPTION:Sports hall booked for a fencing class.
URL:https://www.mouterehills.org.nz/event/private-booking-27/2024-01-02/
LOCATION:Moutere Hills Community Centre
CATEGORIES:Community Recreation
ORGANIZER;CN="Moutere Hills Community Centre":MAILTO:enquiries@mouterehills.org.nz
END:VEVENT
BEGIN:VEVENT
DTSTART;TZID=Pacific/Auckland:20240102T180000
DTEND;TZID=Pacific/Auckland:20240102T184500
DTSTAMP:20260420T192357
CREATED:20230227T234836Z
LAST-MODIFIED:20230227T234836Z
UID:10006675-1704218400-1704221100@www.mouterehills.org.nz
SUMMARY:Pilates
DESCRIPTION:Join Kris in our new Pilates class.  Pilates is a low-impact workout which is great for strenthening your muscles though controlled\, repetitive movements\, building muscular endurance and stability. \n$10 casual\, $60 for a 10 class concession card or free for fitness centre members.
URL:https://www.mouterehills.org.nz/event/pilates/2024-01-02/
CATEGORIES:Exercise Class
END:VEVENT
BEGIN:VEVENT
DTSTART;TZID=Pacific/Auckland:20240102T180000
DTEND;TZID=Pacific/Auckland:20240102T193000
DTSTAMP:20260420T192357
CREATED:20230105T231008Z
LAST-MODIFIED:20230105T231008Z
UID:10005345-1704218400-1704223800@www.mouterehills.org.nz
SUMMARY:Rangers Rugby Club Social Touch
DESCRIPTION:A fun social game of touch for all skill and fitness levels. All ages welcome! \nGold coin donation.
URL:https://www.mouterehills.org.nz/event/rangers-rugby-club-social-touch/2024-01-02/
LOCATION:Moutere Hills Community Centre
CATEGORIES:Social Sport
END:VEVENT
BEGIN:VEVENT
DTSTART;TZID=Pacific/Auckland:20240102T190000
DTEND;TZID=Pacific/Auckland:20240102T200000
DTSTAMP:20260420T192357
CREATED:20230427T022602Z
LAST-MODIFIED:20230427T022602Z
UID:10007002-1704222000-1704225600@www.mouterehills.org.nz
SUMMARY:Ballroom Dancing with Becks
DESCRIPTION:Come along to a fun adult beginners Ballroom dance class.  Cha cha\, samba\, foxtrot\, jive\, waltz\, rumba and more.  No partners necessary. \n$10 per class. \nContact Becks on dancingbecks@hotmail.com or cell 021482263
URL:https://www.mouterehills.org.nz/event/ballroom-dancing-with-becks/2024-01-02/
LOCATION:Moutere Hills Community Centre
CATEGORIES:Community Recreation,Social Sport
ORGANIZER;CN="Moutere Hills Community Centre":MAILTO:enquiries@mouterehills.org.nz
END:VEVENT
BEGIN:VEVENT
DTSTART;TZID=Pacific/Auckland:20240103T080000
DTEND;TZID=Pacific/Auckland:20240103T084500
DTSTAMP:20260420T192357
CREATED:20240419T010735Z
LAST-MODIFIED:20260106T214122Z
UID:10011960-1704268800-1704271500@www.mouterehills.org.nz
SUMMARY:Pilates
DESCRIPTION:Join Kris in our Pilates class.  Pilates is a low-impact workout which is great for strengthening your muscles though controlled\, repetitive movements\, building muscular endurance and stability. Suitable for Beginners.  $12 casual\, $80 for a 10 class concession card or free for fitness centre members.
URL:https://www.mouterehills.org.nz/event/pilates-4/2024-01-03/
LOCATION:Moutere Hills Community Centre
CATEGORIES:Exercise Class
END:VEVENT
BEGIN:VEVENT
DTSTART;TZID=Pacific/Auckland:20240103T084500
DTEND;TZID=Pacific/Auckland:20240103T094500
DTSTAMP:20260420T192357
CREATED:20230117T021445Z
LAST-MODIFIED:20230428T003937Z
UID:10007406-1704271500-1704275100@www.mouterehills.org.nz
SUMMARY:Powerhooping
DESCRIPTION:A fun exercise class using specialised hoops to get you moving and stretching. Casual $12 (includes powerhoop). Concessions available. Powerhoops also available for purchase. \nContact Sara on 021 069 7522 or powerhoopnelson@gmail.com for more information or to book.
URL:https://www.mouterehills.org.nz/event/powerhooping-2/2024-01-03/
LOCATION:Moutere Hills Community Centre
CATEGORIES:Community Recreation
ORGANIZER;CN="Sara":MAILTO:powerhoopingnelson@gmail.com
END:VEVENT
BEGIN:VEVENT
DTSTART;TZID=Pacific/Auckland:20240103T110000
DTEND;TZID=Pacific/Auckland:20240103T130000
DTSTAMP:20260420T192357
CREATED:20240729T032041Z
LAST-MODIFIED:20240729T032119Z
UID:10018171-1704279600-1704286800@www.mouterehills.org.nz
SUMMARY:Home Ed D&D
DESCRIPTION:In the Community Room.  Contact Bron on 027 5729781
URL:https://www.mouterehills.org.nz/event/home-ed-dd/2024-01-03/
LOCATION:Moutere Hills Community Centre
CATEGORIES:Community Recreation
ORGANIZER;CN="Moutere Hills Community Centre":MAILTO:enquiries@mouterehills.org.nz
END:VEVENT
BEGIN:VEVENT
DTSTART;TZID=Pacific/Auckland:20240103T183000
DTEND;TZID=Pacific/Auckland:20240103T191500
DTSTAMP:20260420T192357
CREATED:20231109T213732Z
LAST-MODIFIED:20231109T213846Z
UID:10008801-1704306600-1704309300@www.mouterehills.org.nz
SUMMARY:MetaPro Hybrid with Cindus
DESCRIPTION:Take your High Intensity Interval Training to the next level with new Speed\, Agility and Quickness drills and training movements in a small group! Round out the session with some core and pelvic strengthening to ensure you leave having worked your full body! \n$10 casual\, free for Fitness Centre members or concession cards available ($60 for 10 classes). \nRegistrations essential. Visit the Fitness Centre calendar page to book
URL:https://www.mouterehills.org.nz/event/metapro-hybrid-with-cindus-3-2/2024-01-03/
LOCATION:Moutere Hills Community Centre
CATEGORIES:Exercise Class
END:VEVENT
BEGIN:VEVENT
DTSTART;TZID=Pacific/Auckland:20240103T183000
DTEND;TZID=Pacific/Auckland:20240103T200000
DTSTAMP:20260420T192357
CREATED:20230207T000925Z
LAST-MODIFIED:20230207T000925Z
UID:10006254-1704306600-1704312000@www.mouterehills.org.nz
SUMMARY:Youth Coding Club
DESCRIPTION:In the Community Room.  Contact Bron on 027 5729781
URL:https://www.mouterehills.org.nz/event/youth-coding-club/2024-01-03/
LOCATION:Moutere Hills Community Centre
CATEGORIES:Community Recreation
ORGANIZER;CN="Moutere Hills Community Centre":MAILTO:enquiries@mouterehills.org.nz
END:VEVENT
BEGIN:VEVENT
DTSTART;TZID=Pacific/Auckland:20240104T190000
DTEND;TZID=Pacific/Auckland:20240104T213000
DTSTAMP:20260420T192357
CREATED:20230106T023813Z
LAST-MODIFIED:20230106T023813Z
UID:10005575-1704394800-1704403800@www.mouterehills.org.nz
SUMMARY:Adults Competitive Grade Volleyball
DESCRIPTION:This high energy session is a great workout for men and women. Do you have previous Volleyball experience and know the rules? Then come along and join in for a competitive game. Cost is just $3.
URL:https://www.mouterehills.org.nz/event/adults-competitive-grade-volleyball/2024-01-04/
LOCATION:Moutere Hills Community Centre
CATEGORIES:Social Sport
END:VEVENT
BEGIN:VEVENT
DTSTART;TZID=Pacific/Auckland:20240105T090000
DTEND;TZID=Pacific/Auckland:20240105T094500
DTSTAMP:20260420T192357
CREATED:20230106T024042Z
LAST-MODIFIED:20230106T024042Z
UID:10005678-1704445200-1704447900@www.mouterehills.org.nz
SUMMARY:MetaFit and Core with Cindus
DESCRIPTION:Join Cindus for some high intensity interval training. This short-and-sweet class will leave your metabolic rate boosted for hours afterwards. All exercises are body-weight and time-based to allow individuals to work to their own pace. Then finish the class with a core and pelvic muscle workout. \n$10 per person or free for Fitness Centre members. Concession cards available ($60 for 10 classes). \nBookings are essential. Visit the Fitness Centre calendar page to register.
URL:https://www.mouterehills.org.nz/event/metafit-and-core-with-cindus-2/2024-01-05/
LOCATION:Moutere Hills Community Centre
CATEGORIES:Exercise Class
END:VEVENT
BEGIN:VEVENT
DTSTART;TZID=Pacific/Auckland:20240105T093000
DTEND;TZID=Pacific/Auckland:20240105T120000
DTSTAMP:20260420T192357
CREATED:20230428T020518Z
LAST-MODIFIED:20230428T020557Z
UID:10007981-1704447000-1704456000@www.mouterehills.org.nz
SUMMARY:Playgroup
DESCRIPTION:A time for parents of preschoolers and their children to get together to share ideas or concerns and make new friends over a cuppa and some yummy baking. Preschoolers can play with the large variety of toys in a safe\, secure and child-centered environment. Just turn up and bring along your children! \nContact Karen on 021 252 2657 or uppermouterepg@gmail.com for more info.
URL:https://www.mouterehills.org.nz/event/playgroup-2-2/2024-01-05/
LOCATION:Moutere Hills Community Centre
CATEGORIES:Community Recreation
END:VEVENT
BEGIN:VEVENT
DTSTART;TZID=Pacific/Auckland:20240105T100000
DTEND;TZID=Pacific/Auckland:20240105T113000
DTSTAMP:20260420T192357
CREATED:20230428T021040Z
LAST-MODIFIED:20250410T010125Z
UID:10008085-1704448800-1704454200@www.mouterehills.org.nz
SUMMARY:Yoga with Kris
DESCRIPTION:Contact Kris on 0275252814 for more information or to book your spot.
URL:https://www.mouterehills.org.nz/event/yoga-with-kris-2/2024-01-05/
LOCATION:Moutere Hills Community Centre
CATEGORIES:Community Recreation
ORGANIZER;CN="Moutere Hills Community Centre":MAILTO:enquiries@mouterehills.org.nz
END:VEVENT
BEGIN:VEVENT
DTSTART;TZID=Pacific/Auckland:20240106T133000
DTEND;TZID=Pacific/Auckland:20240106T150000
DTSTAMP:20260420T192357
CREATED:20230106T024424Z
LAST-MODIFIED:20230117T025605Z
UID:10006036-1704547800-1704553200@www.mouterehills.org.nz
SUMMARY:Youth / Adults Social Basketball
DESCRIPTION:All abilities welcome. No need to book\, just turn up. \n$3 per person. \nContact Jayden on 027 5179488 for more info.
URL:https://www.mouterehills.org.nz/event/youth-adults-social-basketball-3/2024-01-06/
LOCATION:Moutere Hills Community Centre
CATEGORIES:Social Sport
END:VEVENT
BEGIN:VEVENT
DTSTART;TZID=Pacific/Auckland:20240116T070000
DTEND;TZID=Pacific/Auckland:20240116T153000
DTSTAMP:20260420T192357
CREATED:20240117T003859Z
LAST-MODIFIED:20240117T003859Z
UID:10009066-1705388400-1705419000@www.mouterehills.org.nz
SUMMARY:Private Booking
DESCRIPTION:Function Room booked for Business Meeting
URL:https://www.mouterehills.org.nz/event/private-booking-51/
LOCATION:Moutere Hills Community Centre
CATEGORIES:Meeting
END:VEVENT
BEGIN:VEVENT
DTSTART;TZID=Pacific/Auckland:20240117T073000
DTEND;TZID=Pacific/Auckland:20240117T170000
DTSTAMP:20260420T192357
CREATED:20240117T004013Z
LAST-MODIFIED:20240117T004013Z
UID:10009067-1705476600-1705510800@www.mouterehills.org.nz
SUMMARY:Private Booking
DESCRIPTION:Function Room booked for business meeting.
URL:https://www.mouterehills.org.nz/event/private-booking-52/
LOCATION:Moutere Hills Community Centre
CATEGORIES:Meeting
END:VEVENT
BEGIN:VEVENT
DTSTART;TZID=Pacific/Auckland:20240118T063000
DTEND;TZID=Pacific/Auckland:20240118T213000
DTSTAMP:20260420T192357
CREATED:20240117T004128Z
LAST-MODIFIED:20240117T004128Z
UID:10009068-1705559400-1705613400@www.mouterehills.org.nz
SUMMARY:Private Booking
DESCRIPTION:Function Room booked for business breakfast meeting.
URL:https://www.mouterehills.org.nz/event/private-booking-53/
LOCATION:Moutere Hills Community Centre
CATEGORIES:Meeting
END:VEVENT
BEGIN:VEVENT
DTSTART;TZID=Pacific/Auckland:20240120T130000
DTEND;TZID=Pacific/Auckland:20240120T233000
DTSTAMP:20260420T192357
CREATED:20240117T004306Z
LAST-MODIFIED:20240117T004306Z
UID:10009069-1705755600-1705793400@www.mouterehills.org.nz
SUMMARY:Private Booking
DESCRIPTION:Function Room\, kitchen and bar booked for private social occasion.
URL:https://www.mouterehills.org.nz/event/private-booking-54/
LOCATION:Moutere Hills Community Centre
CATEGORIES:Meeting
END:VEVENT
BEGIN:VEVENT
DTSTART;TZID=Pacific/Auckland:20240123T150000
DTEND;TZID=Pacific/Auckland:20240123T190000
DTSTAMP:20260420T192357
CREATED:20240117T004413Z
LAST-MODIFIED:20240117T004413Z
UID:10009070-1706022000-1706036400@www.mouterehills.org.nz
SUMMARY:Private Booking
DESCRIPTION:Function Room booked for Business meeting.
URL:https://www.mouterehills.org.nz/event/private-booking-55/
LOCATION:Moutere Hills Community Centre
CATEGORIES:Meeting
END:VEVENT
BEGIN:VEVENT
DTSTART;TZID=Pacific/Auckland:20240130T183000
DTEND;TZID=Pacific/Auckland:20240130T203000
DTSTAMP:20260420T192357
CREATED:20240117T004527Z
LAST-MODIFIED:20240117T004527Z
UID:10009071-1706639400-1706646600@www.mouterehills.org.nz
SUMMARY:Rangers Rugby Meeting
DESCRIPTION:Community Room booked for meeting.
URL:https://www.mouterehills.org.nz/event/rangers-rugby-meeting/
LOCATION:Moutere Hills Community Centre
CATEGORIES:Meeting
END:VEVENT
BEGIN:VEVENT
DTSTART;TZID=Pacific/Auckland:20240210T100000
DTEND;TZID=Pacific/Auckland:20240210T120000
DTSTAMP:20260420T192357
CREATED:20240117T005759Z
LAST-MODIFIED:20240117T005759Z
UID:10009072-1707559200-1707566400@www.mouterehills.org.nz
SUMMARY:Private Booking
DESCRIPTION:Booked for birthday party in Community Room plus bouncy castle
URL:https://www.mouterehills.org.nz/event/private-booking-56/
LOCATION:Moutere Hills Community Centre
CATEGORIES:Meeting
END:VEVENT
BEGIN:VEVENT
DTSTART;TZID=Pacific/Auckland:20240216T080000
DTEND;TZID=Pacific/Auckland:20240218T160000
DTSTAMP:20260420T192357
CREATED:20240117T011653Z
LAST-MODIFIED:20240117T011653Z
UID:10009073-1708070400-1708272000@www.mouterehills.org.nz
SUMMARY:Moutere Hop
DESCRIPTION:Full facility booked for this fantastic community event.  For more details visit there website \nHOME | Moutere Hop 2024 \n 
URL:https://www.mouterehills.org.nz/event/moutere-hop-9/
LOCATION:Moutere Hills Community Centre
CATEGORIES:Event
END:VEVENT
END:VCALENDAR