BEGIN:VCALENDAR
VERSION:2.0
PRODID:-//Moutere Hills Community Centre - ECPv6.15.19//NONSGML v1.0//EN
CALSCALE:GREGORIAN
METHOD:PUBLISH
X-WR-CALNAME:Moutere Hills Community Centre
X-ORIGINAL-URL:https://www.mouterehills.org.nz
X-WR-CALDESC:Events for Moutere Hills Community Centre
REFRESH-INTERVAL;VALUE=DURATION:PT1H
X-Robots-Tag:noindex
X-PUBLISHED-TTL:PT1H
BEGIN:VTIMEZONE
TZID:Pacific/Auckland
BEGIN:STANDARD
TZOFFSETFROM:+1300
TZOFFSETTO:+1200
TZNAME:NZST
DTSTART:20230401T140000
END:STANDARD
BEGIN:DAYLIGHT
TZOFFSETFROM:+1200
TZOFFSETTO:+1300
TZNAME:NZDT
DTSTART:20230923T140000
END:DAYLIGHT
BEGIN:STANDARD
TZOFFSETFROM:+1300
TZOFFSETTO:+1200
TZNAME:NZST
DTSTART:20240406T140000
END:STANDARD
BEGIN:DAYLIGHT
TZOFFSETFROM:+1200
TZOFFSETTO:+1300
TZNAME:NZDT
DTSTART:20240928T140000
END:DAYLIGHT
BEGIN:STANDARD
TZOFFSETFROM:+1300
TZOFFSETTO:+1200
TZNAME:NZST
DTSTART:20250405T140000
END:STANDARD
BEGIN:DAYLIGHT
TZOFFSETFROM:+1200
TZOFFSETTO:+1300
TZNAME:NZDT
DTSTART:20250927T140000
END:DAYLIGHT
BEGIN:STANDARD
TZOFFSETFROM:+1300
TZOFFSETTO:+1200
TZNAME:NZST
DTSTART:20260404T140000
END:STANDARD
BEGIN:DAYLIGHT
TZOFFSETFROM:+1200
TZOFFSETTO:+1300
TZNAME:NZDT
DTSTART:20260926T140000
END:DAYLIGHT
END:VTIMEZONE
BEGIN:VEVENT
DTSTART;TZID=Pacific/Auckland:20240615T170000
DTEND;TZID=Pacific/Auckland:20240615T190000
DTSTAMP:20260420T164231
CREATED:20240415T022133Z
LAST-MODIFIED:20240415T022133Z
UID:10009106-1718470800-1718478000@www.mouterehills.org.nz
SUMMARY:Fire Brigade Function
DESCRIPTION:
URL:https://www.mouterehills.org.nz/event/fire-brigade-function/
LOCATION:Moutere Hills Community Centre
CATEGORIES:Meeting
END:VEVENT
BEGIN:VEVENT
DTSTART;TZID=Pacific/Auckland:20240616T130000
DTEND;TZID=Pacific/Auckland:20240616T160000
DTSTAMP:20260420T164231
CREATED:20240415T022349Z
LAST-MODIFIED:20240415T022349Z
UID:10009107-1718542800-1718553600@www.mouterehills.org.nz
SUMMARY:Private Booking
DESCRIPTION:Community room + bouncy castle booking
URL:https://www.mouterehills.org.nz/event/private-booking-74/
LOCATION:Moutere Hills Community Centre
CATEGORIES:Meeting
END:VEVENT
BEGIN:VEVENT
DTSTART;TZID=Pacific/Auckland:20240621T100000
DTEND;TZID=Pacific/Auckland:20240630T100000
DTSTAMP:20260420T164231
CREATED:20240415T022636Z
LAST-MODIFIED:20240415T022636Z
UID:10009108-1718964000-1719741600@www.mouterehills.org.nz
SUMMARY:Alfreston College
DESCRIPTION:Staying for Kapa Haka
URL:https://www.mouterehills.org.nz/event/alfreston-college/
LOCATION:Moutere Hills Community Centre
CATEGORIES:Community Recreation
END:VEVENT
BEGIN:VEVENT
DTSTART;TZID=Pacific/Auckland:20240727T080000
DTEND;TZID=Pacific/Auckland:20240728T170000
DTSTAMP:20260420T164231
CREATED:20240415T023158Z
LAST-MODIFIED:20240729T025659Z
UID:10009110-1722067200-1722186000@www.mouterehills.org.nz
SUMMARY:Sarau Winter Sale
DESCRIPTION:
URL:https://www.mouterehills.org.nz/event/sarau-festival/
LOCATION:Moutere Hills Community Centre
CATEGORIES:Event
END:VEVENT
BEGIN:VEVENT
DTSTART;TZID=Pacific/Auckland:20240729T184500
DTEND;TZID=Pacific/Auckland:20240729T193000
DTSTAMP:20260420T164231
CREATED:20240728T234124Z
LAST-MODIFIED:20240729T034544Z
UID:10009665-1722278700-1722281400@www.mouterehills.org.nz
SUMMARY:Social Netball
DESCRIPTION:Join in a fun session of Netball.  For all ability levels.  Only $3 per session.
URL:https://www.mouterehills.org.nz/event/social_netball/2024-07-29/
LOCATION:Moutere Hills Community Centre
CATEGORIES:Social Sport
ORGANIZER;CN="Moutere Hills Community Centre":MAILTO:enquiries@mouterehills.org.nz
END:VEVENT
BEGIN:VEVENT
DTSTART;TZID=Pacific/Auckland:20240730T090000
DTEND;TZID=Pacific/Auckland:20240730T103000
DTSTAMP:20260420T164231
CREATED:20240728T235311Z
LAST-MODIFIED:20240729T003110Z
UID:10014195-1722330000-1722335400@www.mouterehills.org.nz
SUMMARY:Tennis Coaching
DESCRIPTION:Group and individual lessons.  Contact Vanessa on 022 460 0320 for info.
URL:https://www.mouterehills.org.nz/event/tennis-coaching/2024-07-30/
LOCATION:Moutere Hills Community Centre
CATEGORIES:Social Sport
END:VEVENT
BEGIN:VEVENT
DTSTART;TZID=Pacific/Auckland:20240730T160000
DTEND;TZID=Pacific/Auckland:20240730T170000
DTSTAMP:20260420T164231
CREATED:20240728T234822Z
LAST-MODIFIED:20240729T003556Z
UID:10013673-1722355200-1722358800@www.mouterehills.org.nz
SUMMARY:Sports Focus
DESCRIPTION:This session is aimed at engaging primary school-aged children in fun sport activities. The focus is on playing\, socialising and having fun in a wide variety of different sports.  Only $2 per child per session.  Please contact the office on 03 5432516 for more details. \n 
URL:https://www.mouterehills.org.nz/event/sports-focus/2024-07-30/
LOCATION:Moutere Hills Community Centre
CATEGORIES:Social Sport
ORGANIZER;CN="Moutere Hills Community Centre":MAILTO:enquiries@mouterehills.org.nz
END:VEVENT
BEGIN:VEVENT
DTSTART;TZID=Pacific/Auckland:20240730T171500
DTEND;TZID=Pacific/Auckland:20240730T180000
DTSTAMP:20260420T164231
CREATED:20240728T235055Z
LAST-MODIFIED:20240729T004011Z
UID:10013934-1722359700-1722362400@www.mouterehills.org.nz
SUMMARY:Optimise Youth
DESCRIPTION:This is a 45-minute slot to help young adults with their own training goals.  Specific technique tutorials\, training advice and small group training will help young people meet their personal exercise goals. Daniel will also be available afterwards to give some one-on-one support. \n$10 per class or free for Fitness Centre members.  Bookings recommended. Visit the Fitness Centre calendar page to book.
URL:https://www.mouterehills.org.nz/event/optimise-youth/2024-07-30/
LOCATION:Moutere Hills Community Centre
CATEGORIES:Exercise Class
ORGANIZER;CN="Moutere Hills Community Centre":MAILTO:enquiries@mouterehills.org.nz
END:VEVENT
BEGIN:VEVENT
DTSTART;TZID=Pacific/Auckland:20240730T173000
DTEND;TZID=Pacific/Auckland:20240730T183000
DTSTAMP:20260420T164231
CREATED:20240729T004339Z
LAST-MODIFIED:20240729T004342Z
UID:10001633-1722360600-1722364200@www.mouterehills.org.nz
SUMMARY:Junior Tennis Coaching
DESCRIPTION:All levels welcome 5yrs old + and upwards. \nContact Vanessa on 022 424 3564 or claybrookestate@xtra.co.nz for more info or to book.
URL:https://www.mouterehills.org.nz/event/junior-tennis-coaching-2/
LOCATION:Moutere Hills Community Centre
CATEGORIES:Community Recreation
END:VEVENT
BEGIN:VEVENT
DTSTART;TZID=Pacific/Auckland:20240731T100000
DTEND;TZID=Pacific/Auckland:20240731T110000
DTSTAMP:20260420T164231
CREATED:20240729T025048Z
LAST-MODIFIED:20240729T025825Z
UID:10016097-1722420000-1722423600@www.mouterehills.org.nz
SUMMARY:MELT Method
DESCRIPTION:Say goodbye to pain and stiffness – a holistic solution to reclaiming vitality and strength.  Call Sara on 021 069 7522 for further details.
URL:https://www.mouterehills.org.nz/event/melt-method/2024-07-31/
LOCATION:Moutere Hills Community Centre
CATEGORIES:Community Recreation
ORGANIZER;CN="Sara":MAILTO:powerhoopingnelson@gmail.com
END:VEVENT
BEGIN:VEVENT
DTSTART;TZID=Pacific/Auckland:20240731T180000
DTEND;TZID=Pacific/Auckland:20240731T183000
DTSTAMP:20260420T164231
CREATED:20240729T030046Z
LAST-MODIFIED:20240729T030046Z
UID:10016151-1722448800-1722450600@www.mouterehills.org.nz
SUMMARY:Core Focus
DESCRIPTION:incorporates core stabilisation\, muscular endurance\, strength\, balance and coordination. \nBookings are essential. Visit the Fitness Centre calendar page to register.
URL:https://www.mouterehills.org.nz/event/core-focus/2024-07-31/
CATEGORIES:Exercise Class
END:VEVENT
BEGIN:VEVENT
DTSTART;TZID=Pacific/Auckland:20240801T083000
DTEND;TZID=Pacific/Auckland:20240801T091500
DTSTAMP:20260420T164231
CREATED:20240729T030707Z
LAST-MODIFIED:20240729T030707Z
UID:10016680-1722501000-1722503700@www.mouterehills.org.nz
SUMMARY:Re-Activate
DESCRIPTION:A social workout\, designed to improve overall mobility and fitness through a functional fitness approach. This class is suitable for those just getting back into exercise\, those with a lower level of fitness or those who simply want to enjoy social interaction. All exercises can be tailored to suit individual needs and will be set to a level in which individuals determine their own exercise intensity. $10 per person or free for Fitness Centre members. Concession cards also available\, $60 for 10 classes. \nBookings are essential. Visit the Fitness Centre calendar page to register.
URL:https://www.mouterehills.org.nz/event/re-activate/2024-08-01/
CATEGORIES:Exercise Class
END:VEVENT
BEGIN:VEVENT
DTSTART;TZID=Pacific/Auckland:20240803T080000
DTEND;TZID=Pacific/Auckland:20240803T090000
DTSTAMP:20260420T164231
CREATED:20240729T033322Z
LAST-MODIFIED:20250410T024449Z
UID:10018791-1722672000-1722675600@www.mouterehills.org.nz
SUMMARY:Strength & Fitness Circuit
DESCRIPTION:a circuit class designed to build both strength and Fitness. In this class\, you will rotate between clusters of stations designed to develop specific components of fitness. Be prepared to work hard\, this is not a one-dimensional circuit class. \n$10 casual\, $60 for a 10 class concession card or free for fitness centre members. \nBookings are essential. Visit the Fitness Centre calendar page to register.
URL:https://www.mouterehills.org.nz/event/strength-fitness-circuit/2024-08-03/
LOCATION:Moutere Hills Community Centre
CATEGORIES:Exercise Class
ORGANIZER;CN="Moutere Hills Community Centre":MAILTO:enquiries@mouterehills.org.nz
END:VEVENT
BEGIN:VEVENT
DTSTART;TZID=Pacific/Auckland:20240804T093000
DTEND;TZID=Pacific/Auckland:20240804T110000
DTSTAMP:20260420T164231
CREATED:20240729T034031Z
LAST-MODIFIED:20240729T034237Z
UID:10019066-1722763800-1722769200@www.mouterehills.org.nz
SUMMARY:Club Tennis Session
DESCRIPTION:Run by Upper Moutere Tennis Club. \nAll welcome.
URL:https://www.mouterehills.org.nz/event/club-tennis-session-2/2024-08-04/
CATEGORIES:Community Recreation
END:VEVENT
BEGIN:VEVENT
DTSTART;TZID=Pacific/Auckland:20241019T091500
DTEND;TZID=Pacific/Auckland:20241019T101500
DTSTAMP:20260420T164231
CREATED:20241011T024324Z
LAST-MODIFIED:20241011T024324Z
UID:10022799-1729329300-1729332900@www.mouterehills.org.nz
SUMMARY:Yoga Flow with Valentina
DESCRIPTION:This grounding Vinyasa flow class will help you feel strong and centred\, so you can start your day with full presence and awareness.  A combination of breathwork\, yoga sequence and meditation leaving your body energized and a relaxed mind.  To book contact Valentina by emailing vale.alvarez.z@gmail.com
URL:https://www.mouterehills.org.nz/event/yoga-flow-with-valentina-2/2024-10-19/
END:VEVENT
BEGIN:VEVENT
DTSTART;TZID=Pacific/Auckland:20241028T120000
DTEND;TZID=Pacific/Auckland:20241028T150000
DTSTAMP:20260420T164232
CREATED:20240415T023427Z
LAST-MODIFIED:20240415T023427Z
UID:10009111-1730116800-1730127600@www.mouterehills.org.nz
SUMMARY:Pukapuka Talks
DESCRIPTION:Nelson arts festival
URL:https://www.mouterehills.org.nz/event/pukapuka-talks/
LOCATION:Moutere Hills Community Centre
CATEGORIES:Event
END:VEVENT
BEGIN:VEVENT
DTSTART;TZID=Pacific/Auckland:20241103T080000
DTEND;TZID=Pacific/Auckland:20241103T170000
DTSTAMP:20260420T164232
CREATED:20240415T023817Z
LAST-MODIFIED:20240415T023817Z
UID:10009112-1730620800-1730653200@www.mouterehills.org.nz
SUMMARY:Private booking
DESCRIPTION:Wet weather venue\, Neudorf concert – Arts Festival
URL:https://www.mouterehills.org.nz/event/private-booking-75/
CATEGORIES:Event
END:VEVENT
BEGIN:VEVENT
DTSTART;TZID=Pacific/Auckland:20241108T080000
DTEND;TZID=Pacific/Auckland:20241108T150000
DTSTAMP:20260420T164232
CREATED:20240415T023942Z
LAST-MODIFIED:20240415T023942Z
UID:10009113-1731052800-1731078000@www.mouterehills.org.nz
SUMMARY:Athletic Sports Day
DESCRIPTION:Moutere Cluster
URL:https://www.mouterehills.org.nz/event/athletic-sports-day/
LOCATION:Moutere Hills Community Centre
CATEGORIES:Community Recreation,Event
END:VEVENT
BEGIN:VEVENT
DTSTART;TZID=Pacific/Auckland:20241125T080000
DTEND;TZID=Pacific/Auckland:20241125T150000
DTSTAMP:20260420T164232
CREATED:20240415T024121Z
LAST-MODIFIED:20240415T024121Z
UID:10009114-1732521600-1732546800@www.mouterehills.org.nz
SUMMARY:UMO Production
DESCRIPTION:Full day run through
URL:https://www.mouterehills.org.nz/event/umo-production/
LOCATION:Moutere Hills Community Centre
CATEGORIES:Event
END:VEVENT
BEGIN:VEVENT
DTSTART;TZID=Pacific/Auckland:20241125T170000
DTEND;TZID=Pacific/Auckland:20241125T210000
DTSTAMP:20260420T164232
CREATED:20240415T024408Z
LAST-MODIFIED:20240415T024408Z
UID:10009115-1732554000-1732568400@www.mouterehills.org.nz
SUMMARY:UMO Production
DESCRIPTION:Production
URL:https://www.mouterehills.org.nz/event/umo-production-2/
LOCATION:Moutere Hills Community Centre
CATEGORIES:Community Recreation,Event
END:VEVENT
BEGIN:VEVENT
DTSTART;TZID=Pacific/Auckland:20241127T170000
DTEND;TZID=Pacific/Auckland:20241127T210000
DTSTAMP:20260420T164232
CREATED:20240415T024658Z
LAST-MODIFIED:20240415T024658Z
UID:10009116-1732726800-1732741200@www.mouterehills.org.nz
SUMMARY:UMO Production
DESCRIPTION:Show night
URL:https://www.mouterehills.org.nz/event/umo-production-3/
CATEGORIES:Community Recreation,Event
END:VEVENT
BEGIN:VEVENT
DTSTART;TZID=Pacific/Auckland:20241213T190000
DTEND;TZID=Pacific/Auckland:20241213T210000
DTSTAMP:20260420T164232
CREATED:20240415T024901Z
LAST-MODIFIED:20240415T024901Z
UID:10009117-1734116400-1734123600@www.mouterehills.org.nz
SUMMARY:Private Booking
DESCRIPTION:NPD Christmas function
URL:https://www.mouterehills.org.nz/event/private-booking-76/
LOCATION:Moutere Hills Community Centre
CATEGORIES:Meeting
END:VEVENT
BEGIN:VEVENT
DTSTART;TZID=Pacific/Auckland:20241214T190000
DTEND;TZID=Pacific/Auckland:20241214T210000
DTSTAMP:20260420T164232
CREATED:20240415T025028Z
LAST-MODIFIED:20240415T025028Z
UID:10009118-1734202800-1734210000@www.mouterehills.org.nz
SUMMARY:Private Booking
DESCRIPTION:South Fresh Function
URL:https://www.mouterehills.org.nz/event/private-booking-77/
LOCATION:Moutere Hills Community Centre
CATEGORIES:Meeting
END:VEVENT
BEGIN:VEVENT
DTSTART;TZID=Pacific/Auckland:20250128T053000
DTEND;TZID=Pacific/Auckland:20250128T063000
DTSTAMP:20260420T164232
CREATED:20250128T075538Z
LAST-MODIFIED:20250410T023713Z
UID:10024931-1738042200-1738045800@www.mouterehills.org.nz
SUMMARY:Energise Group Fitness
DESCRIPTION:Start the day by working out with a fun bunch of motivated people who like to work out for better health and wellbeing. \nBookings essential. Contact Cindus on 0273587233.
URL:https://www.mouterehills.org.nz/event/energise-group-fitness-2/2025-01-28/
LOCATION:Moutere Hills Community Centre
CATEGORIES:Exercise Class
ORGANIZER;CN="Cindus Colonna":MAILTO:energiseme19@gmail.com
END:VEVENT
BEGIN:VEVENT
DTSTART;TZID=Pacific/Auckland:20250129T191500
DTEND;TZID=Pacific/Auckland:20250129T210000
DTSTAMP:20260420T164232
CREATED:20250107T233201Z
LAST-MODIFIED:20250107T233201Z
UID:10007793-1738178100-1738184400@www.mouterehills.org.nz
SUMMARY:Social Table Tennis
DESCRIPTION:Enjoy an evening of singles and doubles play on one of our four high quality tables. Bats can be provided and all levels of players are welcome. No need to book just turn up and join in! \n$3 per person\, per session. \nContact Peter on 03 929 8256 for more information.
URL:https://www.mouterehills.org.nz/event/social-table-tennis-2-3-2/2025-01-29/
LOCATION:Moutere Hills Community Centre
CATEGORIES:Social Sport
END:VEVENT
BEGIN:VEVENT
DTSTART;TZID=Pacific/Auckland:20250130T093000
DTEND;TZID=Pacific/Auckland:20250130T101500
DTSTAMP:20260420T164232
CREATED:20250129T074207Z
LAST-MODIFIED:20250129T074207Z
UID:10026520-1738229400-1738232100@www.mouterehills.org.nz
SUMMARY:Stretch & Flex with Vicki
DESCRIPTION:Increase flexibility and mobility with slow moving range of motion stretching. Suitable for all ages and abilities. $12 per class or free for Fitness Centre members. Concession cards are also available ($80 for 10 classes). \nBookings essential. Visit the members portal to book.
URL:https://www.mouterehills.org.nz/event/stretch-flex-with-vicki-3/2025-01-30/
LOCATION:Moutere Hills Community Centre
CATEGORIES:Exercise Class
END:VEVENT
BEGIN:VEVENT
DTSTART;TZID=Pacific/Auckland:20250130T190000
DTEND;TZID=Pacific/Auckland:20250130T213000
DTSTAMP:20260420T164232
CREATED:20250129T072538Z
LAST-MODIFIED:20250129T072538Z
UID:10026197-1738263600-1738272600@www.mouterehills.org.nz
SUMMARY:Adults Volleyball
DESCRIPTION:Competitive grade \ncost $3.00 \nContact Gordon 021 246 7366
URL:https://www.mouterehills.org.nz/event/adults-volleyball/2025-01-30/
LOCATION:Moutere Hills Community Centre
CATEGORIES:Social Sport
END:VEVENT
BEGIN:VEVENT
DTSTART;TZID=Pacific/Auckland:20250201T080000
DTEND;TZID=Pacific/Auckland:20250201T170000
DTSTAMP:20260420T164232
CREATED:20240415T025542Z
LAST-MODIFIED:20240415T025542Z
UID:10009119-1738396800-1738429200@www.mouterehills.org.nz
SUMMARY:Wedding of Kate and Liam
DESCRIPTION:
URL:https://www.mouterehills.org.nz/event/wedding-of-kate-and-liam/
LOCATION:Moutere Hills Community Centre
CATEGORIES:Event
END:VEVENT
BEGIN:VEVENT
DTSTART;TZID=Pacific/Auckland:20250204T180000
DTEND;TZID=Pacific/Auckland:20250204T200000
DTSTAMP:20260420T164232
CREATED:20250130T080924Z
LAST-MODIFIED:20250130T080924Z
UID:10027335-1738692000-1738699200@www.mouterehills.org.nz
SUMMARY:Valley Stags Rugby Training
DESCRIPTION:A combined team made up of Tapawera and Rangers players \nNew players and prospective players welcome
URL:https://www.mouterehills.org.nz/event/valley-stags-rugby-training/2025-02-04/
LOCATION:Moutere Hills Community Centre
CATEGORIES:Community Recreation
END:VEVENT
BEGIN:VEVENT
DTSTART;TZID=Pacific/Auckland:20250206T130000
DTEND;TZID=Pacific/Auckland:20250206T170000
DTSTAMP:20260420T164232
CREATED:20250127T220544Z
LAST-MODIFIED:20250127T220544Z
UID:10023805-1738846800-1738861200@www.mouterehills.org.nz
SUMMARY:Private Booking
DESCRIPTION:Hire of function room and Kitchen
URL:https://www.mouterehills.org.nz/event/private-booking-79/
LOCATION:Moutere Hills Community Centre
CATEGORIES:Event
END:VEVENT
END:VCALENDAR