BEGIN:VCALENDAR
VERSION:2.0
PRODID:-//Moutere Hills Community Centre - ECPv6.15.19//NONSGML v1.0//EN
CALSCALE:GREGORIAN
METHOD:PUBLISH
X-ORIGINAL-URL:https://www.mouterehills.org.nz
X-WR-CALDESC:Events for Moutere Hills Community Centre
REFRESH-INTERVAL;VALUE=DURATION:PT1H
X-Robots-Tag:noindex
X-PUBLISHED-TTL:PT1H
BEGIN:VTIMEZONE
TZID:Pacific/Auckland
BEGIN:STANDARD
TZOFFSETFROM:+1300
TZOFFSETTO:+1200
TZNAME:NZST
DTSTART:20250405T140000
END:STANDARD
BEGIN:DAYLIGHT
TZOFFSETFROM:+1200
TZOFFSETTO:+1300
TZNAME:NZDT
DTSTART:20250927T140000
END:DAYLIGHT
BEGIN:STANDARD
TZOFFSETFROM:+1300
TZOFFSETTO:+1200
TZNAME:NZST
DTSTART:20260404T140000
END:STANDARD
BEGIN:DAYLIGHT
TZOFFSETFROM:+1200
TZOFFSETTO:+1300
TZNAME:NZDT
DTSTART:20260926T140000
END:DAYLIGHT
BEGIN:STANDARD
TZOFFSETFROM:+1300
TZOFFSETTO:+1200
TZNAME:NZST
DTSTART:20270403T140000
END:STANDARD
BEGIN:DAYLIGHT
TZOFFSETFROM:+1200
TZOFFSETTO:+1300
TZNAME:NZDT
DTSTART:20270925T140000
END:DAYLIGHT
END:VTIMEZONE
BEGIN:VEVENT
DTSTART;TZID=Pacific/Auckland:20260423T103000
DTEND;TZID=Pacific/Auckland:20260423T120000
DTSTAMP:20260422T102440
CREATED:20260104T215252Z
LAST-MODIFIED:20260104T215252Z
UID:10033270-1776940200-1776945600@www.mouterehills.org.nz
SUMMARY:Ballroom - Homeschool class
DESCRIPTION:
URL:https://www.mouterehills.org.nz/event/ballroom-homeschool-class/2026-04-23/
LOCATION:Moutere Hills Community Centre
CATEGORIES:Community Recreation
END:VEVENT
BEGIN:VEVENT
DTSTART;TZID=Pacific/Auckland:20260423T153000
DTEND;TZID=Pacific/Auckland:20260423T180000
DTSTAMP:20260422T102440
CREATED:20240729T031539Z
LAST-MODIFIED:20240729T031539Z
UID:10017555-1776958200-1776967200@www.mouterehills.org.nz
SUMMARY:Junior Tennis Coaching
DESCRIPTION:All levels welcome 5yrs old + and upwards. \nContact Vanessa on 022 424 3564 or claybrookestate@xtra.co.nz for more info or to book.
URL:https://www.mouterehills.org.nz/event/junior-tennis-coaching-3/2026-04-23/
LOCATION:Moutere Hills Community Centre
CATEGORIES:Community Recreation
END:VEVENT
BEGIN:VEVENT
DTSTART;TZID=Pacific/Auckland:20260423T153000
DTEND;TZID=Pacific/Auckland:20260423T183000
DTSTAMP:20260422T102440
CREATED:20260104T223015Z
LAST-MODIFIED:20260406T211925Z
UID:10033771-1776958200-1776969000@www.mouterehills.org.nz
SUMMARY:Aerial Silks - Thursday
DESCRIPTION:Tasman Aerial Silks   \nIlka 022 085 5970                                    
URL:https://www.mouterehills.org.nz/event/aerial-silks-thursday/2026-04-23/
LOCATION:Sports Hall
CATEGORIES:Community Recreation
END:VEVENT
BEGIN:VEVENT
DTSTART;TZID=Pacific/Auckland:20260423T190000
DTEND;TZID=Pacific/Auckland:20260423T213000
DTSTAMP:20260422T102440
CREATED:20250129T072538Z
LAST-MODIFIED:20250129T072538Z
UID:10026261-1776970800-1776979800@www.mouterehills.org.nz
SUMMARY:Adults Volleyball
DESCRIPTION:Competitive grade \ncost $3.00 \nContact Gordon 021 246 7366
URL:https://www.mouterehills.org.nz/event/adults-volleyball/2026-04-23/
LOCATION:Moutere Hills Community Centre
CATEGORIES:Social Sport
END:VEVENT
BEGIN:VEVENT
DTSTART;TZID=Pacific/Auckland:20260424T151500
DTEND;TZID=Pacific/Auckland:20260424T171500
DTSTAMP:20260422T102440
CREATED:20260318T185446Z
LAST-MODIFIED:20260407T014030Z
UID:10034598-1777043700-1777050900@www.mouterehills.org.nz
SUMMARY:Indoor Bowls
DESCRIPTION:We welcome anyone from 8yrs old and all abilities. \nAll gear provided\, just wear soft flat soled shoes.
URL:https://www.mouterehills.org.nz/event/indoor-bowls-3/2026-04-24/
LOCATION:Sports Hall
CATEGORIES:Exercise Class
END:VEVENT
BEGIN:VEVENT
DTSTART;TZID=Pacific/Auckland:20260504T191500
DTEND;TZID=Pacific/Auckland:20260504T203000
DTSTAMP:20260422T102440
CREATED:20260407T014715Z
LAST-MODIFIED:20260407T014715Z
UID:10035007-1777922100-1777926600@www.mouterehills.org.nz
SUMMARY:Social Netball
DESCRIPTION:
URL:https://www.mouterehills.org.nz/event/social-netball-3/
LOCATION:Sports Hall
CATEGORIES:Social Sport
END:VEVENT
BEGIN:VEVENT
DTSTART;TZID=Pacific/Auckland:20260508T183000
DTEND;TZID=Pacific/Auckland:20260508T203000
DTSTAMP:20260422T102440
CREATED:20240729T032733Z
LAST-MODIFIED:20240729T033053Z
UID:10018746-1778265000-1778272200@www.mouterehills.org.nz
SUMMARY:Ballroom / Latin Dance Class
DESCRIPTION:Join Becks for on the monthly practice Night.  Practice session runs from 6:30pm – 8:30pm. 2nd Friday of each month \n$10 per session.  For more details contact Becks on 021482263
URL:https://www.mouterehills.org.nz/event/ballroom-latin-dance-class-2/2026-05-08/
LOCATION:Moutere Hills Community Centre
CATEGORIES:Social Sport
END:VEVENT
BEGIN:VEVENT
DTSTART;TZID=Pacific/Auckland:20260510T180000
DTEND;TZID=Pacific/Auckland:20260510T200000
DTSTAMP:20260422T102440
CREATED:20250721T224103Z
LAST-MODIFIED:20250721T224103Z
UID:10032421-1778436000-1778443200@www.mouterehills.org.nz
SUMMARY:Dance Classes - Ballroom/Latin
DESCRIPTION:Come along to a fun adult beginners Ballroom dance class \nContact Becks on dancingbecks@hotmail.com or cell 021482263
URL:https://www.mouterehills.org.nz/event/dance-classes-ballroom-latin/2026-05-10/
LOCATION:Moutere Hills Community Centre
CATEGORIES:Community Recreation
END:VEVENT
END:VCALENDAR