BEGIN:VCALENDAR
VERSION:2.0
PRODID:-//Moutere Hills Community Centre - ECPv6.15.19//NONSGML v1.0//EN
CALSCALE:GREGORIAN
METHOD:PUBLISH
X-WR-CALNAME:Moutere Hills Community Centre
X-ORIGINAL-URL:https://www.mouterehills.org.nz
X-WR-CALDESC:Events for Moutere Hills Community Centre
REFRESH-INTERVAL;VALUE=DURATION:PT1H
X-Robots-Tag:noindex
X-PUBLISHED-TTL:PT1H
BEGIN:VTIMEZONE
TZID:Pacific/Auckland
BEGIN:STANDARD
TZOFFSETFROM:+1300
TZOFFSETTO:+1200
TZNAME:NZST
DTSTART:20250405T140000
END:STANDARD
BEGIN:DAYLIGHT
TZOFFSETFROM:+1200
TZOFFSETTO:+1300
TZNAME:NZDT
DTSTART:20250927T140000
END:DAYLIGHT
BEGIN:STANDARD
TZOFFSETFROM:+1300
TZOFFSETTO:+1200
TZNAME:NZST
DTSTART:20260404T140000
END:STANDARD
BEGIN:DAYLIGHT
TZOFFSETFROM:+1200
TZOFFSETTO:+1300
TZNAME:NZDT
DTSTART:20260926T140000
END:DAYLIGHT
BEGIN:STANDARD
TZOFFSETFROM:+1300
TZOFFSETTO:+1200
TZNAME:NZST
DTSTART:20270403T140000
END:STANDARD
BEGIN:DAYLIGHT
TZOFFSETFROM:+1200
TZOFFSETTO:+1300
TZNAME:NZDT
DTSTART:20270925T140000
END:DAYLIGHT
END:VTIMEZONE
BEGIN:VEVENT
DTSTART;TZID=Pacific/Auckland:20260509T133000
DTEND;TZID=Pacific/Auckland:20260509T150000
DTSTAMP:20260424T045937
CREATED:20250320T221821Z
LAST-MODIFIED:20250530T032422Z
UID:10029199-1778333400-1778338800@www.mouterehills.org.nz
SUMMARY:Youth/ Adults Social Basketball
DESCRIPTION:Join in a fun session of Basketball. For all ability levels. Only $3.00/session
URL:https://www.mouterehills.org.nz/event/youth-adults-social-basketball-4/2026-05-09/
LOCATION:Moutere Hills Community Centre
CATEGORIES:Community Recreation
END:VEVENT
BEGIN:VEVENT
DTSTART;TZID=Pacific/Auckland:20260510T093000
DTEND;TZID=Pacific/Auckland:20260510T110000
DTSTAMP:20260424T045937
CREATED:20240729T034031Z
LAST-MODIFIED:20240729T034237Z
UID:10019158-1778405400-1778410800@www.mouterehills.org.nz
SUMMARY:Club Tennis Session
DESCRIPTION:Run by Upper Moutere Tennis Club. \nAll welcome.
URL:https://www.mouterehills.org.nz/event/club-tennis-session-2/2026-05-10/
CATEGORIES:Community Recreation
END:VEVENT
BEGIN:VEVENT
DTSTART;TZID=Pacific/Auckland:20260510T160000
DTEND;TZID=Pacific/Auckland:20260510T180000
DTSTAMP:20260424T045937
CREATED:20250731T020646Z
LAST-MODIFIED:20250731T020646Z
UID:10032595-1778428800-1778436000@www.mouterehills.org.nz
SUMMARY:Private Ballroom Lessons
DESCRIPTION:
URL:https://www.mouterehills.org.nz/event/private-ballroom-lessons/2026-05-10/
LOCATION:Sports Hall
CATEGORIES:Event
END:VEVENT
BEGIN:VEVENT
DTSTART;TZID=Pacific/Auckland:20260510T180000
DTEND;TZID=Pacific/Auckland:20260510T200000
DTSTAMP:20260424T045937
CREATED:20250721T224103Z
LAST-MODIFIED:20250721T224103Z
UID:10032421-1778436000-1778443200@www.mouterehills.org.nz
SUMMARY:Dance Classes - Ballroom/Latin
DESCRIPTION:Come along to a fun adult beginners Ballroom dance class \nContact Becks on dancingbecks@hotmail.com or cell 021482263
URL:https://www.mouterehills.org.nz/event/dance-classes-ballroom-latin/2026-05-10/
LOCATION:Moutere Hills Community Centre
CATEGORIES:Community Recreation
END:VEVENT
BEGIN:VEVENT
DTSTART;TZID=Pacific/Auckland:20260511T060000
DTEND;TZID=Pacific/Auckland:20260511T184500
DTSTAMP:20260424T045937
CREATED:20260104T215730Z
LAST-MODIFIED:20260104T215730Z
UID:10033371-1778479200-1778525100@www.mouterehills.org.nz
SUMMARY:Strength & Fitness Circuit - Mondays
DESCRIPTION:
URL:https://www.mouterehills.org.nz/event/strength-fitness-circuit-mondays/2026-05-11/
LOCATION:Sports Hall
CATEGORIES:Exercise Class
END:VEVENT
BEGIN:VEVENT
DTSTART;TZID=Pacific/Auckland:20260511T133000
DTEND;TZID=Pacific/Auckland:20260511T151500
DTSTAMP:20260424T045937
CREATED:20260318T190227Z
LAST-MODIFIED:20260318T190227Z
UID:10034714-1778506200-1778512500@www.mouterehills.org.nz
SUMMARY:Kids Ballroom/Latin Dance - Monday
DESCRIPTION:Classes For 6 to 9 year olds  1:30 to 2:30pm \nPrivate lessons till 3:15pm
URL:https://www.mouterehills.org.nz/event/kids-ballroom-latin-dance-monday-2/2026-05-11/
LOCATION:Sports Hall
CATEGORIES:Community Recreation
END:VEVENT
BEGIN:VEVENT
DTSTART;TZID=Pacific/Auckland:20260511T153000
DTEND;TZID=Pacific/Auckland:20260511T181500
DTSTAMP:20260424T045937
CREATED:20260318T203052Z
LAST-MODIFIED:20260407T013850Z
UID:10034911-1778513400-1778523300@www.mouterehills.org.nz
SUMMARY:Creative Barefoot & Ballet Classes
DESCRIPTION:
URL:https://www.mouterehills.org.nz/event/creative-barefoot-ballet-classes/2026-05-11/
LOCATION:Sports Hall
CATEGORIES:Community Recreation
END:VEVENT
END:VCALENDAR