BEGIN:VCALENDAR
VERSION:2.0
PRODID:-//Moutere Hills Community Centre - ECPv6.15.19//NONSGML v1.0//EN
CALSCALE:GREGORIAN
METHOD:PUBLISH
X-ORIGINAL-URL:https://www.mouterehills.org.nz
X-WR-CALDESC:Events for Moutere Hills Community Centre
REFRESH-INTERVAL;VALUE=DURATION:PT1H
X-Robots-Tag:noindex
X-PUBLISHED-TTL:PT1H
BEGIN:VTIMEZONE
TZID:Pacific/Auckland
BEGIN:STANDARD
TZOFFSETFROM:+1300
TZOFFSETTO:+1200
TZNAME:NZST
DTSTART:20230401T140000
END:STANDARD
BEGIN:DAYLIGHT
TZOFFSETFROM:+1200
TZOFFSETTO:+1300
TZNAME:NZDT
DTSTART:20230923T140000
END:DAYLIGHT
BEGIN:STANDARD
TZOFFSETFROM:+1300
TZOFFSETTO:+1200
TZNAME:NZST
DTSTART:20240406T140000
END:STANDARD
BEGIN:DAYLIGHT
TZOFFSETFROM:+1200
TZOFFSETTO:+1300
TZNAME:NZDT
DTSTART:20240928T140000
END:DAYLIGHT
BEGIN:STANDARD
TZOFFSETFROM:+1300
TZOFFSETTO:+1200
TZNAME:NZST
DTSTART:20250405T140000
END:STANDARD
BEGIN:DAYLIGHT
TZOFFSETFROM:+1200
TZOFFSETTO:+1300
TZNAME:NZDT
DTSTART:20250927T140000
END:DAYLIGHT
END:VTIMEZONE
BEGIN:VEVENT
DTSTART;TZID=Pacific/Auckland:20240417T080000
DTEND;TZID=Pacific/Auckland:20240417T084500
DTSTAMP:20260420T073359
CREATED:20240419T010735Z
LAST-MODIFIED:20260106T214122Z
UID:10011975-1713340800-1713343500@www.mouterehills.org.nz
SUMMARY:Pilates
DESCRIPTION:Join Kris in our Pilates class.  Pilates is a low-impact workout which is great for strengthening your muscles though controlled\, repetitive movements\, building muscular endurance and stability. Suitable for Beginners.  $12 casual\, $80 for a 10 class concession card or free for fitness centre members.
URL:https://www.mouterehills.org.nz/event/pilates-4/2024-04-17/
LOCATION:Moutere Hills Community Centre
CATEGORIES:Exercise Class
END:VEVENT
BEGIN:VEVENT
DTSTART;TZID=Pacific/Auckland:20240417T084500
DTEND;TZID=Pacific/Auckland:20240417T094500
DTSTAMP:20260420T073359
CREATED:20230117T021445Z
LAST-MODIFIED:20230428T003937Z
UID:10007421-1713343500-1713347100@www.mouterehills.org.nz
SUMMARY:Powerhooping
DESCRIPTION:A fun exercise class using specialised hoops to get you moving and stretching. Casual $12 (includes powerhoop). Concessions available. Powerhoops also available for purchase. \nContact Sara on 021 069 7522 or powerhoopnelson@gmail.com for more information or to book.
URL:https://www.mouterehills.org.nz/event/powerhooping-2/2024-04-17/
LOCATION:Moutere Hills Community Centre
CATEGORIES:Community Recreation
ORGANIZER;CN="Sara":MAILTO:powerhoopingnelson@gmail.com
END:VEVENT
BEGIN:VEVENT
DTSTART;TZID=Pacific/Auckland:20240417T110000
DTEND;TZID=Pacific/Auckland:20240417T130000
DTSTAMP:20260420T073359
CREATED:20240729T032041Z
LAST-MODIFIED:20240729T032119Z
UID:10018186-1713351600-1713358800@www.mouterehills.org.nz
SUMMARY:Home Ed D&D
DESCRIPTION:In the Community Room.  Contact Bron on 027 5729781
URL:https://www.mouterehills.org.nz/event/home-ed-dd/2024-04-17/
LOCATION:Moutere Hills Community Centre
CATEGORIES:Community Recreation
ORGANIZER;CN="Moutere Hills Community Centre":MAILTO:enquiries@mouterehills.org.nz
END:VEVENT
BEGIN:VEVENT
DTSTART;TZID=Pacific/Auckland:20240417T183000
DTEND;TZID=Pacific/Auckland:20240417T191500
DTSTAMP:20260420T073359
CREATED:20231109T213732Z
LAST-MODIFIED:20231109T213846Z
UID:10008816-1713378600-1713381300@www.mouterehills.org.nz
SUMMARY:MetaPro Hybrid with Cindus
DESCRIPTION:Take your High Intensity Interval Training to the next level with new Speed\, Agility and Quickness drills and training movements in a small group! Round out the session with some core and pelvic strengthening to ensure you leave having worked your full body! \n$10 casual\, free for Fitness Centre members or concession cards available ($60 for 10 classes). \nRegistrations essential. Visit the Fitness Centre calendar page to book
URL:https://www.mouterehills.org.nz/event/metapro-hybrid-with-cindus-3-2/2024-04-17/
LOCATION:Moutere Hills Community Centre
CATEGORIES:Exercise Class
END:VEVENT
BEGIN:VEVENT
DTSTART;TZID=Pacific/Auckland:20240417T183000
DTEND;TZID=Pacific/Auckland:20240417T200000
DTSTAMP:20260420T073359
CREATED:20230207T000925Z
LAST-MODIFIED:20230207T000925Z
UID:10006269-1713378600-1713384000@www.mouterehills.org.nz
SUMMARY:Youth Coding Club
DESCRIPTION:In the Community Room.  Contact Bron on 027 5729781
URL:https://www.mouterehills.org.nz/event/youth-coding-club/2024-04-17/
LOCATION:Moutere Hills Community Centre
CATEGORIES:Community Recreation
ORGANIZER;CN="Moutere Hills Community Centre":MAILTO:enquiries@mouterehills.org.nz
END:VEVENT
BEGIN:VEVENT
DTSTART;TZID=Pacific/Auckland:20240418T183000
DTEND;TZID=Pacific/Auckland:20240418T200000
DTSTAMP:20260420T073359
CREATED:20240415T015239Z
LAST-MODIFIED:20240415T015239Z
UID:10009089-1713465000-1713470400@www.mouterehills.org.nz
SUMMARY:Private Booking
DESCRIPTION:Kitchen booking
URL:https://www.mouterehills.org.nz/event/private-booking-68/
LOCATION:Moutere Hills Community Centre
CATEGORIES:Meeting
END:VEVENT
BEGIN:VEVENT
DTSTART;TZID=Pacific/Auckland:20240419T090000
DTEND;TZID=Pacific/Auckland:20240419T094500
DTSTAMP:20260420T073359
CREATED:20240419T011921Z
LAST-MODIFIED:20250410T014732Z
UID:10012763-1713517200-1713519900@www.mouterehills.org.nz
SUMMARY:Pilates with Kris
DESCRIPTION:Join Kris for this great pilates class.  $12 for casual\, $80 for 10 class concession card or free for fitness centre members.
URL:https://www.mouterehills.org.nz/event/pilates-with-kris/2024-04-19/
LOCATION:Moutere Hills Community Centre
CATEGORIES:Exercise Class
END:VEVENT
BEGIN:VEVENT
DTSTART;TZID=Pacific/Auckland:20240424T173000
DTEND;TZID=Pacific/Auckland:20240424T203000
DTSTAMP:20260420T073359
CREATED:20240415T015535Z
LAST-MODIFIED:20240415T015535Z
UID:10009090-1713979800-1713990600@www.mouterehills.org.nz
SUMMARY:Private Booking
DESCRIPTION:Top Of The South Rural Support Trust – Function room and kitchen booking
URL:https://www.mouterehills.org.nz/event/private-booking-69/
LOCATION:Moutere Hills Community Centre
CATEGORIES:Meeting
END:VEVENT
BEGIN:VEVENT
DTSTART;TZID=Pacific/Auckland:20240425T100000
DTEND;TZID=Pacific/Auckland:20240425T150000
DTSTAMP:20260420T073359
CREATED:20240415T015727Z
LAST-MODIFIED:20240415T015727Z
UID:10009091-1714039200-1714057200@www.mouterehills.org.nz
SUMMARY:ANZAC Day Service
DESCRIPTION:ANZAC Day Service
URL:https://www.mouterehills.org.nz/event/anzac-day-service-2/
LOCATION:Moutere Hills Community Centre
CATEGORIES:Event
END:VEVENT
BEGIN:VEVENT
DTSTART;TZID=Pacific/Auckland:20240425T113000
DTEND;TZID=Pacific/Auckland:20240425T150000
DTSTAMP:20260420T073359
CREATED:20240415T020028Z
LAST-MODIFIED:20240415T020028Z
UID:10009092-1714044600-1714057200@www.mouterehills.org.nz
SUMMARY:Private Booking
DESCRIPTION:Sports hall and function room booking
URL:https://www.mouterehills.org.nz/event/private-booking-70/
LOCATION:Moutere Hills Community Centre
CATEGORIES:Meeting
END:VEVENT
BEGIN:VEVENT
DTSTART;TZID=Pacific/Auckland:20240427T110000
DTEND;TZID=Pacific/Auckland:20240427T150000
DTSTAMP:20260420T073359
CREATED:20240415T020239Z
LAST-MODIFIED:20240415T020239Z
UID:10009093-1714215600-1714230000@www.mouterehills.org.nz
SUMMARY:Valley Stags Game
DESCRIPTION:Home game
URL:https://www.mouterehills.org.nz/event/valley-stags-game/
LOCATION:Moutere Hills Community Centre
CATEGORIES:Social Sport
END:VEVENT
BEGIN:VEVENT
DTSTART;TZID=Pacific/Auckland:20240428T103000
DTEND;TZID=Pacific/Auckland:20240428T140000
DTSTAMP:20260420T073359
CREATED:20240415T020420Z
LAST-MODIFIED:20240415T020420Z
UID:10009094-1714300200-1714312800@www.mouterehills.org.nz
SUMMARY:Church Service
DESCRIPTION:Church service
URL:https://www.mouterehills.org.nz/event/church-service/
LOCATION:Moutere Hills Community Centre
CATEGORIES:Meeting
END:VEVENT
BEGIN:VEVENT
DTSTART;TZID=Pacific/Auckland:20240428T160000
DTEND;TZID=Pacific/Auckland:20240428T203000
DTSTAMP:20260420T073359
CREATED:20240415T020541Z
LAST-MODIFIED:20240415T020541Z
UID:10009095-1714320000-1714336200@www.mouterehills.org.nz
SUMMARY:The Depot
DESCRIPTION:Church service
URL:https://www.mouterehills.org.nz/event/the-depot-2/
LOCATION:Moutere Hills Community Centre
CATEGORIES:Meeting
END:VEVENT
BEGIN:VEVENT
DTSTART;TZID=Pacific/Auckland:20240429T153000
DTEND;TZID=Pacific/Auckland:20240429T161500
DTSTAMP:20260420T073359
CREATED:20240419T010240Z
LAST-MODIFIED:20240419T010240Z
UID:10011279-1714404600-1714407300@www.mouterehills.org.nz
SUMMARY:Kids Ballroom/Latin Dance
DESCRIPTION:Join Becks for a fun introduction to Ballroom and Latin Dance.  For more details or to book contact Becks on 021482263
URL:https://www.mouterehills.org.nz/event/kids-ballroom-latin-dance/2024-04-29/
LOCATION:Moutere Hills Community Centre
END:VEVENT
BEGIN:VEVENT
DTSTART;TZID=Pacific/Auckland:20240430T150000
DTEND;TZID=Pacific/Auckland:20240430T190000
DTSTAMP:20260420T073359
CREATED:20240415T020741Z
LAST-MODIFIED:20240415T020741Z
UID:10009096-1714489200-1714503600@www.mouterehills.org.nz
SUMMARY:NZ  Hops
DESCRIPTION:Function room booking
URL:https://www.mouterehills.org.nz/event/nz-hops/
LOCATION:Moutere Hills Community Centre
CATEGORIES:Meeting
END:VEVENT
BEGIN:VEVENT
DTSTART;TZID=Pacific/Auckland:20240503T080000
DTEND;TZID=Pacific/Auckland:20240503T084500
DTSTAMP:20260420T073359
CREATED:20240419T012839Z
LAST-MODIFIED:20240423T020724Z
UID:10013084-1714723200-1714725900@www.mouterehills.org.nz
SUMMARY:Introduction to Pilates
DESCRIPTION:Join Kris for some specialist support to make the most out of our pilates classes.  Takes place on the first Friday of each month. $15 per session.  Limited to a maximum of 6 participants.
URL:https://www.mouterehills.org.nz/event/introduction-to-pilates/2024-05-03/
LOCATION:Moutere Hills Community Centre
CATEGORIES:Exercise Class
END:VEVENT
BEGIN:VEVENT
DTSTART;TZID=Pacific/Auckland:20240507T093000
DTEND;TZID=Pacific/Auckland:20240507T113000
DTSTAMP:20260420T073359
CREATED:20240415T020905Z
LAST-MODIFIED:20240415T020905Z
UID:10009097-1715074200-1715081400@www.mouterehills.org.nz
SUMMARY:Quilting
DESCRIPTION:Function room booking
URL:https://www.mouterehills.org.nz/event/quilting/
LOCATION:Moutere Hills Community Centre
CATEGORIES:Meeting
END:VEVENT
BEGIN:VEVENT
DTSTART;TZID=Pacific/Auckland:20240509T090000
DTEND;TZID=Pacific/Auckland:20240509T124500
DTSTAMP:20260420T073359
CREATED:20240415T021048Z
LAST-MODIFIED:20240415T021048Z
UID:10009098-1715245200-1715258700@www.mouterehills.org.nz
SUMMARY:Private Booking
DESCRIPTION:Home school first aid – function room booking
URL:https://www.mouterehills.org.nz/event/private-booking-71/
LOCATION:Moutere Hills Community Centre
CATEGORIES:Meeting
END:VEVENT
BEGIN:VEVENT
DTSTART;TZID=Pacific/Auckland:20240510T183000
DTEND;TZID=Pacific/Auckland:20240510T203000
DTSTAMP:20260420T073359
CREATED:20240419T012502Z
LAST-MODIFIED:20240419T012502Z
UID:10013024-1715365800-1715373000@www.mouterehills.org.nz
SUMMARY:Ballroom / Latin Dance Class
DESCRIPTION:Join Becks for on the monthly practice Night.  Practice session runs from 6:30pm – 8:30pm on the second Friday of each month. \n$10 per session.  For more details contact Becks on 021482263
URL:https://www.mouterehills.org.nz/event/ballroom-latin-dance-class/2024-05-10/
LOCATION:Moutere Hills Community Centre
END:VEVENT
BEGIN:VEVENT
DTSTART;TZID=Pacific/Auckland:20240510T183000
DTEND;TZID=Pacific/Auckland:20240510T210000
DTSTAMP:20260420T073359
CREATED:20240415T021206Z
LAST-MODIFIED:20240415T021206Z
UID:10009099-1715365800-1715374800@www.mouterehills.org.nz
SUMMARY:Social Dance Party
DESCRIPTION:Dancing with Becks
URL:https://www.mouterehills.org.nz/event/social-dance-party/
LOCATION:Moutere Hills Community Centre
CATEGORIES:Event
END:VEVENT
BEGIN:VEVENT
DTSTART;TZID=Pacific/Auckland:20240511T110000
DTEND;TZID=Pacific/Auckland:20240511T140000
DTSTAMP:20260420T073359
CREATED:20240415T021317Z
LAST-MODIFIED:20240415T021327Z
UID:10009100-1715425200-1715436000@www.mouterehills.org.nz
SUMMARY:Valley Stags Game
DESCRIPTION:Home game
URL:https://www.mouterehills.org.nz/event/valley-stage-game/
LOCATION:Moutere Hills Community Centre
CATEGORIES:Event,Social Sport
END:VEVENT
BEGIN:VEVENT
DTSTART;TZID=Pacific/Auckland:20240516T130000
DTEND;TZID=Pacific/Auckland:20240516T160000
DTSTAMP:20260420T073359
CREATED:20240415T021434Z
LAST-MODIFIED:20240415T021434Z
UID:10009101-1715864400-1715875200@www.mouterehills.org.nz
SUMMARY:Private Booking
DESCRIPTION:Function room booking
URL:https://www.mouterehills.org.nz/event/private-booking-72/
LOCATION:Moutere Hills Community Centre
CATEGORIES:Meeting
END:VEVENT
BEGIN:VEVENT
DTSTART;TZID=Pacific/Auckland:20240521T180000
DTEND;TZID=Pacific/Auckland:20240521T213000
DTSTAMP:20260420T073359
CREATED:20240415T021616Z
LAST-MODIFIED:20240415T021616Z
UID:10009102-1716314400-1716327000@www.mouterehills.org.nz
SUMMARY:Friends of Flora
DESCRIPTION:Function room booking
URL:https://www.mouterehills.org.nz/event/friends-of-flora/
LOCATION:Moutere Hills Community Centre
CATEGORIES:Meeting
END:VEVENT
BEGIN:VEVENT
DTSTART;TZID=Pacific/Auckland:20240524T140000
DTEND;TZID=Pacific/Auckland:20240524T190000
DTSTAMP:20260420T073359
CREATED:20240415T021729Z
LAST-MODIFIED:20240415T021729Z
UID:10009103-1716559200-1716577200@www.mouterehills.org.nz
SUMMARY:Private Booking
DESCRIPTION:Function room booking
URL:https://www.mouterehills.org.nz/event/private-booking-73/
LOCATION:Moutere Hills Community Centre
CATEGORIES:Meeting
END:VEVENT
BEGIN:VEVENT
DTSTART;TZID=Pacific/Auckland:20240525T110000
DTEND;TZID=Pacific/Auckland:20240525T140000
DTSTAMP:20260420T073359
CREATED:20240415T021832Z
LAST-MODIFIED:20240415T021832Z
UID:10009104-1716634800-1716645600@www.mouterehills.org.nz
SUMMARY:Valley Stags Game
DESCRIPTION:Home game
URL:https://www.mouterehills.org.nz/event/valley-stags-game-2/
LOCATION:Moutere Hills Community Centre
CATEGORIES:Event,Social Sport
END:VEVENT
BEGIN:VEVENT
DTSTART;TZID=Pacific/Auckland:20240602T160000
DTEND;TZID=Pacific/Auckland:20240602T203000
DTSTAMP:20260420T073359
CREATED:20240415T021956Z
LAST-MODIFIED:20240415T021956Z
UID:10009105-1717344000-1717360200@www.mouterehills.org.nz
SUMMARY:The Depot
DESCRIPTION:Church service
URL:https://www.mouterehills.org.nz/event/the-depot-3/
LOCATION:Moutere Hills Community Centre
CATEGORIES:Meeting
END:VEVENT
BEGIN:VEVENT
DTSTART;TZID=Pacific/Auckland:20240607T160000
DTEND;TZID=Pacific/Auckland:20240607T203000
DTSTAMP:20260420T073359
CREATED:20240415T023015Z
LAST-MODIFIED:20240415T023015Z
UID:10009109-1717776000-1717792200@www.mouterehills.org.nz
SUMMARY:The Depot
DESCRIPTION:Church service
URL:https://www.mouterehills.org.nz/event/the-depot-4/
LOCATION:Moutere Hills Community Centre
CATEGORIES:Meeting
END:VEVENT
BEGIN:VEVENT
DTSTART;TZID=Pacific/Auckland:20240615T170000
DTEND;TZID=Pacific/Auckland:20240615T190000
DTSTAMP:20260420T073359
CREATED:20240415T022133Z
LAST-MODIFIED:20240415T022133Z
UID:10009106-1718470800-1718478000@www.mouterehills.org.nz
SUMMARY:Fire Brigade Function
DESCRIPTION:
URL:https://www.mouterehills.org.nz/event/fire-brigade-function/
LOCATION:Moutere Hills Community Centre
CATEGORIES:Meeting
END:VEVENT
BEGIN:VEVENT
DTSTART;TZID=Pacific/Auckland:20240616T130000
DTEND;TZID=Pacific/Auckland:20240616T160000
DTSTAMP:20260420T073359
CREATED:20240415T022349Z
LAST-MODIFIED:20240415T022349Z
UID:10009107-1718542800-1718553600@www.mouterehills.org.nz
SUMMARY:Private Booking
DESCRIPTION:Community room + bouncy castle booking
URL:https://www.mouterehills.org.nz/event/private-booking-74/
LOCATION:Moutere Hills Community Centre
CATEGORIES:Meeting
END:VEVENT
BEGIN:VEVENT
DTSTART;TZID=Pacific/Auckland:20240621T100000
DTEND;TZID=Pacific/Auckland:20240630T100000
DTSTAMP:20260420T073359
CREATED:20240415T022636Z
LAST-MODIFIED:20240415T022636Z
UID:10009108-1718964000-1719741600@www.mouterehills.org.nz
SUMMARY:Alfreston College
DESCRIPTION:Staying for Kapa Haka
URL:https://www.mouterehills.org.nz/event/alfreston-college/
LOCATION:Moutere Hills Community Centre
CATEGORIES:Community Recreation
END:VEVENT
END:VCALENDAR