BEGIN:VCALENDAR
VERSION:2.0
PRODID:-//Moutere Hills Community Centre - ECPv6.15.19//NONSGML v1.0//EN
CALSCALE:GREGORIAN
METHOD:PUBLISH
X-ORIGINAL-URL:https://www.mouterehills.org.nz
X-WR-CALDESC:Events for Moutere Hills Community Centre
REFRESH-INTERVAL;VALUE=DURATION:PT1H
X-Robots-Tag:noindex
X-PUBLISHED-TTL:PT1H
BEGIN:VTIMEZONE
TZID:Pacific/Auckland
BEGIN:STANDARD
TZOFFSETFROM:+1300
TZOFFSETTO:+1200
TZNAME:NZST
DTSTART:20230401T140000
END:STANDARD
BEGIN:DAYLIGHT
TZOFFSETFROM:+1200
TZOFFSETTO:+1300
TZNAME:NZDT
DTSTART:20230923T140000
END:DAYLIGHT
BEGIN:STANDARD
TZOFFSETFROM:+1300
TZOFFSETTO:+1200
TZNAME:NZST
DTSTART:20240406T140000
END:STANDARD
BEGIN:DAYLIGHT
TZOFFSETFROM:+1200
TZOFFSETTO:+1300
TZNAME:NZDT
DTSTART:20240928T140000
END:DAYLIGHT
BEGIN:STANDARD
TZOFFSETFROM:+1300
TZOFFSETTO:+1200
TZNAME:NZST
DTSTART:20250405T140000
END:STANDARD
BEGIN:DAYLIGHT
TZOFFSETFROM:+1200
TZOFFSETTO:+1300
TZNAME:NZDT
DTSTART:20250927T140000
END:DAYLIGHT
END:VTIMEZONE
BEGIN:VEVENT
DTSTART;TZID=Pacific/Auckland:20240411T093000
DTEND;TZID=Pacific/Auckland:20240411T101500
DTSTAMP:20260420T060610
CREATED:20230105T224725Z
LAST-MODIFIED:20230105T224946Z
UID:10004840-1712827800-1712830500@www.mouterehills.org.nz
SUMMARY:Stretch & Flex with Vicki
DESCRIPTION:Increase flexibility and mobility with slow moving range of motion stretching. Suitable for all ages and abilities. $10 per class or free for Fitness Centre members. Concession cards are also available ($60 for 10 classes). \nBookings essential. Visit the Fitness Centre calendar page to book.
URL:https://www.mouterehills.org.nz/event/stretch-flex-with-vicki-2/2024-04-11/
LOCATION:Moutere Hills Community Centre
CATEGORIES:Exercise Class
END:VEVENT
BEGIN:VEVENT
DTSTART;TZID=Pacific/Auckland:20240411T183000
DTEND;TZID=Pacific/Auckland:20240411T193000
DTSTAMP:20260420T060610
CREATED:20240415T013641Z
LAST-MODIFIED:20240415T013641Z
UID:10009084-1712860200-1712863800@www.mouterehills.org.nz
SUMMARY:Private Booking
DESCRIPTION:Kitchen booking
URL:https://www.mouterehills.org.nz/event/private-booking-66/
LOCATION:Moutere Hills Community Centre
CATEGORIES:Meeting
END:VEVENT
BEGIN:VEVENT
DTSTART;TZID=Pacific/Auckland:20240411T190000
DTEND;TZID=Pacific/Auckland:20240411T213000
DTSTAMP:20260420T060610
CREATED:20230106T023813Z
LAST-MODIFIED:20230106T023813Z
UID:10005589-1712862000-1712871000@www.mouterehills.org.nz
SUMMARY:Adults Competitive Grade Volleyball
DESCRIPTION:This high energy session is a great workout for men and women. Do you have previous Volleyball experience and know the rules? Then come along and join in for a competitive game. Cost is just $3.
URL:https://www.mouterehills.org.nz/event/adults-competitive-grade-volleyball/2024-04-11/
LOCATION:Moutere Hills Community Centre
CATEGORIES:Social Sport
END:VEVENT
BEGIN:VEVENT
DTSTART;TZID=Pacific/Auckland:20240412T090000
DTEND;TZID=Pacific/Auckland:20240412T094500
DTSTAMP:20260420T060610
CREATED:20230106T024042Z
LAST-MODIFIED:20230106T024042Z
UID:10005692-1712912400-1712915100@www.mouterehills.org.nz
SUMMARY:MetaFit and Core with Cindus
DESCRIPTION:Join Cindus for some high intensity interval training. This short-and-sweet class will leave your metabolic rate boosted for hours afterwards. All exercises are body-weight and time-based to allow individuals to work to their own pace. Then finish the class with a core and pelvic muscle workout. \n$10 per person or free for Fitness Centre members. Concession cards available ($60 for 10 classes). \nBookings are essential. Visit the Fitness Centre calendar page to register.
URL:https://www.mouterehills.org.nz/event/metafit-and-core-with-cindus-2/2024-04-12/
LOCATION:Moutere Hills Community Centre
CATEGORIES:Exercise Class
END:VEVENT
BEGIN:VEVENT
DTSTART;TZID=Pacific/Auckland:20240412T093000
DTEND;TZID=Pacific/Auckland:20240412T120000
DTSTAMP:20260420T060610
CREATED:20230428T020518Z
LAST-MODIFIED:20230428T020557Z
UID:10007995-1712914200-1712923200@www.mouterehills.org.nz
SUMMARY:Playgroup
DESCRIPTION:A time for parents of preschoolers and their children to get together to share ideas or concerns and make new friends over a cuppa and some yummy baking. Preschoolers can play with the large variety of toys in a safe\, secure and child-centered environment. Just turn up and bring along your children! \nContact Karen on 021 252 2657 or uppermouterepg@gmail.com for more info.
URL:https://www.mouterehills.org.nz/event/playgroup-2-2/2024-04-12/
LOCATION:Moutere Hills Community Centre
CATEGORIES:Community Recreation
END:VEVENT
BEGIN:VEVENT
DTSTART;TZID=Pacific/Auckland:20240412T100000
DTEND;TZID=Pacific/Auckland:20240412T113000
DTSTAMP:20260420T060610
CREATED:20230428T021040Z
LAST-MODIFIED:20250410T010125Z
UID:10008099-1712916000-1712921400@www.mouterehills.org.nz
SUMMARY:Yoga with Kris
DESCRIPTION:Contact Kris on 0275252814 for more information or to book your spot.
URL:https://www.mouterehills.org.nz/event/yoga-with-kris-2/2024-04-12/
LOCATION:Moutere Hills Community Centre
CATEGORIES:Community Recreation
ORGANIZER;CN="Moutere Hills Community Centre":MAILTO:enquiries@mouterehills.org.nz
END:VEVENT
BEGIN:VEVENT
DTSTART;TZID=Pacific/Auckland:20240412T180000
DTEND;TZID=Pacific/Auckland:20240412T220000
DTSTAMP:20260420T060610
CREATED:20240415T014158Z
LAST-MODIFIED:20240415T014158Z
UID:10009086-1712944800-1712959200@www.mouterehills.org.nz
SUMMARY:Community Bingo Night
DESCRIPTION:Function room booking
URL:https://www.mouterehills.org.nz/event/community-bingo-night/
LOCATION:Moutere Hills Community Centre
CATEGORIES:Event
END:VEVENT
BEGIN:VEVENT
DTSTART;TZID=Pacific/Auckland:20240413T133000
DTEND;TZID=Pacific/Auckland:20240413T150000
DTSTAMP:20260420T060610
CREATED:20230106T024424Z
LAST-MODIFIED:20230117T025605Z
UID:10006050-1713015000-1713020400@www.mouterehills.org.nz
SUMMARY:Youth / Adults Social Basketball
DESCRIPTION:All abilities welcome. No need to book\, just turn up. \n$3 per person. \nContact Jayden on 027 5179488 for more info.
URL:https://www.mouterehills.org.nz/event/youth-adults-social-basketball-3/2024-04-13/
LOCATION:Moutere Hills Community Centre
CATEGORIES:Social Sport
END:VEVENT
BEGIN:VEVENT
DTSTART;TZID=Pacific/Auckland:20240414T160000
DTEND;TZID=Pacific/Auckland:20240414T203000
DTSTAMP:20260420T060610
CREATED:20240415T014428Z
LAST-MODIFIED:20240415T014428Z
UID:10009087-1713110400-1713126600@www.mouterehills.org.nz
SUMMARY:The Depot
DESCRIPTION:Church service
URL:https://www.mouterehills.org.nz/event/the-depot/
LOCATION:Moutere Hills Community Centre
CATEGORIES:Event
END:VEVENT
BEGIN:VEVENT
DTSTART;TZID=Pacific/Auckland:20240415T161500
DTEND;TZID=Pacific/Auckland:20240415T170000
DTSTAMP:20260420T060610
CREATED:20231011T020559Z
LAST-MODIFIED:20231011T020559Z
UID:10008549-1713197700-1713200400@www.mouterehills.org.nz
SUMMARY:Teen Bootcamp
DESCRIPTION:Join Josh for this fun class incorporating resistance training and cardio.  Suitable for teenagers of all abilities. \n$6 per class or free for Fitness Centre members.
URL:https://www.mouterehills.org.nz/event/teen-bootcamp/2024-04-15/
LOCATION:Moutere Hills Community Centre
CATEGORIES:Exercise Class
END:VEVENT
BEGIN:VEVENT
DTSTART;TZID=Pacific/Auckland:20240415T180000
DTEND;TZID=Pacific/Auckland:20240415T184500
DTSTAMP:20260420T060610
CREATED:20240418T234819Z
LAST-MODIFIED:20240418T234820Z
UID:10009124-1713204000-1713206700@www.mouterehills.org.nz
SUMMARY:Pilates
DESCRIPTION:Join Kris in our Pilates class.  Pilates is a low-impact workout which is great for strengthening your muscles though controlled\, repetitive movements\, building muscular endurance and stability.  This class will is not aimed at the beginner. \n$10 casual\, $60 for a 10 class concession card or free for fitness centre members.
URL:https://www.mouterehills.org.nz/event/pilates-3-2/2024-04-15/
LOCATION:Moutere Hills Community Centre
CATEGORIES:Exercise Class
END:VEVENT
BEGIN:VEVENT
DTSTART;TZID=Pacific/Auckland:20240415T190000
DTEND;TZID=Pacific/Auckland:20240415T200000
DTSTAMP:20260420T060610
CREATED:20240415T012946Z
LAST-MODIFIED:20240415T013331Z
UID:10009082-1713207600-1713211200@www.mouterehills.org.nz
SUMMARY:Private Booking
DESCRIPTION:Hyatt room booking
URL:https://www.mouterehills.org.nz/event/private-booking-64/
LOCATION:Moutere Hills Community Centre
CATEGORIES:Meeting
END:VEVENT
BEGIN:VEVENT
DTSTART;TZID=Pacific/Auckland:20240415T190000
DTEND;TZID=Pacific/Auckland:20240415T200000
DTSTAMP:20260420T060610
CREATED:20240415T013812Z
LAST-MODIFIED:20240415T013812Z
UID:10009085-1713207600-1713211200@www.mouterehills.org.nz
SUMMARY:Private booking
DESCRIPTION:Function room booking
URL:https://www.mouterehills.org.nz/event/private-booking-67/
LOCATION:Moutere Hills Community Centre
CATEGORIES:Meeting
END:VEVENT
BEGIN:VEVENT
DTSTART;TZID=Pacific/Auckland:20240416T090000
DTEND;TZID=Pacific/Auckland:20240416T150000
DTSTAMP:20260420T060610
CREATED:20240418T235342Z
LAST-MODIFIED:20240418T235342Z
UID:10009913-1713258000-1713279600@www.mouterehills.org.nz
SUMMARY:Quirky Quilters
DESCRIPTION:Thursdays 10:00am-2:00pm. \nPlease contact the office on 03 5432516 for more details.
URL:https://www.mouterehills.org.nz/event/quirky-quilters-2-2-2/2024-04-16/
CATEGORIES:Community Recreation
END:VEVENT
BEGIN:VEVENT
DTSTART;TZID=Pacific/Auckland:20240416T170000
DTEND;TZID=Pacific/Auckland:20240416T180000
DTSTAMP:20260420T060610
CREATED:20240415T015039Z
LAST-MODIFIED:20240415T015039Z
UID:10009088-1713286800-1713290400@www.mouterehills.org.nz
SUMMARY:Kai Collective
DESCRIPTION:Kitchen evening
URL:https://www.mouterehills.org.nz/event/kai-collective-4/
LOCATION:Moutere Hills Community Centre
CATEGORIES:Meeting
END:VEVENT
BEGIN:VEVENT
DTSTART;TZID=Pacific/Auckland:20240416T180000
DTEND;TZID=Pacific/Auckland:20240416T193000
DTSTAMP:20260420T060610
CREATED:20230105T231008Z
LAST-MODIFIED:20230105T231008Z
UID:10005360-1713290400-1713295800@www.mouterehills.org.nz
SUMMARY:Rangers Rugby Club Social Touch
DESCRIPTION:A fun social game of touch for all skill and fitness levels. All ages welcome! \nGold coin donation.
URL:https://www.mouterehills.org.nz/event/rangers-rugby-club-social-touch/2024-04-16/
LOCATION:Moutere Hills Community Centre
CATEGORIES:Social Sport
END:VEVENT
BEGIN:VEVENT
DTSTART;TZID=Pacific/Auckland:20240416T183000
DTEND;TZID=Pacific/Auckland:20240416T200000
DTSTAMP:20260420T060610
CREATED:20240419T000334Z
LAST-MODIFIED:20240419T000335Z
UID:10010495-1713292200-1713297600@www.mouterehills.org.nz
SUMMARY:Ballroom Dancing with Becks
DESCRIPTION:Come along to a fun adult beginners Ballroom dance class.  Cha cha\, samba\, foxtrot\, jive\, waltz\, rumba and more.  No partners necessary.  Beginner class is on from 6:30pm – 7:15pm and then an improver class from 7:00pm – 8:00pm \n$10 per class. \nContact Becks on dancingbecks@hotmail.com or cell 021482263
URL:https://www.mouterehills.org.nz/event/ballroom-dancing-with-becks-2/2024-04-16/
LOCATION:Moutere Hills Community Centre
CATEGORIES:Community Recreation,Social Sport
ORGANIZER;CN="Moutere Hills Community Centre":MAILTO:enquiries@mouterehills.org.nz
END:VEVENT
BEGIN:VEVENT
DTSTART;TZID=Pacific/Auckland:20240418T183000
DTEND;TZID=Pacific/Auckland:20240418T200000
DTSTAMP:20260420T060610
CREATED:20240415T015239Z
LAST-MODIFIED:20240415T015239Z
UID:10009089-1713465000-1713470400@www.mouterehills.org.nz
SUMMARY:Private Booking
DESCRIPTION:Kitchen booking
URL:https://www.mouterehills.org.nz/event/private-booking-68/
LOCATION:Moutere Hills Community Centre
CATEGORIES:Meeting
END:VEVENT
BEGIN:VEVENT
DTSTART;TZID=Pacific/Auckland:20240419T090000
DTEND;TZID=Pacific/Auckland:20240419T094500
DTSTAMP:20260420T060610
CREATED:20240419T011921Z
LAST-MODIFIED:20250410T014732Z
UID:10012763-1713517200-1713519900@www.mouterehills.org.nz
SUMMARY:Pilates with Kris
DESCRIPTION:Join Kris for this great pilates class.  $12 for casual\, $80 for 10 class concession card or free for fitness centre members.
URL:https://www.mouterehills.org.nz/event/pilates-with-kris/2024-04-19/
LOCATION:Moutere Hills Community Centre
CATEGORIES:Exercise Class
END:VEVENT
BEGIN:VEVENT
DTSTART;TZID=Pacific/Auckland:20240424T173000
DTEND;TZID=Pacific/Auckland:20240424T203000
DTSTAMP:20260420T060610
CREATED:20240415T015535Z
LAST-MODIFIED:20240415T015535Z
UID:10009090-1713979800-1713990600@www.mouterehills.org.nz
SUMMARY:Private Booking
DESCRIPTION:Top Of The South Rural Support Trust – Function room and kitchen booking
URL:https://www.mouterehills.org.nz/event/private-booking-69/
LOCATION:Moutere Hills Community Centre
CATEGORIES:Meeting
END:VEVENT
BEGIN:VEVENT
DTSTART;TZID=Pacific/Auckland:20240425T100000
DTEND;TZID=Pacific/Auckland:20240425T150000
DTSTAMP:20260420T060610
CREATED:20240415T015727Z
LAST-MODIFIED:20240415T015727Z
UID:10009091-1714039200-1714057200@www.mouterehills.org.nz
SUMMARY:ANZAC Day Service
DESCRIPTION:ANZAC Day Service
URL:https://www.mouterehills.org.nz/event/anzac-day-service-2/
LOCATION:Moutere Hills Community Centre
CATEGORIES:Event
END:VEVENT
BEGIN:VEVENT
DTSTART;TZID=Pacific/Auckland:20240425T113000
DTEND;TZID=Pacific/Auckland:20240425T150000
DTSTAMP:20260420T060610
CREATED:20240415T020028Z
LAST-MODIFIED:20240415T020028Z
UID:10009092-1714044600-1714057200@www.mouterehills.org.nz
SUMMARY:Private Booking
DESCRIPTION:Sports hall and function room booking
URL:https://www.mouterehills.org.nz/event/private-booking-70/
LOCATION:Moutere Hills Community Centre
CATEGORIES:Meeting
END:VEVENT
BEGIN:VEVENT
DTSTART;TZID=Pacific/Auckland:20240427T110000
DTEND;TZID=Pacific/Auckland:20240427T150000
DTSTAMP:20260420T060610
CREATED:20240415T020239Z
LAST-MODIFIED:20240415T020239Z
UID:10009093-1714215600-1714230000@www.mouterehills.org.nz
SUMMARY:Valley Stags Game
DESCRIPTION:Home game
URL:https://www.mouterehills.org.nz/event/valley-stags-game/
LOCATION:Moutere Hills Community Centre
CATEGORIES:Social Sport
END:VEVENT
BEGIN:VEVENT
DTSTART;TZID=Pacific/Auckland:20240428T103000
DTEND;TZID=Pacific/Auckland:20240428T140000
DTSTAMP:20260420T060610
CREATED:20240415T020420Z
LAST-MODIFIED:20240415T020420Z
UID:10009094-1714300200-1714312800@www.mouterehills.org.nz
SUMMARY:Church Service
DESCRIPTION:Church service
URL:https://www.mouterehills.org.nz/event/church-service/
LOCATION:Moutere Hills Community Centre
CATEGORIES:Meeting
END:VEVENT
BEGIN:VEVENT
DTSTART;TZID=Pacific/Auckland:20240428T160000
DTEND;TZID=Pacific/Auckland:20240428T203000
DTSTAMP:20260420T060610
CREATED:20240415T020541Z
LAST-MODIFIED:20240415T020541Z
UID:10009095-1714320000-1714336200@www.mouterehills.org.nz
SUMMARY:The Depot
DESCRIPTION:Church service
URL:https://www.mouterehills.org.nz/event/the-depot-2/
LOCATION:Moutere Hills Community Centre
CATEGORIES:Meeting
END:VEVENT
BEGIN:VEVENT
DTSTART;TZID=Pacific/Auckland:20240429T153000
DTEND;TZID=Pacific/Auckland:20240429T161500
DTSTAMP:20260420T060610
CREATED:20240419T010240Z
LAST-MODIFIED:20240419T010240Z
UID:10011279-1714404600-1714407300@www.mouterehills.org.nz
SUMMARY:Kids Ballroom/Latin Dance
DESCRIPTION:Join Becks for a fun introduction to Ballroom and Latin Dance.  For more details or to book contact Becks on 021482263
URL:https://www.mouterehills.org.nz/event/kids-ballroom-latin-dance/2024-04-29/
LOCATION:Moutere Hills Community Centre
END:VEVENT
BEGIN:VEVENT
DTSTART;TZID=Pacific/Auckland:20240430T150000
DTEND;TZID=Pacific/Auckland:20240430T190000
DTSTAMP:20260420T060610
CREATED:20240415T020741Z
LAST-MODIFIED:20240415T020741Z
UID:10009096-1714489200-1714503600@www.mouterehills.org.nz
SUMMARY:NZ  Hops
DESCRIPTION:Function room booking
URL:https://www.mouterehills.org.nz/event/nz-hops/
LOCATION:Moutere Hills Community Centre
CATEGORIES:Meeting
END:VEVENT
BEGIN:VEVENT
DTSTART;TZID=Pacific/Auckland:20240503T080000
DTEND;TZID=Pacific/Auckland:20240503T084500
DTSTAMP:20260420T060610
CREATED:20240419T012839Z
LAST-MODIFIED:20240423T020724Z
UID:10013084-1714723200-1714725900@www.mouterehills.org.nz
SUMMARY:Introduction to Pilates
DESCRIPTION:Join Kris for some specialist support to make the most out of our pilates classes.  Takes place on the first Friday of each month. $15 per session.  Limited to a maximum of 6 participants.
URL:https://www.mouterehills.org.nz/event/introduction-to-pilates/2024-05-03/
LOCATION:Moutere Hills Community Centre
CATEGORIES:Exercise Class
END:VEVENT
BEGIN:VEVENT
DTSTART;TZID=Pacific/Auckland:20240507T093000
DTEND;TZID=Pacific/Auckland:20240507T113000
DTSTAMP:20260420T060610
CREATED:20240415T020905Z
LAST-MODIFIED:20240415T020905Z
UID:10009097-1715074200-1715081400@www.mouterehills.org.nz
SUMMARY:Quilting
DESCRIPTION:Function room booking
URL:https://www.mouterehills.org.nz/event/quilting/
LOCATION:Moutere Hills Community Centre
CATEGORIES:Meeting
END:VEVENT
BEGIN:VEVENT
DTSTART;TZID=Pacific/Auckland:20240509T090000
DTEND;TZID=Pacific/Auckland:20240509T124500
DTSTAMP:20260420T060610
CREATED:20240415T021048Z
LAST-MODIFIED:20240415T021048Z
UID:10009098-1715245200-1715258700@www.mouterehills.org.nz
SUMMARY:Private Booking
DESCRIPTION:Home school first aid – function room booking
URL:https://www.mouterehills.org.nz/event/private-booking-71/
LOCATION:Moutere Hills Community Centre
CATEGORIES:Meeting
END:VEVENT
END:VCALENDAR