BEGIN:VCALENDAR
VERSION:2.0
PRODID:-//Moutere Hills Community Centre - ECPv6.15.19//NONSGML v1.0//EN
CALSCALE:GREGORIAN
METHOD:PUBLISH
X-WR-CALNAME:Moutere Hills Community Centre
X-ORIGINAL-URL:https://www.mouterehills.org.nz
X-WR-CALDESC:Events for Moutere Hills Community Centre
REFRESH-INTERVAL;VALUE=DURATION:PT1H
X-Robots-Tag:noindex
X-PUBLISHED-TTL:PT1H
BEGIN:VTIMEZONE
TZID:Pacific/Auckland
BEGIN:STANDARD
TZOFFSETFROM:+1300
TZOFFSETTO:+1200
TZNAME:NZST
DTSTART:20240406T140000
END:STANDARD
BEGIN:DAYLIGHT
TZOFFSETFROM:+1200
TZOFFSETTO:+1300
TZNAME:NZDT
DTSTART:20240928T140000
END:DAYLIGHT
BEGIN:STANDARD
TZOFFSETFROM:+1300
TZOFFSETTO:+1200
TZNAME:NZST
DTSTART:20250405T140000
END:STANDARD
BEGIN:DAYLIGHT
TZOFFSETFROM:+1200
TZOFFSETTO:+1300
TZNAME:NZDT
DTSTART:20250927T140000
END:DAYLIGHT
BEGIN:STANDARD
TZOFFSETFROM:+1300
TZOFFSETTO:+1200
TZNAME:NZST
DTSTART:20260404T140000
END:STANDARD
BEGIN:DAYLIGHT
TZOFFSETFROM:+1200
TZOFFSETTO:+1300
TZNAME:NZDT
DTSTART:20260926T140000
END:DAYLIGHT
END:VTIMEZONE
BEGIN:VEVENT
DTSTART;TZID=Pacific/Auckland:20250627T180000
DTEND;TZID=Pacific/Auckland:20250627T230000
DTSTAMP:20260421T134506
CREATED:20250516T043834Z
LAST-MODIFIED:20250516T043834Z
UID:10031949-1751047200-1751065200@www.mouterehills.org.nz
SUMMARY:High Stakes and Hot Plates Fundraiser
DESCRIPTION:Mark your calendar for our fundraiser! Expect a fun night with great food\, a few surprises\, and all proceeds go towards the the gym expansion. Tickets $45 and can be purchased from the office. \nSee upcoming events page for more info
URL:https://www.mouterehills.org.nz/event/high-stakes-and-hot-plates-fundraiser/
LOCATION:Function room
CATEGORIES:Event
END:VEVENT
BEGIN:VEVENT
DTSTART;TZID=Pacific/Auckland:20250703T160000
DTEND;TZID=Pacific/Auckland:20250703T220000
DTSTAMP:20260421T134506
CREATED:20250311T202112Z
LAST-MODIFIED:20250311T202112Z
UID:10028725-1751558400-1751580000@www.mouterehills.org.nz
SUMMARY:Whenua iti
DESCRIPTION:Kitchen all day \nFunction room 4pm – 10pm
URL:https://www.mouterehills.org.nz/event/whenua-iti-2/
LOCATION:Moutere Hills Community Centre
CATEGORIES:Event
END:VEVENT
BEGIN:VEVENT
DTSTART;TZID=Pacific/Auckland:20250703T160000
DTEND;TZID=Pacific/Auckland:20250703T223000
DTSTAMP:20260421T134506
CREATED:20250428T214322Z
LAST-MODIFIED:20250428T214322Z
UID:10031760-1751558400-1751581800@www.mouterehills.org.nz
SUMMARY:Whenua Iti
DESCRIPTION:Dinner event
URL:https://www.mouterehills.org.nz/event/whenua-iti-3/
LOCATION:Function room
CATEGORIES:Event
END:VEVENT
BEGIN:VEVENT
DTSTART;TZID=Pacific/Auckland:20250703T160000
DTEND;TZID=Pacific/Auckland:20250703T223000
DTSTAMP:20260421T134506
CREATED:20250529T011215Z
LAST-MODIFIED:20250529T011215Z
UID:10031960-1751558400-1751581800@www.mouterehills.org.nz
SUMMARY:Whenua Iti booking
DESCRIPTION:
URL:https://www.mouterehills.org.nz/event/whenua-iti-booking/
LOCATION:Moutere Hills Community Centre
CATEGORIES:Event
END:VEVENT
BEGIN:VEVENT
DTSTART;TZID=Pacific/Auckland:20250704T190000
DTEND;TZID=Pacific/Auckland:20250704T210000
DTSTAMP:20260421T134506
CREATED:20250527T220433Z
LAST-MODIFIED:20250527T220433Z
UID:10031954-1751655600-1751662800@www.mouterehills.org.nz
SUMMARY:OKC Talk
DESCRIPTION:
URL:https://www.mouterehills.org.nz/event/okc-talk/
LOCATION:Function room
CATEGORIES:Event
END:VEVENT
BEGIN:VEVENT
DTSTART;TZID=Pacific/Auckland:20250705T133000
DTEND;TZID=Pacific/Auckland:20250705T170000
DTSTAMP:20260421T134506
CREATED:20250428T214410Z
LAST-MODIFIED:20250428T214410Z
UID:10031761-1751722200-1751734800@www.mouterehills.org.nz
SUMMARY:Valley Stags Home game
DESCRIPTION:
URL:https://www.mouterehills.org.nz/event/valley-stags-home-game-3/
LOCATION:Moutere Hills Community Centre
CATEGORIES:Community Recreation
END:VEVENT
BEGIN:VEVENT
DTSTART;TZID=Pacific/Auckland:20250705T140000
DTEND;TZID=Pacific/Auckland:20250705T210000
DTSTAMP:20260421T134506
CREATED:20250529T011316Z
LAST-MODIFIED:20250529T011316Z
UID:10031961-1751724000-1751749200@www.mouterehills.org.nz
SUMMARY:Valley Stags Home game
DESCRIPTION:
URL:https://www.mouterehills.org.nz/event/valley-stags-home-game-4/
LOCATION:Moutere Hills Community Centre
CATEGORIES:Event
END:VEVENT
BEGIN:VEVENT
DTSTART;TZID=Pacific/Auckland:20250719T110000
DTEND;TZID=Pacific/Auckland:20250719T150000
DTSTAMP:20260421T134506
CREATED:20250211T231259Z
LAST-MODIFIED:20250718T101702Z
UID:10032038-1752922800-1752937200@www.mouterehills.org.nz
SUMMARY:Sarau Winter Sale
DESCRIPTION:Annual winter book fair
URL:https://www.mouterehills.org.nz/event/sarau-winter-sale-4/2025-07-19/
LOCATION:Moutere Hills Community Centre
CATEGORIES:Event
END:VEVENT
BEGIN:VEVENT
DTSTART;TZID=Pacific/Auckland:20250719T110000
DTEND;TZID=Pacific/Auckland:20250719T150000
DTSTAMP:20260421T134506
CREATED:20250428T214523Z
LAST-MODIFIED:20250718T101027Z
UID:10031762-1752922800-1752937200@www.mouterehills.org.nz
SUMMARY:Sarau Winter Sale
DESCRIPTION:
URL:https://www.mouterehills.org.nz/event/sarau-winter-sale-5/2025-07-19/
LOCATION:Moutere Hills Community Centre
CATEGORIES:Event
END:VEVENT
BEGIN:VEVENT
DTSTART;TZID=Pacific/Auckland:20250720T173000
DTEND;TZID=Pacific/Auckland:20250720T193000
DTSTAMP:20260421T134506
CREATED:20250605T213831Z
LAST-MODIFIED:20250605T213831Z
UID:10032031-1753032600-1753039800@www.mouterehills.org.nz
SUMMARY:Community Booking
DESCRIPTION:
URL:https://www.mouterehills.org.nz/event/community-booking/
LOCATION:Community Room
CATEGORIES:Event
END:VEVENT
BEGIN:VEVENT
DTSTART;TZID=Pacific/Auckland:20250723T154500
DTEND;TZID=Pacific/Auckland:20250723T190000
DTSTAMP:20260421T134506
CREATED:20250721T221734Z
LAST-MODIFIED:20260105T022734Z
UID:10032337-1753285500-1753297200@www.mouterehills.org.nz
SUMMARY:Legacy Dance
DESCRIPTION:Classes from 3:45pm to 7:00pm \nContact Annie for more info \nemail: legacydancenz@gmail.com
URL:https://www.mouterehills.org.nz/event/legacy-dance-term-three/2025-07-23/
LOCATION:Moutere Hills Community Centre
CATEGORIES:Community Recreation
END:VEVENT
BEGIN:VEVENT
DTSTART;TZID=Pacific/Auckland:20250724T103000
DTEND;TZID=Pacific/Auckland:20250724T133000
DTSTAMP:20260421T134506
CREATED:20250721T222618Z
LAST-MODIFIED:20250721T222618Z
UID:10032411-1753353000-1753363800@www.mouterehills.org.nz
SUMMARY:Ballroom term Three
DESCRIPTION:Homeschool class 10:30am to 12:30pm \nPrivate lesson 12:30pm to 1:30pm \nContact MHCC or Becks 021 482 263
URL:https://www.mouterehills.org.nz/event/ballroom-term-three/
LOCATION:Moutere Hills Community Centre
CATEGORIES:Community Recreation
END:VEVENT
BEGIN:VEVENT
DTSTART;TZID=Pacific/Auckland:20250725T100000
DTEND;TZID=Pacific/Auckland:20250725T111500
DTSTAMP:20260421T134506
CREATED:20250721T230720Z
LAST-MODIFIED:20250721T230720Z
UID:10032450-1753437600-1753442100@www.mouterehills.org.nz
SUMMARY:Yoga with Kris - Friday
DESCRIPTION:Contact Kris on 0275252814 for more information or to book your spot.
URL:https://www.mouterehills.org.nz/event/yoga-with-kris-friday/2025-07-25/
LOCATION:Moutere Hills Community Centre
CATEGORIES:Community Recreation
END:VEVENT
BEGIN:VEVENT
DTSTART;TZID=Pacific/Auckland:20250725T190000
DTEND;TZID=Pacific/Auckland:20250725T213000
DTSTAMP:20260421T134506
CREATED:20250618T004845Z
LAST-MODIFIED:20250618T004845Z
UID:10032033-1753470000-1753479000@www.mouterehills.org.nz
SUMMARY:Social Night
DESCRIPTION:More to come – open to public
URL:https://www.mouterehills.org.nz/event/social-night/
LOCATION:Function room
CATEGORIES:Event
END:VEVENT
BEGIN:VEVENT
DTSTART;TZID=Pacific/Auckland:20250726T100000
DTEND;TZID=Pacific/Auckland:20250726T163000
DTSTAMP:20260421T134506
CREATED:20250721T233311Z
LAST-MODIFIED:20250721T233311Z
UID:10032538-1753524000-1753547400@www.mouterehills.org.nz
SUMMARY:Birthday party - Private event
DESCRIPTION:Community room & Sports hall
URL:https://www.mouterehills.org.nz/event/birthday-party-private-event/
LOCATION:Moutere Hills Community Centre
CATEGORIES:Event
END:VEVENT
BEGIN:VEVENT
DTSTART;TZID=Pacific/Auckland:20250727T090000
DTEND;TZID=Pacific/Auckland:20250727T160000
DTSTAMP:20260421T134506
CREATED:20250527T220924Z
LAST-MODIFIED:20250527T220924Z
UID:10031955-1753606800-1753632000@www.mouterehills.org.nz
SUMMARY:Vanuatu Community
DESCRIPTION:Sports hall\, function room & Kitchen
URL:https://www.mouterehills.org.nz/event/vanuatu-community/
LOCATION:Moutere Hills Community Centre
CATEGORIES:Event
END:VEVENT
BEGIN:VEVENT
DTSTART;TZID=Pacific/Auckland:20250727T090000
DTEND;TZID=Pacific/Auckland:20250727T160000
DTSTAMP:20260421T134506
CREATED:20250618T005124Z
LAST-MODIFIED:20250618T005124Z
UID:10032035-1753606800-1753632000@www.mouterehills.org.nz
SUMMARY:Private Booking
DESCRIPTION:whole centre
URL:https://www.mouterehills.org.nz/event/private-booking-91/
LOCATION:Moutere Hills Community Centre
CATEGORIES:Event
END:VEVENT
BEGIN:VEVENT
DTSTART;TZID=Pacific/Auckland:20250728T140000
DTEND;TZID=Pacific/Auckland:20250728T151500
DTSTAMP:20260421T134506
CREATED:20250721T231640Z
LAST-MODIFIED:20250721T231640Z
UID:10032471-1753711200-1753715700@www.mouterehills.org.nz
SUMMARY:Kids Ballroom/Latin Dance -
DESCRIPTION:Join Becks for a fun introduction to Ballroom and Latin Dance for children 6 – 9 yrs. \nFor more details – Contact Becks on dancingbecks@hotmail.com or cell 021 482 263 \nPrivate Lesson 2:00pm to 2:30pm \nFor 6 – 9 yrs   2:30 to 3:15pm
URL:https://www.mouterehills.org.nz/event/kids-ballroom-latin-dance-3/2025-07-28/
LOCATION:Moutere Hills Community Centre
CATEGORIES:Community Recreation
END:VEVENT
BEGIN:VEVENT
DTSTART;TZID=Pacific/Auckland:20250731T090000
DTEND;TZID=Pacific/Auckland:20250731T150000
DTSTAMP:20260421T134506
CREATED:20250731T022020Z
LAST-MODIFIED:20250826T224149Z
UID:10032622-1753952400-1753974000@www.mouterehills.org.nz
SUMMARY:Moutere Cluster Sports day
DESCRIPTION:Tennis courts
URL:https://www.mouterehills.org.nz/event/moutere-cluster-sports-day/2025-07-31/2/
LOCATION:Sports Hall
CATEGORIES:Event
END:VEVENT
BEGIN:VEVENT
DTSTART;TZID=Pacific/Auckland:20250801T180000
DTEND;TZID=Pacific/Auckland:20250801T220000
DTSTAMP:20260421T134507
CREATED:20250618T005019Z
LAST-MODIFIED:20250618T005019Z
UID:10032034-1754071200-1754085600@www.mouterehills.org.nz
SUMMARY:Private booking
DESCRIPTION:Whole centre
URL:https://www.mouterehills.org.nz/event/private-booking-90/
LOCATION:Moutere Hills Community Centre
CATEGORIES:Event
END:VEVENT
BEGIN:VEVENT
DTSTART;TZID=Pacific/Auckland:20250802T090000
DTEND;TZID=Pacific/Auckland:20250802T230000
DTSTAMP:20260421T134507
CREATED:20250721T233843Z
LAST-MODIFIED:20250721T233843Z
UID:10032539-1754125200-1754175600@www.mouterehills.org.nz
SUMMARY:Kitchen booking
DESCRIPTION:All day
URL:https://www.mouterehills.org.nz/event/kitchen-booking/
LOCATION:Kitchen
CATEGORIES:Event
END:VEVENT
BEGIN:VEVENT
DTSTART;TZID=Pacific/Auckland:20250802T130000
DTEND;TZID=Pacific/Auckland:20250802T220000
DTSTAMP:20260421T134507
CREATED:20250311T193135Z
LAST-MODIFIED:20250311T193135Z
UID:10028724-1754139600-1754172000@www.mouterehills.org.nz
SUMMARY:UMO Fire Brigade
DESCRIPTION:Private function
URL:https://www.mouterehills.org.nz/event/umo-fire-brigade/
LOCATION:Moutere Hills Community Centre
CATEGORIES:Event
END:VEVENT
BEGIN:VEVENT
DTSTART;TZID=Pacific/Auckland:20250803T150000
DTEND;TZID=Pacific/Auckland:20250803T160000
DTSTAMP:20260421T134507
CREATED:20250721T224329Z
LAST-MODIFIED:20250721T235713Z
UID:10032430-1754233200-1754236800@www.mouterehills.org.nz
SUMMARY:Private Dance Lessons
DESCRIPTION:Contact Becks on dancingbecks@hotmail.com or cell 021482263
URL:https://www.mouterehills.org.nz/event/private-dance-lessons/2025-08-03/
LOCATION:Moutere Hills Community Centre
CATEGORIES:Community Recreation
END:VEVENT
BEGIN:VEVENT
DTSTART;TZID=Pacific/Auckland:20250803T160000
DTEND;TZID=Pacific/Auckland:20250803T180000
DTSTAMP:20260421T134507
CREATED:20250731T020646Z
LAST-MODIFIED:20250731T020646Z
UID:10032555-1754236800-1754244000@www.mouterehills.org.nz
SUMMARY:Private Ballroom Lessons
DESCRIPTION:
URL:https://www.mouterehills.org.nz/event/private-ballroom-lessons/2025-08-03/
LOCATION:Sports Hall
CATEGORIES:Event
END:VEVENT
BEGIN:VEVENT
DTSTART;TZID=Pacific/Auckland:20250808T153000
DTEND;TZID=Pacific/Auckland:20250808T170000
DTSTAMP:20260421T134507
CREATED:20250731T021234Z
LAST-MODIFIED:20250731T021234Z
UID:10032618-1754667000-1754672400@www.mouterehills.org.nz
SUMMARY:one forty one drop in session
DESCRIPTION:
URL:https://www.mouterehills.org.nz/event/one-forty-one-drop-in-session/
LOCATION:Function room
CATEGORIES:Event
END:VEVENT
BEGIN:VEVENT
DTSTART;TZID=Pacific/Auckland:20250808T183000
DTEND;TZID=Pacific/Auckland:20250808T203000
DTSTAMP:20260421T134507
CREATED:20250731T021323Z
LAST-MODIFIED:20250731T021323Z
UID:10032619-1754677800-1754685000@www.mouterehills.org.nz
SUMMARY:Becks bootcamp
DESCRIPTION:
URL:https://www.mouterehills.org.nz/event/becks-bootcamp-2/
LOCATION:Sports Hall
CATEGORIES:Event
END:VEVENT
BEGIN:VEVENT
DTSTART;TZID=Pacific/Auckland:20250809T170000
DTEND;TZID=Pacific/Auckland:20250809T213000
DTSTAMP:20260421T134507
CREATED:20250721T234148Z
LAST-MODIFIED:20250721T234148Z
UID:10032540-1754758800-1754775000@www.mouterehills.org.nz
SUMMARY:Young Farmers Quiz night
DESCRIPTION:
URL:https://www.mouterehills.org.nz/event/young-farmers-quiz-night/
LOCATION:Moutere Hills Community Centre
CATEGORIES:Event
END:VEVENT
BEGIN:VEVENT
DTSTART;TZID=Pacific/Auckland:20250810T100000
DTEND;TZID=Pacific/Auckland:20250810T130000
DTSTAMP:20260421T134507
CREATED:20250731T021606Z
LAST-MODIFIED:20250731T021606Z
UID:10032620-1754820000-1754830800@www.mouterehills.org.nz
SUMMARY:Private Kids Birthday party
DESCRIPTION:Community room & Sports Hall
URL:https://www.mouterehills.org.nz/event/private-kids-birthday-party/
LOCATION:Community Room
CATEGORIES:Event
END:VEVENT
BEGIN:VEVENT
DTSTART;TZID=Pacific/Auckland:20250810T120000
DTEND;TZID=Pacific/Auckland:20250810T160000
DTSTAMP:20260421T134507
CREATED:20250605T213052Z
LAST-MODIFIED:20250605T213052Z
UID:10032027-1754827200-1754841600@www.mouterehills.org.nz
SUMMARY:Private booking
DESCRIPTION:Kitchen & Function room
URL:https://www.mouterehills.org.nz/event/private-booking-88/
LOCATION:Function room
CATEGORIES:Event
END:VEVENT
BEGIN:VEVENT
DTSTART;TZID=Pacific/Auckland:20250810T180000
DTEND;TZID=Pacific/Auckland:20250810T200000
DTSTAMP:20260421T134507
CREATED:20250721T224103Z
LAST-MODIFIED:20250721T224103Z
UID:10032412-1754848800-1754856000@www.mouterehills.org.nz
SUMMARY:Dance Classes - Ballroom/Latin
DESCRIPTION:Come along to a fun adult beginners Ballroom dance class \nContact Becks on dancingbecks@hotmail.com or cell 021482263
URL:https://www.mouterehills.org.nz/event/dance-classes-ballroom-latin/2025-08-10/
LOCATION:Moutere Hills Community Centre
CATEGORIES:Community Recreation
END:VEVENT
END:VCALENDAR