BEGIN:VCALENDAR
VERSION:2.0
PRODID:-//Moutere Hills Community Centre - ECPv6.15.19//NONSGML v1.0//EN
CALSCALE:GREGORIAN
METHOD:PUBLISH
X-ORIGINAL-URL:https://www.mouterehills.org.nz
X-WR-CALDESC:Events for Moutere Hills Community Centre
REFRESH-INTERVAL;VALUE=DURATION:PT1H
X-Robots-Tag:noindex
X-PUBLISHED-TTL:PT1H
BEGIN:VTIMEZONE
TZID:Pacific/Auckland
BEGIN:STANDARD
TZOFFSETFROM:+1300
TZOFFSETTO:+1200
TZNAME:NZST
DTSTART:20240406T140000
END:STANDARD
BEGIN:DAYLIGHT
TZOFFSETFROM:+1200
TZOFFSETTO:+1300
TZNAME:NZDT
DTSTART:20240928T140000
END:DAYLIGHT
BEGIN:STANDARD
TZOFFSETFROM:+1300
TZOFFSETTO:+1200
TZNAME:NZST
DTSTART:20250405T140000
END:STANDARD
BEGIN:DAYLIGHT
TZOFFSETFROM:+1200
TZOFFSETTO:+1300
TZNAME:NZDT
DTSTART:20250927T140000
END:DAYLIGHT
BEGIN:STANDARD
TZOFFSETFROM:+1300
TZOFFSETTO:+1200
TZNAME:NZST
DTSTART:20260404T140000
END:STANDARD
BEGIN:DAYLIGHT
TZOFFSETFROM:+1200
TZOFFSETTO:+1300
TZNAME:NZDT
DTSTART:20260926T140000
END:DAYLIGHT
BEGIN:STANDARD
TZOFFSETFROM:+1300
TZOFFSETTO:+1200
TZNAME:NZST
DTSTART:20270403T140000
END:STANDARD
BEGIN:DAYLIGHT
TZOFFSETFROM:+1200
TZOFFSETTO:+1300
TZNAME:NZDT
DTSTART:20270925T140000
END:DAYLIGHT
END:VTIMEZONE
BEGIN:VEVENT
DTSTART;TZID=Pacific/Auckland:20251222T090000
DTEND;TZID=Pacific/Auckland:20251222T094500
DTSTAMP:20260420T071851
CREATED:20250128T195500Z
LAST-MODIFIED:20250410T025234Z
UID:10025267-1766394000-1766396700@www.mouterehills.org.nz
SUMMARY:Re-Activate
DESCRIPTION:A social workout\, designed to improve overall mobility and fitness through a functional fitness approach. This class is suitable for those just getting back into exercise\, those with a lower level of fitness or those who simply want to enjoy social interaction. All exercises can be tailored to suit individual needs and will be set to a level in which individuals determine their own exercise intensity. $12 per person or free for Fitness Centre members. Concession cards also available\, $80 for 10 classes. \nBookings are essential.
URL:https://www.mouterehills.org.nz/event/re-activate-3/2025-12-22/
LOCATION:Moutere Hills Community Centre
CATEGORIES:Exercise Class
END:VEVENT
BEGIN:VEVENT
DTSTART;TZID=Pacific/Auckland:20251222T103000
DTEND;TZID=Pacific/Auckland:20251222T113000
DTSTAMP:20260420T071851
CREATED:20250128T200713Z
LAST-MODIFIED:20251127T025844Z
UID:10033256-1766399400-1766403000@www.mouterehills.org.nz
SUMMARY:Pickleball
DESCRIPTION:Come along and give this new sport a go. \nSuitable for all ability levels \nCost $3 per session
URL:https://www.mouterehills.org.nz/event/pickleball-2/2025-12-22/
CATEGORIES:Exercise Class
END:VEVENT
BEGIN:VEVENT
DTSTART;TZID=Pacific/Auckland:20251222T170000
DTEND;TZID=Pacific/Auckland:20251222T174500
DTSTAMP:20260420T071851
CREATED:20250410T072823Z
LAST-MODIFIED:20250410T072823Z
UID:10030348-1766422800-1766425500@www.mouterehills.org.nz
SUMMARY:Pilates
DESCRIPTION:Join Kris in our new Pilates class.  Pilates is a low-impact workout which is great for strenthening your muscles though controlled\, repetitive movements\, building muscular endurance and stability. \n$12 casual\, $80 for a 10 class concession card or free for fitness centre members.
URL:https://www.mouterehills.org.nz/event/pilates-5/2025-12-22/
LOCATION:Moutere Hills Community Centre
CATEGORIES:Exercise Class
END:VEVENT
BEGIN:VEVENT
DTSTART;TZID=Pacific/Auckland:20251222T184500
DTEND;TZID=Pacific/Auckland:20251222T200000
DTSTAMP:20260420T071851
CREATED:20250426T032152Z
LAST-MODIFIED:20250721T234017Z
UID:10030788-1766429100-1766433600@www.mouterehills.org.nz
SUMMARY:Social Netball
DESCRIPTION:Join in a fun session of Netball.  For all ages & ability levels.  Only $3 per session.
URL:https://www.mouterehills.org.nz/event/social-netball/2025-12-22/
LOCATION:Moutere Hills Community Centre
CATEGORIES:Community Recreation
END:VEVENT
BEGIN:VEVENT
DTSTART;TZID=Pacific/Auckland:20251222T190000
DTEND;TZID=Pacific/Auckland:20251222T201500
DTSTAMP:20260420T071851
CREATED:20250410T010501Z
LAST-MODIFIED:20260106T211020Z
UID:10009475-1766430000-1766434500@www.mouterehills.org.nz
SUMMARY:Yoga with Kris
DESCRIPTION:Contact Kris on 0275252814 for more information or to book your spot.
URL:https://www.mouterehills.org.nz/event/dru-yoga-with-kris-2-3-2/2025-12-22/
LOCATION:Moutere Hills Community Centre
CATEGORIES:Community Recreation
END:VEVENT
BEGIN:VEVENT
DTSTART;TZID=Pacific/Auckland:20251223T090000
DTEND;TZID=Pacific/Auckland:20251223T103000
DTSTAMP:20260420T071851
CREATED:20240728T235311Z
LAST-MODIFIED:20240729T003110Z
UID:10014268-1766480400-1766485800@www.mouterehills.org.nz
SUMMARY:Tennis Coaching
DESCRIPTION:Group and individual lessons.  Contact Vanessa on 022 460 0320 for info.
URL:https://www.mouterehills.org.nz/event/tennis-coaching/2025-12-23/
LOCATION:Moutere Hills Community Centre
CATEGORIES:Social Sport
END:VEVENT
BEGIN:VEVENT
DTSTART;TZID=Pacific/Auckland:20251223T090000
DTEND;TZID=Pacific/Auckland:20251223T150000
DTSTAMP:20260420T071851
CREATED:20240418T235342Z
LAST-MODIFIED:20240418T235342Z
UID:10010001-1766480400-1766502000@www.mouterehills.org.nz
SUMMARY:Quirky Quilters
DESCRIPTION:Thursdays 10:00am-2:00pm. \nPlease contact the office on 03 5432516 for more details.
URL:https://www.mouterehills.org.nz/event/quirky-quilters-2-2-2/2025-12-23/
CATEGORIES:Community Recreation
END:VEVENT
BEGIN:VEVENT
DTSTART;TZID=Pacific/Auckland:20251223T093000
DTEND;TZID=Pacific/Auckland:20251223T101500
DTSTAMP:20260420T071851
CREATED:20250129T074446Z
LAST-MODIFIED:20260318T190636Z
UID:10026692-1766482200-1766484900@www.mouterehills.org.nz
SUMMARY:Stretch & Flex with Vicki
DESCRIPTION:Increase flexibility and mobility with slow moving range of motion stretching. Suitable for all ages and abilities. $12 per class or free for Fitness Centre members. Concession cards are also available ($80 for 10 classes). \nBookings essential. Visit the members portal to book.
URL:https://www.mouterehills.org.nz/event/stretch-flex-with-vicki-4/2025-12-23/
LOCATION:Moutere Hills Community Centre
CATEGORIES:Exercise Class
END:VEVENT
BEGIN:VEVENT
DTSTART;TZID=Pacific/Auckland:20251224T080000
DTEND;TZID=Pacific/Auckland:20251224T084500
DTSTAMP:20260420T071851
CREATED:20240419T010735Z
LAST-MODIFIED:20260106T214122Z
UID:10012063-1766563200-1766565900@www.mouterehills.org.nz
SUMMARY:Pilates
DESCRIPTION:Join Kris in our Pilates class.  Pilates is a low-impact workout which is great for strengthening your muscles though controlled\, repetitive movements\, building muscular endurance and stability. Suitable for Beginners.  $12 casual\, $80 for a 10 class concession card or free for fitness centre members.
URL:https://www.mouterehills.org.nz/event/pilates-4/2025-12-24/
LOCATION:Moutere Hills Community Centre
CATEGORIES:Exercise Class
END:VEVENT
BEGIN:VEVENT
DTSTART;TZID=Pacific/Auckland:20251224T154500
DTEND;TZID=Pacific/Auckland:20251224T190000
DTSTAMP:20260420T071851
CREATED:20250721T221734Z
LAST-MODIFIED:20260105T022734Z
UID:10032359-1766591100-1766602800@www.mouterehills.org.nz
SUMMARY:Legacy Dance
DESCRIPTION:Classes from 3:45pm to 7:00pm \nContact Annie for more info \nemail: legacydancenz@gmail.com
URL:https://www.mouterehills.org.nz/event/legacy-dance-term-three/2025-12-24/
LOCATION:Moutere Hills Community Centre
CATEGORIES:Community Recreation
END:VEVENT
BEGIN:VEVENT
DTSTART;TZID=Pacific/Auckland:20251224T173000
DTEND;TZID=Pacific/Auckland:20251224T181500
DTSTAMP:20260420T071851
CREATED:20250311T035808Z
LAST-MODIFIED:20250311T035808Z
UID:10028672-1766597400-1766600100@www.mouterehills.org.nz
SUMMARY:Core Focus
DESCRIPTION:Incorporates core stabilisation\, muscular endurance\, strength\, balance and coordination. \nBookings are essential. Visit the Fitness Centre calendar page to register.
URL:https://www.mouterehills.org.nz/event/core-focus-3/2025-12-24/
LOCATION:Moutere Hills Community Centre
CATEGORIES:Exercise Class
END:VEVENT
BEGIN:VEVENT
DTSTART;TZID=Pacific/Auckland:20251224T180000
DTEND;TZID=Pacific/Auckland:20251224T190000
DTSTAMP:20260420T071851
CREATED:20250407T220808Z
LAST-MODIFIED:20250407T220808Z
UID:10029709-1766599200-1766602800@www.mouterehills.org.nz
SUMMARY:Walking Football
DESCRIPTION:Open to males and females aged 50+ \nGold coin donation \nTo Register contact Steve \nemail: clarky.walkingfootball@gmail.com \nStay Active – Stay Social – Stay in the Game
URL:https://www.mouterehills.org.nz/event/walking-football-2/2025-12-24/
LOCATION:Moutere Hills Community Centre
CATEGORIES:Social Sport
END:VEVENT
BEGIN:VEVENT
DTSTART;TZID=Pacific/Auckland:20251224T191500
DTEND;TZID=Pacific/Auckland:20251224T210000
DTSTAMP:20260420T071851
CREATED:20250107T233201Z
LAST-MODIFIED:20250107T233201Z
UID:10023594-1766603700-1766610000@www.mouterehills.org.nz
SUMMARY:Social Table Tennis
DESCRIPTION:Enjoy an evening of singles and doubles play on one of our four high quality tables. Bats can be provided and all levels of players are welcome. No need to book just turn up and join in! \n$3 per person\, per session. \nContact Peter on 03 929 8256 for more information.
URL:https://www.mouterehills.org.nz/event/social-table-tennis-2-3-2/2025-12-24/
LOCATION:Moutere Hills Community Centre
CATEGORIES:Social Sport
END:VEVENT
BEGIN:VEVENT
DTSTART;TZID=Pacific/Auckland:20251225T083000
DTEND;TZID=Pacific/Auckland:20251225T091500
DTSTAMP:20260420T071851
CREATED:20250128T093800Z
LAST-MODIFIED:20250129T001558Z
UID:10016753-1766651400-1766654100@www.mouterehills.org.nz
SUMMARY:Re-Activate
DESCRIPTION:A social workout\, designed to improve overall mobility and fitness through a functional fitness approach. This class is suitable for those just getting back into exercise\, those with a lower level of fitness or those who simply want to enjoy social interaction. All exercises can be tailored to suit individual needs and will be set to a level in which individuals determine their own exercise intensity. $12 per person or free for Fitness Centre members. Concession cards also available\, $80 for 10 classes. \nBookings are essential. Visit the Fitness Centre calendar page to register.
URL:https://www.mouterehills.org.nz/event/re-activate-2/2025-12-25/
CATEGORIES:Exercise Class
END:VEVENT
BEGIN:VEVENT
DTSTART;TZID=Pacific/Auckland:20251225T103000
DTEND;TZID=Pacific/Auckland:20251225T113000
DTSTAMP:20260420T071851
CREATED:20251127T014206Z
LAST-MODIFIED:20251127T014207Z
UID:10033195-1766658600-1766662200@www.mouterehills.org.nz
SUMMARY:Sit & Be Fit
DESCRIPTION:A chair based exercise class designed to improve mobility and build strength. \nAfter the session enjoy a relaxing cup of tea\, a friendly catch-up with others\, and once a month an inspiring guest speaker to support you stay active and able! \nCost $5 per session \nor free for Fitness Centre members.
URL:https://www.mouterehills.org.nz/event/sit-be-fit-2-2/2025-12-25/
LOCATION:Moutere Hills Community Centre
CATEGORIES:Exercise Class
END:VEVENT
BEGIN:VEVENT
DTSTART;TZID=Pacific/Auckland:20251225T153000
DTEND;TZID=Pacific/Auckland:20251225T180000
DTSTAMP:20260420T071851
CREATED:20240729T031539Z
LAST-MODIFIED:20240729T031539Z
UID:10017538-1766676600-1766685600@www.mouterehills.org.nz
SUMMARY:Junior Tennis Coaching
DESCRIPTION:All levels welcome 5yrs old + and upwards. \nContact Vanessa on 022 424 3564 or claybrookestate@xtra.co.nz for more info or to book.
URL:https://www.mouterehills.org.nz/event/junior-tennis-coaching-3/2025-12-25/
LOCATION:Moutere Hills Community Centre
CATEGORIES:Community Recreation
END:VEVENT
BEGIN:VEVENT
DTSTART;TZID=Pacific/Auckland:20251225T180000
DTEND;TZID=Pacific/Auckland:20251225T184500
DTSTAMP:20260420T071851
CREATED:20250320T200151Z
LAST-MODIFIED:20250320T200151Z
UID:10028862-1766685600-1766688300@www.mouterehills.org.nz
SUMMARY:Box'n burn
DESCRIPTION:
URL:https://www.mouterehills.org.nz/event/boxn-burn/2025-12-25/
LOCATION:Moutere Hills Community Centre
CATEGORIES:Exercise Class
END:VEVENT
BEGIN:VEVENT
DTSTART;TZID=Pacific/Auckland:20251225T190000
DTEND;TZID=Pacific/Auckland:20251225T213000
DTSTAMP:20260420T071851
CREATED:20250129T072538Z
LAST-MODIFIED:20250129T072538Z
UID:10026244-1766689200-1766698200@www.mouterehills.org.nz
SUMMARY:Adults Volleyball
DESCRIPTION:Competitive grade \ncost $3.00 \nContact Gordon 021 246 7366
URL:https://www.mouterehills.org.nz/event/adults-volleyball/2025-12-25/
LOCATION:Moutere Hills Community Centre
CATEGORIES:Social Sport
END:VEVENT
BEGIN:VEVENT
DTSTART;TZID=Pacific/Auckland:20251226T081500
DTEND;TZID=Pacific/Auckland:20251226T090000
DTSTAMP:20260420T071851
CREATED:20240419T011620Z
LAST-MODIFIED:20250410T014922Z
UID:10012590-1766736900-1766739600@www.mouterehills.org.nz
SUMMARY:MetaFit and Core with Cindus
DESCRIPTION:Join Cindus for some high intensity interval training. This short-and-sweet class will leave your metabolic rate boosted for hours afterwards. All exercises are body-weight and time-based to allow individuals to work to their own pace. Then finish the class with a core and pelvic muscle workout. \n$12 per person or free for Fitness Centre members. Concession cards available ($80 for 10 classes). \nBookings are essential. Visit the Fitness Centre calendar page to register.
URL:https://www.mouterehills.org.nz/event/metafit-and-core-with-cindus-2-2/2025-12-26/
LOCATION:Moutere Hills Community Centre
CATEGORIES:Exercise Class
END:VEVENT
BEGIN:VEVENT
DTSTART;TZID=Pacific/Auckland:20251226T090000
DTEND;TZID=Pacific/Auckland:20251226T094500
DTSTAMP:20260420T071851
CREATED:20240419T011921Z
LAST-MODIFIED:20250410T014732Z
UID:10012851-1766739600-1766742300@www.mouterehills.org.nz
SUMMARY:Pilates with Kris
DESCRIPTION:Join Kris for this great pilates class.  $12 for casual\, $80 for 10 class concession card or free for fitness centre members.
URL:https://www.mouterehills.org.nz/event/pilates-with-kris/2025-12-26/
LOCATION:Moutere Hills Community Centre
CATEGORIES:Exercise Class
END:VEVENT
BEGIN:VEVENT
DTSTART;TZID=Pacific/Auckland:20251227T133000
DTEND;TZID=Pacific/Auckland:20251227T150000
DTSTAMP:20260420T071851
CREATED:20250320T221821Z
LAST-MODIFIED:20250530T032422Z
UID:10029180-1766842200-1766847600@www.mouterehills.org.nz
SUMMARY:Youth/ Adults Social Basketball
DESCRIPTION:Join in a fun session of Basketball. For all ability levels. Only $3.00/session
URL:https://www.mouterehills.org.nz/event/youth-adults-social-basketball-4/2025-12-27/
LOCATION:Moutere Hills Community Centre
CATEGORIES:Community Recreation
END:VEVENT
BEGIN:VEVENT
DTSTART;TZID=Pacific/Auckland:20251228T093000
DTEND;TZID=Pacific/Auckland:20251228T110000
DTSTAMP:20260420T071851
CREATED:20240729T034031Z
LAST-MODIFIED:20240729T034237Z
UID:10019139-1766914200-1766919600@www.mouterehills.org.nz
SUMMARY:Club Tennis Session
DESCRIPTION:Run by Upper Moutere Tennis Club. \nAll welcome.
URL:https://www.mouterehills.org.nz/event/club-tennis-session-2/2025-12-28/
CATEGORIES:Community Recreation
END:VEVENT
BEGIN:VEVENT
DTSTART;TZID=Pacific/Auckland:20251228T160000
DTEND;TZID=Pacific/Auckland:20251228T180000
DTSTAMP:20260420T071851
CREATED:20250731T020646Z
LAST-MODIFIED:20250731T020646Z
UID:10032576-1766937600-1766944800@www.mouterehills.org.nz
SUMMARY:Private Ballroom Lessons
DESCRIPTION:
URL:https://www.mouterehills.org.nz/event/private-ballroom-lessons/2025-12-28/
LOCATION:Sports Hall
CATEGORIES:Event
END:VEVENT
BEGIN:VEVENT
DTSTART;TZID=Pacific/Auckland:20251230T080000
DTEND;TZID=Pacific/Auckland:20260102T170000
DTSTAMP:20260420T071851
CREATED:20250310T210337Z
LAST-MODIFIED:20250310T210337Z
UID:10028016-1767081600-1767373200@www.mouterehills.org.nz
SUMMARY:NZMCA New Year Rally
DESCRIPTION:Whole Centre Booking \nContact MHCC for more details
URL:https://www.mouterehills.org.nz/event/nzmca-new-year-rally/
LOCATION:Moutere Hills Community Centre
CATEGORIES:Event
END:VEVENT
BEGIN:VEVENT
DTSTART;TZID=Pacific/Auckland:20260106T053000
DTEND;TZID=Pacific/Auckland:20260106T063000
DTSTAMP:20260420T071851
CREATED:20260104T220342Z
LAST-MODIFIED:20260104T220558Z
UID:10033452-1767677400-1767681000@www.mouterehills.org.nz
SUMMARY:Energise Group Fitness
DESCRIPTION:Start the day by working out with a fun bunch of motivated people who like to work out for better health and wellbeing. \nBookings essential. Contact Cindus on 0273587233.
URL:https://www.mouterehills.org.nz/event/energise-group-fitness-2-2-2/2026-01-06/
LOCATION:Moutere Hills Community Centre
CATEGORIES:Exercise Class
ORGANIZER;CN="Cindus Colonna":MAILTO:energiseme19@gmail.com
END:VEVENT
BEGIN:VEVENT
DTSTART;TZID=Pacific/Auckland:20260109T080000
DTEND;TZID=Pacific/Auckland:20260111T170000
DTSTAMP:20260420T071851
CREATED:20250310T210602Z
LAST-MODIFIED:20250310T210602Z
UID:10028017-1767945600-1768150800@www.mouterehills.org.nz
SUMMARY:Country Music Festival weekend
DESCRIPTION:Whole centre booking \nContact MHCC for more details
URL:https://www.mouterehills.org.nz/event/country-music-festival-weekend/
LOCATION:Moutere Hills Community Centre
CATEGORIES:Event
END:VEVENT
BEGIN:VEVENT
DTSTART;TZID=Pacific/Auckland:20260111T180000
DTEND;TZID=Pacific/Auckland:20260111T200000
DTSTAMP:20260420T071851
CREATED:20250721T224103Z
LAST-MODIFIED:20250721T224103Z
UID:10032417-1768154400-1768161600@www.mouterehills.org.nz
SUMMARY:Dance Classes - Ballroom/Latin
DESCRIPTION:Come along to a fun adult beginners Ballroom dance class \nContact Becks on dancingbecks@hotmail.com or cell 021482263
URL:https://www.mouterehills.org.nz/event/dance-classes-ballroom-latin/2026-01-11/
LOCATION:Moutere Hills Community Centre
CATEGORIES:Community Recreation
END:VEVENT
BEGIN:VEVENT
DTSTART;TZID=Pacific/Auckland:20260112T060000
DTEND;TZID=Pacific/Auckland:20260112T184500
DTSTAMP:20260420T071851
CREATED:20260104T215730Z
LAST-MODIFIED:20260104T215730Z
UID:10033354-1768197600-1768243500@www.mouterehills.org.nz
SUMMARY:Strength & Fitness Circuit - Mondays
DESCRIPTION:
URL:https://www.mouterehills.org.nz/event/strength-fitness-circuit-mondays/2026-01-12/
LOCATION:Sports Hall
CATEGORIES:Exercise Class
END:VEVENT
BEGIN:VEVENT
DTSTART;TZID=Pacific/Auckland:20260112T184500
DTEND;TZID=Pacific/Auckland:20260112T200000
DTSTAMP:20260420T071851
CREATED:20260104T222315Z
LAST-MODIFIED:20260104T222315Z
UID:10033665-1768243500-1768248000@www.mouterehills.org.nz
SUMMARY:Social Netball
DESCRIPTION:
URL:https://www.mouterehills.org.nz/event/social-netball-2/2026-01-12/
LOCATION:Sports Hall
CATEGORIES:Social Sport
END:VEVENT
BEGIN:VEVENT
DTSTART;TZID=Pacific/Auckland:20260113T101500
DTEND;TZID=Pacific/Auckland:20260113T113000
DTSTAMP:20260420T071851
CREATED:20260104T220833Z
LAST-MODIFIED:20260104T220833Z
UID:10033551-1768299300-1768303800@www.mouterehills.org.nz
SUMMARY:Pickleball
DESCRIPTION:
URL:https://www.mouterehills.org.nz/event/pickleball-3/2026-01-13/
LOCATION:Sports Hall
CATEGORIES:Exercise Class
END:VEVENT
END:VCALENDAR