BEGIN:VCALENDAR
VERSION:2.0
PRODID:-//Moutere Hills Community Centre - ECPv6.15.19//NONSGML v1.0//EN
CALSCALE:GREGORIAN
METHOD:PUBLISH
X-WR-CALNAME:Moutere Hills Community Centre
X-ORIGINAL-URL:https://www.mouterehills.org.nz
X-WR-CALDESC:Events for Moutere Hills Community Centre
REFRESH-INTERVAL;VALUE=DURATION:PT1H
X-Robots-Tag:noindex
X-PUBLISHED-TTL:PT1H
BEGIN:VTIMEZONE
TZID:Pacific/Auckland
BEGIN:STANDARD
TZOFFSETFROM:+1300
TZOFFSETTO:+1200
TZNAME:NZST
DTSTART:20250405T140000
END:STANDARD
BEGIN:DAYLIGHT
TZOFFSETFROM:+1200
TZOFFSETTO:+1300
TZNAME:NZDT
DTSTART:20250927T140000
END:DAYLIGHT
BEGIN:STANDARD
TZOFFSETFROM:+1300
TZOFFSETTO:+1200
TZNAME:NZST
DTSTART:20260404T140000
END:STANDARD
BEGIN:DAYLIGHT
TZOFFSETFROM:+1200
TZOFFSETTO:+1300
TZNAME:NZDT
DTSTART:20260926T140000
END:DAYLIGHT
BEGIN:STANDARD
TZOFFSETFROM:+1300
TZOFFSETTO:+1200
TZNAME:NZST
DTSTART:20270403T140000
END:STANDARD
BEGIN:DAYLIGHT
TZOFFSETFROM:+1200
TZOFFSETTO:+1300
TZNAME:NZDT
DTSTART:20270925T140000
END:DAYLIGHT
END:VTIMEZONE
BEGIN:VEVENT
DTSTART;TZID=Pacific/Auckland:20260409T053000
DTEND;TZID=Pacific/Auckland:20260409T063000
DTSTAMP:20260423T220707
CREATED:20260104T220342Z
LAST-MODIFIED:20260104T220558Z
UID:10033479-1775712600-1775716200@www.mouterehills.org.nz
SUMMARY:Energise Group Fitness
DESCRIPTION:Start the day by working out with a fun bunch of motivated people who like to work out for better health and wellbeing. \nBookings essential. Contact Cindus on 0273587233.
URL:https://www.mouterehills.org.nz/event/energise-group-fitness-2-2-2/2026-04-09/
LOCATION:Moutere Hills Community Centre
CATEGORIES:Exercise Class
ORGANIZER;CN="Cindus Colonna":MAILTO:energiseme19@gmail.com
END:VEVENT
BEGIN:VEVENT
DTSTART;TZID=Pacific/Auckland:20260409T083000
DTEND;TZID=Pacific/Auckland:20260409T091500
DTSTAMP:20260423T220707
CREATED:20260106T213329Z
LAST-MODIFIED:20260106T213329Z
UID:10016768-1775723400-1775726100@www.mouterehills.org.nz
SUMMARY:Re-Activate
DESCRIPTION:A social workout\, designed to improve overall mobility and fitness through a functional fitness approach. This class is suitable for those just getting back into exercise\, those with a lower level of fitness or those who simply want to enjoy social interaction. All exercises can be tailored to suit individual needs and will be set to a level in which individuals determine their own exercise intensity. $12 per person or free for Fitness Centre members. Concession cards also available\, $80 for 10 classes. \nBookings are essential. Visit the Fitness Centre calendar page to register.
URL:https://www.mouterehills.org.nz/event/re-activate-2-3/2026-04-09/
CATEGORIES:Exercise Class
END:VEVENT
BEGIN:VEVENT
DTSTART;TZID=Pacific/Auckland:20260409T090000
DTEND;TZID=Pacific/Auckland:20260409T103000
DTSTAMP:20260423T220707
CREATED:20240729T030950Z
LAST-MODIFIED:20240729T030950Z
UID:10017291-1775725200-1775730600@www.mouterehills.org.nz
SUMMARY:Tennis Coaching
DESCRIPTION:Group and individual lessons.  Contact Vanessa on 022 460 0320 for info.
URL:https://www.mouterehills.org.nz/event/tennis-coaching-2/2026-04-09/
LOCATION:Moutere Hills Community Centre
CATEGORIES:Social Sport
END:VEVENT
BEGIN:VEVENT
DTSTART;TZID=Pacific/Auckland:20260409T093000
DTEND;TZID=Pacific/Auckland:20260409T113000
DTSTAMP:20260423T220707
CREATED:20260318T190432Z
LAST-MODIFIED:20260318T190432Z
UID:10034750-1775727000-1775734200@www.mouterehills.org.nz
SUMMARY:Dungeons n Dragons
DESCRIPTION:
URL:https://www.mouterehills.org.nz/event/dungeons-n-dragons/2026-04-09/
LOCATION:Community Room
CATEGORIES:Community Recreation
END:VEVENT
BEGIN:VEVENT
DTSTART;TZID=Pacific/Auckland:20260409T103000
DTEND;TZID=Pacific/Auckland:20260409T113000
DTSTAMP:20260423T220707
CREATED:20260318T185915Z
LAST-MODIFIED:20260318T185916Z
UID:10033210-1775730600-1775734200@www.mouterehills.org.nz
SUMMARY:Sit & Be Fit
DESCRIPTION:A chair based exercise class designed to improve mobility and build strength. \nAfter the session enjoy a relaxing cup of tea\, a friendly catch-up with others\, and once a month an inspiring guest speaker to support you stay active and able! \nCost $5 per session \nor free for Fitness Centre members.
URL:https://www.mouterehills.org.nz/event/sit-be-fit-2-2-2-2/2026-04-09/
LOCATION:Moutere Hills Community Centre
CATEGORIES:Exercise Class
END:VEVENT
BEGIN:VEVENT
DTSTART;TZID=Pacific/Auckland:20260409T103000
DTEND;TZID=Pacific/Auckland:20260409T120000
DTSTAMP:20260423T220707
CREATED:20260104T215252Z
LAST-MODIFIED:20260104T215252Z
UID:10033268-1775730600-1775736000@www.mouterehills.org.nz
SUMMARY:Ballroom - Homeschool class
DESCRIPTION:
URL:https://www.mouterehills.org.nz/event/ballroom-homeschool-class/2026-04-09/
LOCATION:Moutere Hills Community Centre
CATEGORIES:Community Recreation
END:VEVENT
BEGIN:VEVENT
DTSTART;TZID=Pacific/Auckland:20260409T153000
DTEND;TZID=Pacific/Auckland:20260409T180000
DTSTAMP:20260423T220707
CREATED:20240729T031539Z
LAST-MODIFIED:20240729T031539Z
UID:10017553-1775748600-1775757600@www.mouterehills.org.nz
SUMMARY:Junior Tennis Coaching
DESCRIPTION:All levels welcome 5yrs old + and upwards. \nContact Vanessa on 022 424 3564 or claybrookestate@xtra.co.nz for more info or to book.
URL:https://www.mouterehills.org.nz/event/junior-tennis-coaching-3/2026-04-09/
LOCATION:Moutere Hills Community Centre
CATEGORIES:Community Recreation
END:VEVENT
BEGIN:VEVENT
DTSTART;TZID=Pacific/Auckland:20260409T190000
DTEND;TZID=Pacific/Auckland:20260409T213000
DTSTAMP:20260423T220707
CREATED:20250129T072538Z
LAST-MODIFIED:20250129T072538Z
UID:10026259-1775761200-1775770200@www.mouterehills.org.nz
SUMMARY:Adults Volleyball
DESCRIPTION:Competitive grade \ncost $3.00 \nContact Gordon 021 246 7366
URL:https://www.mouterehills.org.nz/event/adults-volleyball/2026-04-09/
LOCATION:Moutere Hills Community Centre
CATEGORIES:Social Sport
END:VEVENT
BEGIN:VEVENT
DTSTART;TZID=Pacific/Auckland:20260410T080000
DTEND;TZID=Pacific/Auckland:20260410T170000
DTSTAMP:20260423T220707
CREATED:20260318T191403Z
LAST-MODIFIED:20260318T191403Z
UID:10034787-1775808000-1775840400@www.mouterehills.org.nz
SUMMARY:Age Group Road National Championships
DESCRIPTION:The Age Group Road National Championships are on 10-12 of April 2026 at Moutere Hills Community Centre in the Nelson / Tasman region\, organised by Dynamo Events. This event is the premiere masters\, age group and para cycling road event where all competitors represent their chosen club.
URL:https://www.mouterehills.org.nz/event/age-group-road-national-championships/2026-04-10/
LOCATION:Moutere Hills Community Centre
CATEGORIES:Event
END:VEVENT
BEGIN:VEVENT
DTSTART;TZID=Pacific/Auckland:20260410T081500
DTEND;TZID=Pacific/Auckland:20260410T090000
DTSTAMP:20260423T220707
CREATED:20260106T223323Z
LAST-MODIFIED:20260416T220611Z
UID:10012605-1775808900-1775811600@www.mouterehills.org.nz
SUMMARY:MetaFit and Core
DESCRIPTION:Join Fiona for some high intensity interval training. This short-and-sweet class will leave your metabolic rate boosted for hours afterwards. All exercises are body-weight and time-based to allow individuals to work to their own pace. Then finish the class with a core and pelvic muscle workout. \n$12 per person or free for Fitness Centre members. Concession cards available ($80 for 10 classes). \nBookings are essential. Visit the Fitness Centre calendar page to register.
URL:https://www.mouterehills.org.nz/event/metafit-and-core-with-fiona-2-2-2/2026-04-10/
LOCATION:Moutere Hills Community Centre
CATEGORIES:Exercise Class
END:VEVENT
BEGIN:VEVENT
DTSTART;TZID=Pacific/Auckland:20260410T090000
DTEND;TZID=Pacific/Auckland:20260410T094500
DTSTAMP:20260423T220707
CREATED:20240419T011921Z
LAST-MODIFIED:20250410T014732Z
UID:10012866-1775811600-1775814300@www.mouterehills.org.nz
SUMMARY:Pilates with Kris
DESCRIPTION:Join Kris for this great pilates class.  $12 for casual\, $80 for 10 class concession card or free for fitness centre members.
URL:https://www.mouterehills.org.nz/event/pilates-with-kris/2026-04-10/
LOCATION:Moutere Hills Community Centre
CATEGORIES:Exercise Class
END:VEVENT
BEGIN:VEVENT
DTSTART;TZID=Pacific/Auckland:20260410T100000
DTEND;TZID=Pacific/Auckland:20260410T111500
DTSTAMP:20260423T220707
CREATED:20260318T185130Z
LAST-MODIFIED:20260318T185130Z
UID:10034556-1775815200-1775819700@www.mouterehills.org.nz
SUMMARY:Yoga with Kris
DESCRIPTION:
URL:https://www.mouterehills.org.nz/event/yoga-with-kris-4/2026-04-10/
LOCATION:Function room
CATEGORIES:Exercise Class
END:VEVENT
BEGIN:VEVENT
DTSTART;TZID=Pacific/Auckland:20260410T183000
DTEND;TZID=Pacific/Auckland:20260410T203000
DTSTAMP:20260423T220707
CREATED:20240729T032733Z
LAST-MODIFIED:20240729T033053Z
UID:10018745-1775845800-1775853000@www.mouterehills.org.nz
SUMMARY:Ballroom / Latin Dance Class
DESCRIPTION:Join Becks for on the monthly practice Night.  Practice session runs from 6:30pm – 8:30pm. 2nd Friday of each month \n$10 per session.  For more details contact Becks on 021482263
URL:https://www.mouterehills.org.nz/event/ballroom-latin-dance-class-2/2026-04-10/
LOCATION:Moutere Hills Community Centre
CATEGORIES:Social Sport
END:VEVENT
BEGIN:VEVENT
DTSTART;TZID=Pacific/Auckland:20260411T080000
DTEND;TZID=Pacific/Auckland:20260411T084500
DTSTAMP:20260423T220707
CREATED:20260318T184246Z
LAST-MODIFIED:20260318T184424Z
UID:10034437-1775894400-1775897100@www.mouterehills.org.nz
SUMMARY:Strength & Fitness - Saturday
DESCRIPTION:A circuit class designed to build strength & Fitness \nAll abilities welcome
URL:https://www.mouterehills.org.nz/event/strength-fitness-saturday/2026-04-11/
LOCATION:Sports Hall
CATEGORIES:Exercise Class
END:VEVENT
BEGIN:VEVENT
DTSTART;TZID=Pacific/Auckland:20260411T133000
DTEND;TZID=Pacific/Auckland:20260411T150000
DTSTAMP:20260423T220707
CREATED:20250320T221821Z
LAST-MODIFIED:20250530T032422Z
UID:10029195-1775914200-1775919600@www.mouterehills.org.nz
SUMMARY:Youth/ Adults Social Basketball
DESCRIPTION:Join in a fun session of Basketball. For all ability levels. Only $3.00/session
URL:https://www.mouterehills.org.nz/event/youth-adults-social-basketball-4/2026-04-11/
LOCATION:Moutere Hills Community Centre
CATEGORIES:Community Recreation
END:VEVENT
BEGIN:VEVENT
DTSTART;TZID=Pacific/Auckland:20260412T093000
DTEND;TZID=Pacific/Auckland:20260412T110000
DTSTAMP:20260423T220707
CREATED:20240729T034031Z
LAST-MODIFIED:20240729T034237Z
UID:10019154-1775986200-1775991600@www.mouterehills.org.nz
SUMMARY:Club Tennis Session
DESCRIPTION:Run by Upper Moutere Tennis Club. \nAll welcome.
URL:https://www.mouterehills.org.nz/event/club-tennis-session-2/2026-04-12/
CATEGORIES:Community Recreation
END:VEVENT
BEGIN:VEVENT
DTSTART;TZID=Pacific/Auckland:20260412T160000
DTEND;TZID=Pacific/Auckland:20260412T180000
DTSTAMP:20260423T220707
CREATED:20250731T020646Z
LAST-MODIFIED:20250731T020646Z
UID:10032591-1776009600-1776016800@www.mouterehills.org.nz
SUMMARY:Private Ballroom Lessons
DESCRIPTION:
URL:https://www.mouterehills.org.nz/event/private-ballroom-lessons/2026-04-12/
LOCATION:Sports Hall
CATEGORIES:Event
END:VEVENT
BEGIN:VEVENT
DTSTART;TZID=Pacific/Auckland:20260412T180000
DTEND;TZID=Pacific/Auckland:20260412T200000
DTSTAMP:20260423T220707
CREATED:20250721T224103Z
LAST-MODIFIED:20250721T224103Z
UID:10032420-1776016800-1776024000@www.mouterehills.org.nz
SUMMARY:Dance Classes - Ballroom/Latin
DESCRIPTION:Come along to a fun adult beginners Ballroom dance class \nContact Becks on dancingbecks@hotmail.com or cell 021482263
URL:https://www.mouterehills.org.nz/event/dance-classes-ballroom-latin/2026-04-12/
LOCATION:Moutere Hills Community Centre
CATEGORIES:Community Recreation
END:VEVENT
BEGIN:VEVENT
DTSTART;TZID=Pacific/Auckland:20260413T060000
DTEND;TZID=Pacific/Auckland:20260413T184500
DTSTAMP:20260423T220707
CREATED:20260104T215730Z
LAST-MODIFIED:20260104T215730Z
UID:10033367-1776060000-1776105900@www.mouterehills.org.nz
SUMMARY:Strength & Fitness Circuit - Mondays
DESCRIPTION:
URL:https://www.mouterehills.org.nz/event/strength-fitness-circuit-mondays/2026-04-13/
LOCATION:Sports Hall
CATEGORIES:Exercise Class
END:VEVENT
BEGIN:VEVENT
DTSTART;TZID=Pacific/Auckland:20260413T133000
DTEND;TZID=Pacific/Auckland:20260413T151500
DTSTAMP:20260423T220707
CREATED:20260318T190227Z
LAST-MODIFIED:20260318T190227Z
UID:10034710-1776087000-1776093300@www.mouterehills.org.nz
SUMMARY:Kids Ballroom/Latin Dance - Monday
DESCRIPTION:Classes For 6 to 9 year olds  1:30 to 2:30pm \nPrivate lessons till 3:15pm
URL:https://www.mouterehills.org.nz/event/kids-ballroom-latin-dance-monday-2/2026-04-13/
LOCATION:Sports Hall
CATEGORIES:Community Recreation
END:VEVENT
BEGIN:VEVENT
DTSTART;TZID=Pacific/Auckland:20260413T170000
DTEND;TZID=Pacific/Auckland:20260413T174500
DTSTAMP:20260423T220707
CREATED:20250410T072823Z
LAST-MODIFIED:20250410T072823Z
UID:10030364-1776099600-1776102300@www.mouterehills.org.nz
SUMMARY:Pilates
DESCRIPTION:Join Kris in our new Pilates class.  Pilates is a low-impact workout which is great for strenthening your muscles though controlled\, repetitive movements\, building muscular endurance and stability. \n$12 casual\, $80 for a 10 class concession card or free for fitness centre members.
URL:https://www.mouterehills.org.nz/event/pilates-5/2026-04-13/
LOCATION:Moutere Hills Community Centre
CATEGORIES:Exercise Class
END:VEVENT
BEGIN:VEVENT
DTSTART;TZID=Pacific/Auckland:20260413T190000
DTEND;TZID=Pacific/Auckland:20260413T201500
DTSTAMP:20260423T220707
CREATED:20260106T212412Z
LAST-MODIFIED:20260106T212412Z
UID:10009491-1776106800-1776111300@www.mouterehills.org.nz
SUMMARY:Yoga with Kris
DESCRIPTION:Contact Kris on 0275252814 for more information or to book your spot.
URL:https://www.mouterehills.org.nz/event/dru-yoga-with-kris-2-3-2-2/2026-04-13/
LOCATION:Moutere Hills Community Centre
CATEGORIES:Community Recreation
END:VEVENT
BEGIN:VEVENT
DTSTART;TZID=Pacific/Auckland:20260414T083000
DTEND;TZID=Pacific/Auckland:20260414T091500
DTSTAMP:20260423T220707
CREATED:20260318T202523Z
LAST-MODIFIED:20260318T202807Z
UID:10034791-1776155400-1776158100@www.mouterehills.org.nz
SUMMARY:Pilates with Bex
DESCRIPTION:uses small equipment \nCost: $12 casual\, $80 for 10 class concession or free for Fitness Centre Members 
URL:https://www.mouterehills.org.nz/event/pilates-with-bex/2026-04-14/
LOCATION:Sports Hall
CATEGORIES:Exercise Class
END:VEVENT
BEGIN:VEVENT
DTSTART;TZID=Pacific/Auckland:20260414T090000
DTEND;TZID=Pacific/Auckland:20260414T150000
DTSTAMP:20260423T220707
CREATED:20240418T235342Z
LAST-MODIFIED:20240418T235342Z
UID:10010017-1776157200-1776178800@www.mouterehills.org.nz
SUMMARY:Quirky Quilters
DESCRIPTION:Thursdays 10:00am-2:00pm. \nPlease contact the office on 03 5432516 for more details.
URL:https://www.mouterehills.org.nz/event/quirky-quilters-2-2-2/2026-04-14/
CATEGORIES:Community Recreation
END:VEVENT
BEGIN:VEVENT
DTSTART;TZID=Pacific/Auckland:20260414T093000
DTEND;TZID=Pacific/Auckland:20260414T101500
DTSTAMP:20260423T220707
CREATED:20260318T202715Z
LAST-MODIFIED:20260318T202715Z
UID:10034828-1776159000-1776161700@www.mouterehills.org.nz
SUMMARY:Stretch & Flex with Bex
DESCRIPTION:Cost: $12 casual\, $80 for 10 class concession or free for Fitness Centre Members 
URL:https://www.mouterehills.org.nz/event/stretch-flex-with-bex/2026-04-14/
LOCATION:Sports Hall
CATEGORIES:Exercise Class
END:VEVENT
BEGIN:VEVENT
DTSTART;TZID=Pacific/Auckland:20260414T103000
DTEND;TZID=Pacific/Auckland:20260414T123000
DTSTAMP:20260423T220707
CREATED:20260318T190813Z
LAST-MODIFIED:20260318T190813Z
UID:10034358-1776162600-1776169800@www.mouterehills.org.nz
SUMMARY:Pickleball
DESCRIPTION:Cost $3 per person – for all ages and abilities
URL:https://www.mouterehills.org.nz/event/pickleball-3-2-2/2026-04-14/
LOCATION:Sports Hall
CATEGORIES:Exercise Class
END:VEVENT
BEGIN:VEVENT
DTSTART;TZID=Pacific/Auckland:20260414T173000
DTEND;TZID=Pacific/Auckland:20260414T200000
DTSTAMP:20260423T220707
CREATED:20260106T221736Z
LAST-MODIFIED:20260106T221736Z
UID:10034132-1776187800-1776196800@www.mouterehills.org.nz
SUMMARY:Ballroom/Latin Dance - Tuesday
DESCRIPTION:
URL:https://www.mouterehills.org.nz/event/ballroom-latin-dance-tuesday/2026-04-14/
LOCATION:Sports Hall
CATEGORIES:Community Recreation
END:VEVENT
BEGIN:VEVENT
DTSTART;TZID=Pacific/Auckland:20260415T080000
DTEND;TZID=Pacific/Auckland:20260415T084500
DTSTAMP:20260423T220707
CREATED:20240419T010735Z
LAST-MODIFIED:20260106T214122Z
UID:10012079-1776240000-1776242700@www.mouterehills.org.nz
SUMMARY:Pilates
DESCRIPTION:Join Kris in our Pilates class.  Pilates is a low-impact workout which is great for strengthening your muscles though controlled\, repetitive movements\, building muscular endurance and stability. Suitable for Beginners.  $12 casual\, $80 for a 10 class concession card or free for fitness centre members.
URL:https://www.mouterehills.org.nz/event/pilates-4/2026-04-15/
LOCATION:Moutere Hills Community Centre
CATEGORIES:Exercise Class
END:VEVENT
BEGIN:VEVENT
DTSTART;TZID=Pacific/Auckland:20260415T173000
DTEND;TZID=Pacific/Auckland:20260415T181500
DTSTAMP:20260423T220707
CREATED:20250311T035808Z
LAST-MODIFIED:20250311T035808Z
UID:10028688-1776274200-1776276900@www.mouterehills.org.nz
SUMMARY:Core Focus
DESCRIPTION:Incorporates core stabilisation\, muscular endurance\, strength\, balance and coordination. \nBookings are essential. Visit the Fitness Centre calendar page to register.
URL:https://www.mouterehills.org.nz/event/core-focus-3/2026-04-15/
LOCATION:Moutere Hills Community Centre
CATEGORIES:Exercise Class
END:VEVENT
BEGIN:VEVENT
DTSTART;TZID=Pacific/Auckland:20260415T180000
DTEND;TZID=Pacific/Auckland:20260415T190000
DTSTAMP:20260423T220707
CREATED:20260106T222007Z
LAST-MODIFIED:20260106T222007Z
UID:10029725-1776276000-1776279600@www.mouterehills.org.nz
SUMMARY:Walking Football
DESCRIPTION:Open to males and females aged 50+ \nGold coin donation \nTo Register contact Steve \nemail: clarky.walkingfootball@gmail.com \nStay Active – Stay Social – Stay in the Game
URL:https://www.mouterehills.org.nz/event/walking-football-2-2/2026-04-15/
LOCATION:Moutere Hills Community Centre
CATEGORIES:Social Sport
END:VEVENT
END:VCALENDAR