BEGIN:VCALENDAR
VERSION:2.0
PRODID:-//Moutere Hills Community Centre - ECPv6.15.19//NONSGML v1.0//EN
CALSCALE:GREGORIAN
METHOD:PUBLISH
X-WR-CALNAME:Moutere Hills Community Centre
X-ORIGINAL-URL:https://www.mouterehills.org.nz
X-WR-CALDESC:Events for Moutere Hills Community Centre
REFRESH-INTERVAL;VALUE=DURATION:PT1H
X-Robots-Tag:noindex
X-PUBLISHED-TTL:PT1H
BEGIN:VTIMEZONE
TZID:Pacific/Auckland
BEGIN:STANDARD
TZOFFSETFROM:+1300
TZOFFSETTO:+1200
TZNAME:NZST
DTSTART:20250405T140000
END:STANDARD
BEGIN:DAYLIGHT
TZOFFSETFROM:+1200
TZOFFSETTO:+1300
TZNAME:NZDT
DTSTART:20250927T140000
END:DAYLIGHT
BEGIN:STANDARD
TZOFFSETFROM:+1300
TZOFFSETTO:+1200
TZNAME:NZST
DTSTART:20260404T140000
END:STANDARD
BEGIN:DAYLIGHT
TZOFFSETFROM:+1200
TZOFFSETTO:+1300
TZNAME:NZDT
DTSTART:20260926T140000
END:DAYLIGHT
BEGIN:STANDARD
TZOFFSETFROM:+1300
TZOFFSETTO:+1200
TZNAME:NZST
DTSTART:20270403T140000
END:STANDARD
BEGIN:DAYLIGHT
TZOFFSETFROM:+1200
TZOFFSETTO:+1300
TZNAME:NZDT
DTSTART:20270925T140000
END:DAYLIGHT
END:VTIMEZONE
BEGIN:VEVENT
DTSTART;TZID=Pacific/Auckland:20260413T133000
DTEND;TZID=Pacific/Auckland:20260413T151500
DTSTAMP:20260425T010233
CREATED:20260318T190227Z
LAST-MODIFIED:20260318T190227Z
UID:10034710-1776087000-1776093300@www.mouterehills.org.nz
SUMMARY:Kids Ballroom/Latin Dance - Monday
DESCRIPTION:Classes For 6 to 9 year olds  1:30 to 2:30pm \nPrivate lessons till 3:15pm
URL:https://www.mouterehills.org.nz/event/kids-ballroom-latin-dance-monday-2/2026-04-13/
LOCATION:Sports Hall
CATEGORIES:Community Recreation
END:VEVENT
BEGIN:VEVENT
DTSTART;TZID=Pacific/Auckland:20260413T190000
DTEND;TZID=Pacific/Auckland:20260413T201500
DTSTAMP:20260425T010234
CREATED:20260106T212412Z
LAST-MODIFIED:20260106T212412Z
UID:10009491-1776106800-1776111300@www.mouterehills.org.nz
SUMMARY:Yoga with Kris
DESCRIPTION:Contact Kris on 0275252814 for more information or to book your spot.
URL:https://www.mouterehills.org.nz/event/dru-yoga-with-kris-2-3-2-2/2026-04-13/
LOCATION:Moutere Hills Community Centre
CATEGORIES:Community Recreation
END:VEVENT
BEGIN:VEVENT
DTSTART;TZID=Pacific/Auckland:20260414T090000
DTEND;TZID=Pacific/Auckland:20260414T150000
DTSTAMP:20260425T010234
CREATED:20240418T235342Z
LAST-MODIFIED:20240418T235342Z
UID:10010017-1776157200-1776178800@www.mouterehills.org.nz
SUMMARY:Quirky Quilters
DESCRIPTION:Thursdays 10:00am-2:00pm. \nPlease contact the office on 03 5432516 for more details.
URL:https://www.mouterehills.org.nz/event/quirky-quilters-2-2-2/2026-04-14/
CATEGORIES:Community Recreation
END:VEVENT
BEGIN:VEVENT
DTSTART;TZID=Pacific/Auckland:20260414T173000
DTEND;TZID=Pacific/Auckland:20260414T200000
DTSTAMP:20260425T010234
CREATED:20260106T221736Z
LAST-MODIFIED:20260106T221736Z
UID:10034132-1776187800-1776196800@www.mouterehills.org.nz
SUMMARY:Ballroom/Latin Dance - Tuesday
DESCRIPTION:
URL:https://www.mouterehills.org.nz/event/ballroom-latin-dance-tuesday/2026-04-14/
LOCATION:Sports Hall
CATEGORIES:Community Recreation
END:VEVENT
BEGIN:VEVENT
DTSTART;TZID=Pacific/Auckland:20260415T100000
DTEND;TZID=Pacific/Auckland:20260415T111500
DTSTAMP:20260425T010234
CREATED:20260106T212720Z
LAST-MODIFIED:20260106T212721Z
UID:10029864-1776247200-1776251700@www.mouterehills.org.nz
SUMMARY:Yoga with Kris
DESCRIPTION:Contact Kris on 0275252814 for more information or to book your spot.
URL:https://www.mouterehills.org.nz/event/yoga-with-kris-3/2026-04-15/
LOCATION:Moutere Hills Community Centre
CATEGORIES:Community Recreation
END:VEVENT
BEGIN:VEVENT
DTSTART;TZID=Pacific/Auckland:20260416T093000
DTEND;TZID=Pacific/Auckland:20260416T113000
DTSTAMP:20260425T010234
CREATED:20260318T190432Z
LAST-MODIFIED:20260318T190432Z
UID:10034751-1776331800-1776339000@www.mouterehills.org.nz
SUMMARY:Dungeons n Dragons
DESCRIPTION:
URL:https://www.mouterehills.org.nz/event/dungeons-n-dragons/2026-04-16/
LOCATION:Community Room
CATEGORIES:Community Recreation
END:VEVENT
BEGIN:VEVENT
DTSTART;TZID=Pacific/Auckland:20260416T103000
DTEND;TZID=Pacific/Auckland:20260416T120000
DTSTAMP:20260425T010234
CREATED:20260104T215252Z
LAST-MODIFIED:20260104T215252Z
UID:10033269-1776335400-1776340800@www.mouterehills.org.nz
SUMMARY:Ballroom - Homeschool class
DESCRIPTION:
URL:https://www.mouterehills.org.nz/event/ballroom-homeschool-class/2026-04-16/
LOCATION:Moutere Hills Community Centre
CATEGORIES:Community Recreation
END:VEVENT
BEGIN:VEVENT
DTSTART;TZID=Pacific/Auckland:20260416T153000
DTEND;TZID=Pacific/Auckland:20260416T180000
DTSTAMP:20260425T010234
CREATED:20240729T031539Z
LAST-MODIFIED:20240729T031539Z
UID:10017554-1776353400-1776362400@www.mouterehills.org.nz
SUMMARY:Junior Tennis Coaching
DESCRIPTION:All levels welcome 5yrs old + and upwards. \nContact Vanessa on 022 424 3564 or claybrookestate@xtra.co.nz for more info or to book.
URL:https://www.mouterehills.org.nz/event/junior-tennis-coaching-3/2026-04-16/
LOCATION:Moutere Hills Community Centre
CATEGORIES:Community Recreation
END:VEVENT
BEGIN:VEVENT
DTSTART;TZID=Pacific/Auckland:20260418T133000
DTEND;TZID=Pacific/Auckland:20260418T150000
DTSTAMP:20260425T010234
CREATED:20250320T221821Z
LAST-MODIFIED:20250530T032422Z
UID:10029196-1776519000-1776524400@www.mouterehills.org.nz
SUMMARY:Youth/ Adults Social Basketball
DESCRIPTION:Join in a fun session of Basketball. For all ability levels. Only $3.00/session
URL:https://www.mouterehills.org.nz/event/youth-adults-social-basketball-4/2026-04-18/
LOCATION:Moutere Hills Community Centre
CATEGORIES:Community Recreation
END:VEVENT
BEGIN:VEVENT
DTSTART;TZID=Pacific/Auckland:20260419T093000
DTEND;TZID=Pacific/Auckland:20260419T110000
DTSTAMP:20260425T010234
CREATED:20240729T034031Z
LAST-MODIFIED:20240729T034237Z
UID:10019155-1776591000-1776596400@www.mouterehills.org.nz
SUMMARY:Club Tennis Session
DESCRIPTION:Run by Upper Moutere Tennis Club. \nAll welcome.
URL:https://www.mouterehills.org.nz/event/club-tennis-session-2/2026-04-19/
CATEGORIES:Community Recreation
END:VEVENT
END:VCALENDAR