BEGIN:VCALENDAR
VERSION:2.0
PRODID:-//Moutere Hills Community Centre - ECPv6.15.19//NONSGML v1.0//EN
CALSCALE:GREGORIAN
METHOD:PUBLISH
X-ORIGINAL-URL:https://www.mouterehills.org.nz
X-WR-CALDESC:Events for Moutere Hills Community Centre
REFRESH-INTERVAL;VALUE=DURATION:PT1H
X-Robots-Tag:noindex
X-PUBLISHED-TTL:PT1H
BEGIN:VTIMEZONE
TZID:Pacific/Auckland
BEGIN:STANDARD
TZOFFSETFROM:+1300
TZOFFSETTO:+1200
TZNAME:NZST
DTSTART:20250405T140000
END:STANDARD
BEGIN:DAYLIGHT
TZOFFSETFROM:+1200
TZOFFSETTO:+1300
TZNAME:NZDT
DTSTART:20250927T140000
END:DAYLIGHT
BEGIN:STANDARD
TZOFFSETFROM:+1300
TZOFFSETTO:+1200
TZNAME:NZST
DTSTART:20260404T140000
END:STANDARD
BEGIN:DAYLIGHT
TZOFFSETFROM:+1200
TZOFFSETTO:+1300
TZNAME:NZDT
DTSTART:20260926T140000
END:DAYLIGHT
BEGIN:STANDARD
TZOFFSETFROM:+1300
TZOFFSETTO:+1200
TZNAME:NZST
DTSTART:20270403T140000
END:STANDARD
BEGIN:DAYLIGHT
TZOFFSETFROM:+1200
TZOFFSETTO:+1300
TZNAME:NZDT
DTSTART:20270925T140000
END:DAYLIGHT
END:VTIMEZONE
BEGIN:VEVENT
DTSTART;TZID=Pacific/Auckland:20260309T143000
DTEND;TZID=Pacific/Auckland:20260309T151500
DTSTAMP:20260425T092917
CREATED:20260104T215944Z
LAST-MODIFIED:20260104T215944Z
UID:10033410-1773066600-1773069300@www.mouterehills.org.nz
SUMMARY:Kids Ballroom/Latin Dance - Monday
DESCRIPTION:
URL:https://www.mouterehills.org.nz/event/kids-ballroom-latin-dance-monday/2026-03-09/
LOCATION:Sports Hall
CATEGORIES:Community Recreation
END:VEVENT
BEGIN:VEVENT
DTSTART;TZID=Pacific/Auckland:20260309T190000
DTEND;TZID=Pacific/Auckland:20260309T201500
DTSTAMP:20260425T092917
CREATED:20260106T212412Z
LAST-MODIFIED:20260106T212412Z
UID:10009486-1773082800-1773087300@www.mouterehills.org.nz
SUMMARY:Yoga with Kris
DESCRIPTION:Contact Kris on 0275252814 for more information or to book your spot.
URL:https://www.mouterehills.org.nz/event/dru-yoga-with-kris-2-3-2-2/2026-03-09/
LOCATION:Moutere Hills Community Centre
CATEGORIES:Community Recreation
END:VEVENT
BEGIN:VEVENT
DTSTART;TZID=Pacific/Auckland:20260310T090000
DTEND;TZID=Pacific/Auckland:20260310T150000
DTSTAMP:20260425T092917
CREATED:20240418T235342Z
LAST-MODIFIED:20240418T235342Z
UID:10010012-1773133200-1773154800@www.mouterehills.org.nz
SUMMARY:Quirky Quilters
DESCRIPTION:Thursdays 10:00am-2:00pm. \nPlease contact the office on 03 5432516 for more details.
URL:https://www.mouterehills.org.nz/event/quirky-quilters-2-2-2/2026-03-10/
CATEGORIES:Community Recreation
END:VEVENT
BEGIN:VEVENT
DTSTART;TZID=Pacific/Auckland:20260310T153000
DTEND;TZID=Pacific/Auckland:20260310T173000
DTSTAMP:20260425T092917
CREATED:20260104T222701Z
LAST-MODIFIED:20260406T211833Z
UID:10033719-1773156600-1773163800@www.mouterehills.org.nz
SUMMARY:Aerial Silks - Tuesday
DESCRIPTION:Contact Ilka for more info\n\n\n\nlka Ph: 022 085 5970                      
URL:https://www.mouterehills.org.nz/event/aerial-silks-tuesday/2026-03-10/
LOCATION:Sports Hall
CATEGORIES:Community Recreation
END:VEVENT
BEGIN:VEVENT
DTSTART;TZID=Pacific/Auckland:20260310T173000
DTEND;TZID=Pacific/Auckland:20260310T200000
DTSTAMP:20260425T092917
CREATED:20260106T221736Z
LAST-MODIFIED:20260106T221736Z
UID:10034127-1773163800-1773172800@www.mouterehills.org.nz
SUMMARY:Ballroom/Latin Dance - Tuesday
DESCRIPTION:
URL:https://www.mouterehills.org.nz/event/ballroom-latin-dance-tuesday/2026-03-10/
LOCATION:Sports Hall
CATEGORIES:Community Recreation
END:VEVENT
BEGIN:VEVENT
DTSTART;TZID=Pacific/Auckland:20260311T100000
DTEND;TZID=Pacific/Auckland:20260311T111500
DTSTAMP:20260425T092917
CREATED:20260106T212720Z
LAST-MODIFIED:20260106T212721Z
UID:10029859-1773223200-1773227700@www.mouterehills.org.nz
SUMMARY:Yoga with Kris
DESCRIPTION:Contact Kris on 0275252814 for more information or to book your spot.
URL:https://www.mouterehills.org.nz/event/yoga-with-kris-3/2026-03-11/
LOCATION:Moutere Hills Community Centre
CATEGORIES:Community Recreation
END:VEVENT
BEGIN:VEVENT
DTSTART;TZID=Pacific/Auckland:20260312T103000
DTEND;TZID=Pacific/Auckland:20260312T120000
DTSTAMP:20260425T092917
CREATED:20260104T215252Z
LAST-MODIFIED:20260104T215252Z
UID:10033264-1773311400-1773316800@www.mouterehills.org.nz
SUMMARY:Ballroom - Homeschool class
DESCRIPTION:
URL:https://www.mouterehills.org.nz/event/ballroom-homeschool-class/2026-03-12/
LOCATION:Moutere Hills Community Centre
CATEGORIES:Community Recreation
END:VEVENT
BEGIN:VEVENT
DTSTART;TZID=Pacific/Auckland:20260312T153000
DTEND;TZID=Pacific/Auckland:20260312T180000
DTSTAMP:20260425T092918
CREATED:20240729T031539Z
LAST-MODIFIED:20240729T031539Z
UID:10017549-1773329400-1773338400@www.mouterehills.org.nz
SUMMARY:Junior Tennis Coaching
DESCRIPTION:All levels welcome 5yrs old + and upwards. \nContact Vanessa on 022 424 3564 or claybrookestate@xtra.co.nz for more info or to book.
URL:https://www.mouterehills.org.nz/event/junior-tennis-coaching-3/2026-03-12/
LOCATION:Moutere Hills Community Centre
CATEGORIES:Community Recreation
END:VEVENT
BEGIN:VEVENT
DTSTART;TZID=Pacific/Auckland:20260312T153000
DTEND;TZID=Pacific/Auckland:20260312T183000
DTSTAMP:20260425T092918
CREATED:20260104T223015Z
LAST-MODIFIED:20260406T211925Z
UID:10033765-1773329400-1773340200@www.mouterehills.org.nz
SUMMARY:Aerial Silks - Thursday
DESCRIPTION:Tasman Aerial Silks   \nIlka 022 085 5970                                    
URL:https://www.mouterehills.org.nz/event/aerial-silks-thursday/2026-03-12/
LOCATION:Sports Hall
CATEGORIES:Community Recreation
END:VEVENT
BEGIN:VEVENT
DTSTART;TZID=Pacific/Auckland:20260314T133000
DTEND;TZID=Pacific/Auckland:20260314T150000
DTSTAMP:20260425T092918
CREATED:20250320T221821Z
LAST-MODIFIED:20250530T032422Z
UID:10029191-1773495000-1773500400@www.mouterehills.org.nz
SUMMARY:Youth/ Adults Social Basketball
DESCRIPTION:Join in a fun session of Basketball. For all ability levels. Only $3.00/session
URL:https://www.mouterehills.org.nz/event/youth-adults-social-basketball-4/2026-03-14/
LOCATION:Moutere Hills Community Centre
CATEGORIES:Community Recreation
END:VEVENT
BEGIN:VEVENT
DTSTART;TZID=Pacific/Auckland:20260315T093000
DTEND;TZID=Pacific/Auckland:20260315T110000
DTSTAMP:20260425T092918
CREATED:20240729T034031Z
LAST-MODIFIED:20240729T034237Z
UID:10019150-1773567000-1773572400@www.mouterehills.org.nz
SUMMARY:Club Tennis Session
DESCRIPTION:Run by Upper Moutere Tennis Club. \nAll welcome.
URL:https://www.mouterehills.org.nz/event/club-tennis-session-2/2026-03-15/
CATEGORIES:Community Recreation
END:VEVENT
END:VCALENDAR