BEGIN:VCALENDAR
VERSION:2.0
PRODID:-//Moutere Hills Community Centre - ECPv6.15.19//NONSGML v1.0//EN
CALSCALE:GREGORIAN
METHOD:PUBLISH
X-ORIGINAL-URL:https://www.mouterehills.org.nz
X-WR-CALDESC:Events for Moutere Hills Community Centre
REFRESH-INTERVAL;VALUE=DURATION:PT1H
X-Robots-Tag:noindex
X-PUBLISHED-TTL:PT1H
BEGIN:VTIMEZONE
TZID:Pacific/Auckland
BEGIN:STANDARD
TZOFFSETFROM:+1300
TZOFFSETTO:+1200
TZNAME:NZST
DTSTART:20250405T140000
END:STANDARD
BEGIN:DAYLIGHT
TZOFFSETFROM:+1200
TZOFFSETTO:+1300
TZNAME:NZDT
DTSTART:20250927T140000
END:DAYLIGHT
BEGIN:STANDARD
TZOFFSETFROM:+1300
TZOFFSETTO:+1200
TZNAME:NZST
DTSTART:20260404T140000
END:STANDARD
BEGIN:DAYLIGHT
TZOFFSETFROM:+1200
TZOFFSETTO:+1300
TZNAME:NZDT
DTSTART:20260926T140000
END:DAYLIGHT
BEGIN:STANDARD
TZOFFSETFROM:+1300
TZOFFSETTO:+1200
TZNAME:NZST
DTSTART:20270403T140000
END:STANDARD
BEGIN:DAYLIGHT
TZOFFSETFROM:+1200
TZOFFSETTO:+1300
TZNAME:NZDT
DTSTART:20270925T140000
END:DAYLIGHT
END:VTIMEZONE
BEGIN:VEVENT
DTSTART;TZID=Pacific/Auckland:20260302T143000
DTEND;TZID=Pacific/Auckland:20260302T151500
DTSTAMP:20260425T110147
CREATED:20260104T215944Z
LAST-MODIFIED:20260104T215944Z
UID:10033409-1772461800-1772464500@www.mouterehills.org.nz
SUMMARY:Kids Ballroom/Latin Dance - Monday
DESCRIPTION:
URL:https://www.mouterehills.org.nz/event/kids-ballroom-latin-dance-monday/2026-03-02/
LOCATION:Sports Hall
CATEGORIES:Community Recreation
END:VEVENT
BEGIN:VEVENT
DTSTART;TZID=Pacific/Auckland:20260302T190000
DTEND;TZID=Pacific/Auckland:20260302T201500
DTSTAMP:20260425T110147
CREATED:20260106T212412Z
LAST-MODIFIED:20260106T212412Z
UID:10009485-1772478000-1772482500@www.mouterehills.org.nz
SUMMARY:Yoga with Kris
DESCRIPTION:Contact Kris on 0275252814 for more information or to book your spot.
URL:https://www.mouterehills.org.nz/event/dru-yoga-with-kris-2-3-2-2/2026-03-02/
LOCATION:Moutere Hills Community Centre
CATEGORIES:Community Recreation
END:VEVENT
BEGIN:VEVENT
DTSTART;TZID=Pacific/Auckland:20260303T090000
DTEND;TZID=Pacific/Auckland:20260303T150000
DTSTAMP:20260425T110147
CREATED:20240418T235342Z
LAST-MODIFIED:20240418T235342Z
UID:10010011-1772528400-1772550000@www.mouterehills.org.nz
SUMMARY:Quirky Quilters
DESCRIPTION:Thursdays 10:00am-2:00pm. \nPlease contact the office on 03 5432516 for more details.
URL:https://www.mouterehills.org.nz/event/quirky-quilters-2-2-2/2026-03-03/
CATEGORIES:Community Recreation
END:VEVENT
BEGIN:VEVENT
DTSTART;TZID=Pacific/Auckland:20260303T153000
DTEND;TZID=Pacific/Auckland:20260303T173000
DTSTAMP:20260425T110147
CREATED:20260104T222701Z
LAST-MODIFIED:20260406T211833Z
UID:10033718-1772551800-1772559000@www.mouterehills.org.nz
SUMMARY:Aerial Silks - Tuesday
DESCRIPTION:Contact Ilka for more info\n\n\n\nlka Ph: 022 085 5970                      
URL:https://www.mouterehills.org.nz/event/aerial-silks-tuesday/2026-03-03/
LOCATION:Sports Hall
CATEGORIES:Community Recreation
END:VEVENT
BEGIN:VEVENT
DTSTART;TZID=Pacific/Auckland:20260303T173000
DTEND;TZID=Pacific/Auckland:20260303T200000
DTSTAMP:20260425T110147
CREATED:20260106T221736Z
LAST-MODIFIED:20260106T221736Z
UID:10034126-1772559000-1772568000@www.mouterehills.org.nz
SUMMARY:Ballroom/Latin Dance - Tuesday
DESCRIPTION:
URL:https://www.mouterehills.org.nz/event/ballroom-latin-dance-tuesday/2026-03-03/
LOCATION:Sports Hall
CATEGORIES:Community Recreation
END:VEVENT
BEGIN:VEVENT
DTSTART;TZID=Pacific/Auckland:20260304T100000
DTEND;TZID=Pacific/Auckland:20260304T111500
DTSTAMP:20260425T110147
CREATED:20260106T212720Z
LAST-MODIFIED:20260106T212721Z
UID:10029858-1772618400-1772622900@www.mouterehills.org.nz
SUMMARY:Yoga with Kris
DESCRIPTION:Contact Kris on 0275252814 for more information or to book your spot.
URL:https://www.mouterehills.org.nz/event/yoga-with-kris-3/2026-03-04/
LOCATION:Moutere Hills Community Centre
CATEGORIES:Community Recreation
END:VEVENT
BEGIN:VEVENT
DTSTART;TZID=Pacific/Auckland:20260305T103000
DTEND;TZID=Pacific/Auckland:20260305T120000
DTSTAMP:20260425T110147
CREATED:20260104T215252Z
LAST-MODIFIED:20260104T215252Z
UID:10033263-1772706600-1772712000@www.mouterehills.org.nz
SUMMARY:Ballroom - Homeschool class
DESCRIPTION:
URL:https://www.mouterehills.org.nz/event/ballroom-homeschool-class/2026-03-05/
LOCATION:Moutere Hills Community Centre
CATEGORIES:Community Recreation
END:VEVENT
BEGIN:VEVENT
DTSTART;TZID=Pacific/Auckland:20260305T153000
DTEND;TZID=Pacific/Auckland:20260305T180000
DTSTAMP:20260425T110147
CREATED:20240729T031539Z
LAST-MODIFIED:20240729T031539Z
UID:10017548-1772724600-1772733600@www.mouterehills.org.nz
SUMMARY:Junior Tennis Coaching
DESCRIPTION:All levels welcome 5yrs old + and upwards. \nContact Vanessa on 022 424 3564 or claybrookestate@xtra.co.nz for more info or to book.
URL:https://www.mouterehills.org.nz/event/junior-tennis-coaching-3/2026-03-05/
LOCATION:Moutere Hills Community Centre
CATEGORIES:Community Recreation
END:VEVENT
BEGIN:VEVENT
DTSTART;TZID=Pacific/Auckland:20260305T153000
DTEND;TZID=Pacific/Auckland:20260305T183000
DTSTAMP:20260425T110147
CREATED:20260104T223015Z
LAST-MODIFIED:20260406T211925Z
UID:10033764-1772724600-1772735400@www.mouterehills.org.nz
SUMMARY:Aerial Silks - Thursday
DESCRIPTION:Tasman Aerial Silks   \nIlka 022 085 5970                                    
URL:https://www.mouterehills.org.nz/event/aerial-silks-thursday/2026-03-05/
LOCATION:Sports Hall
CATEGORIES:Community Recreation
END:VEVENT
BEGIN:VEVENT
DTSTART;TZID=Pacific/Auckland:20260307T133000
DTEND;TZID=Pacific/Auckland:20260307T150000
DTSTAMP:20260425T110147
CREATED:20250320T221821Z
LAST-MODIFIED:20250530T032422Z
UID:10029190-1772890200-1772895600@www.mouterehills.org.nz
SUMMARY:Youth/ Adults Social Basketball
DESCRIPTION:Join in a fun session of Basketball. For all ability levels. Only $3.00/session
URL:https://www.mouterehills.org.nz/event/youth-adults-social-basketball-4/2026-03-07/
LOCATION:Moutere Hills Community Centre
CATEGORIES:Community Recreation
END:VEVENT
BEGIN:VEVENT
DTSTART;TZID=Pacific/Auckland:20260308T093000
DTEND;TZID=Pacific/Auckland:20260308T110000
DTSTAMP:20260425T110147
CREATED:20240729T034031Z
LAST-MODIFIED:20240729T034237Z
UID:10019149-1772962200-1772967600@www.mouterehills.org.nz
SUMMARY:Club Tennis Session
DESCRIPTION:Run by Upper Moutere Tennis Club. \nAll welcome.
URL:https://www.mouterehills.org.nz/event/club-tennis-session-2/2026-03-08/
CATEGORIES:Community Recreation
END:VEVENT
BEGIN:VEVENT
DTSTART;TZID=Pacific/Auckland:20260308T180000
DTEND;TZID=Pacific/Auckland:20260308T200000
DTSTAMP:20260425T110147
CREATED:20250721T224103Z
LAST-MODIFIED:20250721T224103Z
UID:10032419-1772992800-1773000000@www.mouterehills.org.nz
SUMMARY:Dance Classes - Ballroom/Latin
DESCRIPTION:Come along to a fun adult beginners Ballroom dance class \nContact Becks on dancingbecks@hotmail.com or cell 021482263
URL:https://www.mouterehills.org.nz/event/dance-classes-ballroom-latin/2026-03-08/
LOCATION:Moutere Hills Community Centre
CATEGORIES:Community Recreation
END:VEVENT
END:VCALENDAR