BEGIN:VCALENDAR
VERSION:2.0
PRODID:-//Moutere Hills Community Centre - ECPv6.15.19//NONSGML v1.0//EN
CALSCALE:GREGORIAN
METHOD:PUBLISH
X-ORIGINAL-URL:https://www.mouterehills.org.nz
X-WR-CALDESC:Events for Moutere Hills Community Centre
REFRESH-INTERVAL;VALUE=DURATION:PT1H
X-Robots-Tag:noindex
X-PUBLISHED-TTL:PT1H
BEGIN:VTIMEZONE
TZID:Pacific/Auckland
BEGIN:STANDARD
TZOFFSETFROM:+1300
TZOFFSETTO:+1200
TZNAME:NZST
DTSTART:20250405T140000
END:STANDARD
BEGIN:DAYLIGHT
TZOFFSETFROM:+1200
TZOFFSETTO:+1300
TZNAME:NZDT
DTSTART:20250927T140000
END:DAYLIGHT
BEGIN:STANDARD
TZOFFSETFROM:+1300
TZOFFSETTO:+1200
TZNAME:NZST
DTSTART:20260404T140000
END:STANDARD
BEGIN:DAYLIGHT
TZOFFSETFROM:+1200
TZOFFSETTO:+1300
TZNAME:NZDT
DTSTART:20260926T140000
END:DAYLIGHT
BEGIN:STANDARD
TZOFFSETFROM:+1300
TZOFFSETTO:+1200
TZNAME:NZST
DTSTART:20270403T140000
END:STANDARD
BEGIN:DAYLIGHT
TZOFFSETFROM:+1200
TZOFFSETTO:+1300
TZNAME:NZDT
DTSTART:20270925T140000
END:DAYLIGHT
END:VTIMEZONE
BEGIN:VEVENT
DTSTART;TZID=Pacific/Auckland:20260424T081500
DTEND;TZID=Pacific/Auckland:20260424T090000
DTSTAMP:20260421T235753
CREATED:20260106T223323Z
LAST-MODIFIED:20260416T220611Z
UID:10012607-1777018500-1777021200@www.mouterehills.org.nz
SUMMARY:MetaFit and Core
DESCRIPTION:Join Fiona for some high intensity interval training. This short-and-sweet class will leave your metabolic rate boosted for hours afterwards. All exercises are body-weight and time-based to allow individuals to work to their own pace. Then finish the class with a core and pelvic muscle workout. \n$12 per person or free for Fitness Centre members. Concession cards available ($80 for 10 classes). \nBookings are essential. Visit the Fitness Centre calendar page to register.
URL:https://www.mouterehills.org.nz/event/metafit-and-core-with-fiona-2-2-2/2026-04-24/
LOCATION:Moutere Hills Community Centre
CATEGORIES:Exercise Class
END:VEVENT
BEGIN:VEVENT
DTSTART;TZID=Pacific/Auckland:20260424T090000
DTEND;TZID=Pacific/Auckland:20260424T094500
DTSTAMP:20260421T235753
CREATED:20240419T011921Z
LAST-MODIFIED:20250410T014732Z
UID:10012868-1777021200-1777023900@www.mouterehills.org.nz
SUMMARY:Pilates with Kris
DESCRIPTION:Join Kris for this great pilates class.  $12 for casual\, $80 for 10 class concession card or free for fitness centre members.
URL:https://www.mouterehills.org.nz/event/pilates-with-kris/2026-04-24/
LOCATION:Moutere Hills Community Centre
CATEGORIES:Exercise Class
END:VEVENT
BEGIN:VEVENT
DTSTART;TZID=Pacific/Auckland:20260424T100000
DTEND;TZID=Pacific/Auckland:20260424T111500
DTSTAMP:20260421T235753
CREATED:20260318T185130Z
LAST-MODIFIED:20260318T185130Z
UID:10034558-1777024800-1777029300@www.mouterehills.org.nz
SUMMARY:Yoga with Kris
DESCRIPTION:
URL:https://www.mouterehills.org.nz/event/yoga-with-kris-4/2026-04-24/
LOCATION:Function room
CATEGORIES:Exercise Class
END:VEVENT
BEGIN:VEVENT
DTSTART;TZID=Pacific/Auckland:20260424T100000
DTEND;TZID=Pacific/Auckland:20260424T130000
DTSTAMP:20260421T235753
CREATED:20260318T184933Z
LAST-MODIFIED:20260406T211449Z
UID:10034484-1777024800-1777035600@www.mouterehills.org.nz
SUMMARY:Playgroup
DESCRIPTION:Join us for a friendly\, relaxed morning where tamariki can play and explore while caregivers connect over a cuppa \n\n\n Monday & Friday | 10am–1pm\n Moutere Hills Community Centre\n Ages 0–6\nFree entry\n if you’re able\, please bring something small to share for morning kai\n\n\nWe look forward to seeing you there!\n\n\nContact Kaitlin or Anna\, email moutereplaygroup@gmail.com\n\, or follow our Facebook page for updates.
URL:https://www.mouterehills.org.nz/event/playgroup-4/2026-04-24/
LOCATION:Sports Hall
CATEGORIES:Community Recreation
END:VEVENT
BEGIN:VEVENT
DTSTART;TZID=Pacific/Auckland:20260424T151500
DTEND;TZID=Pacific/Auckland:20260424T171500
DTSTAMP:20260421T235753
CREATED:20260318T185446Z
LAST-MODIFIED:20260407T014030Z
UID:10034598-1777043700-1777050900@www.mouterehills.org.nz
SUMMARY:Indoor Bowls
DESCRIPTION:We welcome anyone from 8yrs old and all abilities. \nAll gear provided\, just wear soft flat soled shoes.
URL:https://www.mouterehills.org.nz/event/indoor-bowls-3/2026-04-24/
LOCATION:Sports Hall
CATEGORIES:Exercise Class
END:VEVENT
END:VCALENDAR